| Back to Multiple platform build/check report for BioC 3.19: simplified long |
|
This page was generated on 2024-06-11 14:42 -0400 (Tue, 11 Jun 2024).
| Hostname | OS | Arch (*) | R version | Installed pkgs |
|---|---|---|---|---|
| nebbiolo1 | Linux (Ubuntu 22.04.3 LTS) | x86_64 | 4.4.0 (2024-04-24) -- "Puppy Cup" | 4757 |
| palomino3 | Windows Server 2022 Datacenter | x64 | 4.4.0 (2024-04-24 ucrt) -- "Puppy Cup" | 4491 |
| lconway | macOS 12.7.1 Monterey | x86_64 | 4.4.0 (2024-04-24) -- "Puppy Cup" | 4522 |
| kjohnson3 | macOS 13.6.5 Ventura | arm64 | 4.4.0 (2024-04-24) -- "Puppy Cup" | 4468 |
| Click on any hostname to see more info about the system (e.g. compilers) (*) as reported by 'uname -p', except on Windows and Mac OS X | ||||
| Package 879/2300 | Hostname | OS / Arch | INSTALL | BUILD | CHECK | BUILD BIN | ||||||||
| glmSparseNet 1.22.0 (landing page) André Veríssimo
| nebbiolo1 | Linux (Ubuntu 22.04.3 LTS) / x86_64 | OK | OK | OK | |||||||||
| palomino3 | Windows Server 2022 Datacenter / x64 | OK | OK | OK | OK | |||||||||
| lconway | macOS 12.7.1 Monterey / x86_64 | OK | OK | OK | OK | |||||||||
| kjohnson3 | macOS 13.6.5 Ventura / arm64 | OK | OK | OK | OK | |||||||||
|
To the developers/maintainers of the glmSparseNet package: - Allow up to 24 hours (and sometimes 48 hours) for your latest push to git@git.bioconductor.org:packages/glmSparseNet.git to reflect on this report. See Troubleshooting Build Report for more information. - Use the following Renviron settings to reproduce errors and warnings. - If 'R CMD check' started to fail recently on the Linux builder(s) over a missing dependency, add the missing dependency to 'Suggests:' in your DESCRIPTION file. See Renviron.bioc for more information. |
| Package: glmSparseNet |
| Version: 1.22.0 |
| Command: /Library/Frameworks/R.framework/Resources/bin/R CMD check --install=check:glmSparseNet.install-out.txt --library=/Library/Frameworks/R.framework/Resources/library --no-vignettes --timings glmSparseNet_1.22.0.tar.gz |
| StartedAt: 2024-06-09 20:41:28 -0400 (Sun, 09 Jun 2024) |
| EndedAt: 2024-06-09 20:43:29 -0400 (Sun, 09 Jun 2024) |
| EllapsedTime: 120.6 seconds |
| RetCode: 0 |
| Status: OK |
| CheckDir: glmSparseNet.Rcheck |
| Warnings: 0 |
##############################################################################
##############################################################################
###
### Running command:
###
### /Library/Frameworks/R.framework/Resources/bin/R CMD check --install=check:glmSparseNet.install-out.txt --library=/Library/Frameworks/R.framework/Resources/library --no-vignettes --timings glmSparseNet_1.22.0.tar.gz
###
##############################################################################
##############################################################################
* using log directory ‘/Users/biocbuild/bbs-3.19-bioc/meat/glmSparseNet.Rcheck’
* using R version 4.4.0 (2024-04-24)
* using platform: x86_64-apple-darwin20
* R was compiled by
Apple clang version 14.0.0 (clang-1400.0.29.202)
GNU Fortran (GCC) 12.2.0
* running under: macOS Monterey 12.7.1
* using session charset: UTF-8
* using option ‘--no-vignettes’
* checking for file ‘glmSparseNet/DESCRIPTION’ ... OK
* checking extension type ... Package
* this is package ‘glmSparseNet’ version ‘1.22.0’
* package encoding: UTF-8
* checking package namespace information ... OK
* checking package dependencies ... OK
* checking if this is a source package ... OK
* checking if there is a namespace ... OK
* checking for hidden files and directories ... OK
* checking for portable file names ... OK
* checking for sufficient/correct file permissions ... OK
* checking whether package ‘glmSparseNet’ can be installed ... OK
* checking installed package size ... OK
* checking package directory ... OK
* checking ‘build’ directory ... OK
* checking DESCRIPTION meta-information ... OK
* checking top-level files ... OK
* checking for left-over files ... OK
* checking index information ... OK
* checking package subdirectories ... OK
* checking code files for non-ASCII characters ... OK
* checking R files for syntax errors ... OK
* checking whether the package can be loaded ... OK
* checking whether the package can be loaded with stated dependencies ... OK
* checking whether the package can be unloaded cleanly ... OK
* checking whether the namespace can be loaded with stated dependencies ... OK
* checking whether the namespace can be unloaded cleanly ... OK
* checking whether startup messages can be suppressed ... OK
* checking dependencies in R code ... OK
* checking S3 generic/method consistency ... OK
* checking replacement functions ... OK
* checking foreign function calls ... OK
* checking R code for possible problems ... OK
* checking Rd files ... OK
* checking Rd metadata ... OK
* checking Rd cross-references ... OK
* checking for missing documentation entries ... OK
* checking for code/documentation mismatches ... OK
* checking Rd \usage sections ... OK
* checking Rd contents ... OK
* checking for unstated dependencies in examples ... OK
* checking contents of ‘data’ directory ... OK
* checking data for non-ASCII characters ... OK
* checking data for ASCII and uncompressed saves ... OK
* checking files in ‘vignettes’ ... OK
* checking examples ... OK
Examples with CPU (user + system) or elapsed time > 5s
user system elapsed
cv.glmSparseNet 14.040 0.573 14.654
dot-biomartLoad 3.188 0.277 6.098
* checking for unstated dependencies in ‘tests’ ... OK
* checking tests ...
Running ‘testthat.R’
OK
* checking for unstated dependencies in vignettes ... OK
* checking package vignettes ... OK
* checking running R code from vignettes ... SKIPPED
* checking re-building of vignette outputs ... SKIPPED
* checking PDF version of manual ... OK
* DONE
Status: OK
glmSparseNet.Rcheck/00install.out
############################################################################## ############################################################################## ### ### Running command: ### ### /Library/Frameworks/R.framework/Resources/bin/R CMD INSTALL glmSparseNet ### ############################################################################## ############################################################################## * installing to library ‘/Library/Frameworks/R.framework/Versions/4.4-x86_64/Resources/library’ * installing *source* package ‘glmSparseNet’ ... ** using staged installation ** R ** data ** inst ** byte-compile and prepare package for lazy loading ** help *** installing help indices *** copying figures ** building package indices ** installing vignettes ** testing if installed package can be loaded from temporary location ** testing if installed package can be loaded from final location ** testing if installed package keeps a record of temporary installation path * DONE (glmSparseNet)
glmSparseNet.Rcheck/tests/testthat.Rout
R version 4.4.0 (2024-04-24) -- "Puppy Cup"
Copyright (C) 2024 The R Foundation for Statistical Computing
Platform: x86_64-apple-darwin20
R is free software and comes with ABSOLUTELY NO WARRANTY.
You are welcome to redistribute it under certain conditions.
Type 'license()' or 'licence()' for distribution details.
R is a collaborative project with many contributors.
Type 'contributors()' for more information and
'citation()' on how to cite R or R packages in publications.
Type 'demo()' for some demos, 'help()' for on-line help, or
'help.start()' for an HTML browser interface to help.
Type 'q()' to quit R.
> library(testthat)
> library(glmSparseNet)
>
> test_check("glmSparseNet")
[ FAIL 0 | WARN 0 | SKIP 2 | PASS 215 ]
══ Skipped tests (2) ═══════════════════════════════════════════════════════════
• empty test (2): 'test-cache.R:38:1', 'test-cache.R:62:1'
[ FAIL 0 | WARN 0 | SKIP 2 | PASS 215 ]
>
> proc.time()
user system elapsed
31.613 6.589 35.682
glmSparseNet.Rcheck/glmSparseNet-Ex.timings
| name | user | system | elapsed | |
| balancedCvFolds | 0.007 | 0.003 | 0.010 | |
| buildLambda | 0.002 | 0.003 | 0.004 | |
| buildStringNetwork | 0 | 0 | 0 | |
| cv.glmSparseNet | 14.040 | 0.573 | 14.654 | |
| degreeCor | 0.013 | 0.004 | 0.018 | |
| degreeCov | 0.004 | 0.001 | 0.005 | |
| dot-baseDir | 0.001 | 0.000 | 0.000 | |
| dot-biomartLoad | 3.188 | 0.277 | 6.098 | |
| dot-buildFunctionDigest | 0.001 | 0.000 | 0.001 | |
| dot-cacheCompression | 0.001 | 0.000 | 0.000 | |
| dot-calcPenalty | 0.218 | 0.031 | 0.249 | |
| dot-calculateResult | 0.001 | 0.001 | 0.002 | |
| dot-createDirectoryForCache | 0.000 | 0.001 | 0.001 | |
| dot-curlWorkaround | 0 | 0 | 0 | |
| dot-digestCache | 0.001 | 0.000 | 0.001 | |
| dot-runCache | 0.005 | 0.004 | 0.009 | |
| dot-saveRunCache | 0.000 | 0.000 | 0.001 | |
| dot-showMessage | 0 | 0 | 0 | |
| dot-writeReadme | 0.001 | 0.000 | 0.000 | |
| downloadFileLocal | 0.026 | 0.022 | 0.228 | |
| ensemblGeneNames | 2.976 | 0.162 | 4.407 | |
| geneNames | 1.382 | 0.108 | 1.498 | |
| glmSparseNet | 1.830 | 0.060 | 1.893 | |
| heuristicScale | 0 | 0 | 0 | |
| hubHeuristic | 0.000 | 0.000 | 0.001 | |
| myColors | 0.000 | 0.001 | 0.001 | |
| mySymbols | 0 | 0 | 0 | |
| networkCorParallel | 0.025 | 0.006 | 0.031 | |
| networkCovParallel | 0.006 | 0.001 | 0.007 | |
| networkOptions | 0.001 | 0.000 | 0.001 | |
| orphanHeuristic | 0.000 | 0.001 | 0.000 | |
| protein2EnsemblGeneNames | 1.972 | 0.101 | 2.082 | |
| separate2GroupsCox | 2.508 | 0.142 | 2.659 | |
| stringDBhomoSapiens | 0 | 0 | 0 | |