| Back to Build/check report for BioC 3.19 experimental data |
|
This page was generated on 2024-10-17 14:51 -0400 (Thu, 17 Oct 2024).
| Hostname | OS | Arch (*) | R version | Installed pkgs |
|---|---|---|---|---|
| nebbiolo1 | Linux (Ubuntu 22.04.3 LTS) | x86_64 | 4.4.1 (2024-06-14) -- "Race for Your Life" | 4763 |
| Click on any hostname to see more info about the system (e.g. compilers) (*) as reported by 'uname -p', except on Windows and Mac OS X | ||||
| Package 107/430 | Hostname | OS / Arch | INSTALL | BUILD | CHECK | ||||||||
| dyebiasexamples 1.44.0 (landing page) Philip Lijnzaad
| nebbiolo1 | Linux (Ubuntu 22.04.3 LTS) / x86_64 | OK | OK | WARNINGS | ||||||||
|
To the developers/maintainers of the dyebiasexamples package: - Use the following Renviron settings to reproduce errors and warnings. - If 'R CMD check' started to fail recently on the Linux builder(s) over a missing dependency, add the missing dependency to 'Suggests:' in your DESCRIPTION file. See Renviron.bioc for more information. |
| Package: dyebiasexamples |
| Version: 1.44.0 |
| Command: /home/biocbuild/bbs-3.19-bioc/R/bin/R CMD build --keep-empty-dirs --no-resave-data dyebiasexamples |
| StartedAt: 2024-10-17 10:23:37 -0400 (Thu, 17 Oct 2024) |
| EndedAt: 2024-10-17 10:23:44 -0400 (Thu, 17 Oct 2024) |
| EllapsedTime: 7.3 seconds |
| RetCode: 0 |
| Status: OK |
| PackageFile: dyebiasexamples_1.44.0.tar.gz |
| PackageFileSize: 15.2 MiB |
############################################################################## ############################################################################## ### ### Running command: ### ### /home/biocbuild/bbs-3.19-bioc/R/bin/R CMD build --keep-empty-dirs --no-resave-data dyebiasexamples ### ############################################################################## ############################################################################## * checking for file ‘dyebiasexamples/DESCRIPTION’ ... OK * preparing ‘dyebiasexamples’: * checking DESCRIPTION meta-information ... OK * checking for LF line-endings in source and make files and shell scripts * checking for empty or unneeded directories * looking to see if a ‘data/datalist’ file should be added * building ‘dyebiasexamples_1.44.0.tar.gz’