Back to Multiple platform build/check report for BioC 3.20:   simplified   long
ABC[D]EFGHIJKLMNOPQRSTUVWXYZ

This page was generated on 2025-04-02 19:31 -0400 (Wed, 02 Apr 2025).

HostnameOSArch (*)R versionInstalled pkgs
nebbiolo2Linux (Ubuntu 24.04.1 LTS)x86_644.4.3 (2025-02-28) -- "Trophy Case" 4764
palomino8Windows Server 2022 Datacenterx644.4.3 (2025-02-28 ucrt) -- "Trophy Case" 4495
merida1macOS 12.7.5 Montereyx86_644.4.3 (2025-02-28) -- "Trophy Case" 4522
kjohnson1macOS 13.6.6 Venturaarm644.4.3 (2025-02-28) -- "Trophy Case" 4449
taishanLinux (openEuler 24.03 LTS)aarch644.4.3 (2025-02-28) -- "Trophy Case" 4426
Click on any hostname to see more info about the system (e.g. compilers)      (*) as reported by 'uname -p', except on Windows and Mac OS X

Package 516/2289HostnameOS / ArchINSTALLBUILDCHECKBUILD BIN
DECIPHER 3.2.0  (landing page)
Erik Wright
Snapshot Date: 2025-03-31 13:00 -0400 (Mon, 31 Mar 2025)
git_url: https://git.bioconductor.org/packages/DECIPHER
git_branch: RELEASE_3_20
git_last_commit: 7d5caa2
git_last_commit_date: 2024-10-29 09:38:53 -0400 (Tue, 29 Oct 2024)
nebbiolo2Linux (Ubuntu 24.04.1 LTS) / x86_64  OK    OK    OK  UNNEEDED, same version is already published
palomino8Windows Server 2022 Datacenter / x64  OK    OK    OK    OK  UNNEEDED, same version is already published
merida1macOS 12.7.5 Monterey / x86_64  OK    OK    OK    OK  UNNEEDED, same version is already published
kjohnson1macOS 13.6.6 Ventura / arm64  OK    OK    OK    OK  UNNEEDED, same version is already published
taishanLinux (openEuler 24.03 LTS) / aarch64  OK    OK    OK  


CHECK results for DECIPHER on merida1

To the developers/maintainers of the DECIPHER package:
- Allow up to 24 hours (and sometimes 48 hours) for your latest push to git@git.bioconductor.org:packages/DECIPHER.git to reflect on this report. See Troubleshooting Build Report for more information.
- Use the following Renviron settings to reproduce errors and warnings.
- If 'R CMD check' started to fail recently on the Linux builder(s) over a missing dependency, add the missing dependency to 'Suggests:' in your DESCRIPTION file. See Renviron.bioc for more information.

raw results


Summary

Package: DECIPHER
Version: 3.2.0
Command: /Library/Frameworks/R.framework/Resources/bin/R CMD check --install=check:DECIPHER.install-out.txt --library=/Library/Frameworks/R.framework/Resources/library --no-vignettes --timings DECIPHER_3.2.0.tar.gz
StartedAt: 2025-04-01 01:44:14 -0400 (Tue, 01 Apr 2025)
EndedAt: 2025-04-01 02:20:55 -0400 (Tue, 01 Apr 2025)
EllapsedTime: 2201.0 seconds
RetCode: 0
Status:   OK  
CheckDir: DECIPHER.Rcheck
Warnings: 0

Command output

##############################################################################
##############################################################################
###
### Running command:
###
###   /Library/Frameworks/R.framework/Resources/bin/R CMD check --install=check:DECIPHER.install-out.txt --library=/Library/Frameworks/R.framework/Resources/library --no-vignettes --timings DECIPHER_3.2.0.tar.gz
###
##############################################################################
##############################################################################


* using log directory ‘/Users/biocbuild/bbs-3.20-bioc/meat/DECIPHER.Rcheck’
* using R version 4.4.3 (2025-02-28)
* using platform: x86_64-apple-darwin20
* R was compiled by
    Apple clang version 14.0.0 (clang-1400.0.29.202)
    GNU Fortran (GCC) 12.2.0
* running under: macOS Monterey 12.7.6
* using session charset: UTF-8
* using option ‘--no-vignettes’
* checking for file ‘DECIPHER/DESCRIPTION’ ... OK
* checking extension type ... Package
* this is package ‘DECIPHER’ version ‘3.2.0’
* checking package namespace information ... OK
* checking package dependencies ... OK
* checking if this is a source package ... OK
* checking if there is a namespace ... OK
* checking for hidden files and directories ... OK
* checking for portable file names ... OK
* checking for sufficient/correct file permissions ... OK
* checking whether package ‘DECIPHER’ can be installed ... OK
* used C compiler: ‘Apple clang version 14.0.0 (clang-1400.0.29.202)’
* used SDK: ‘MacOSX11.3.sdk’
* checking installed package size ... NOTE
  installed size is 12.5Mb
  sub-directories of 1Mb or more:
    R         1.4Mb
    data      7.5Mb
    extdata   2.5Mb
* checking package directory ... OK
* checking ‘build’ directory ... OK
* checking DESCRIPTION meta-information ... OK
* checking top-level files ... OK
* checking for left-over files ... OK
* checking index information ... OK
* checking package subdirectories ... OK
* checking code files for non-ASCII characters ... OK
* checking R files for syntax errors ... OK
* checking whether the package can be loaded ... OK
* checking whether the package can be loaded with stated dependencies ... OK
* checking whether the package can be unloaded cleanly ... OK
* checking whether the namespace can be loaded with stated dependencies ... OK
* checking whether the namespace can be unloaded cleanly ... OK
* checking dependencies in R code ... OK
* checking S3 generic/method consistency ... OK
* checking replacement functions ... OK
* checking foreign function calls ... OK
* checking R code for possible problems ... NOTE
AlignSeqs: no visible binding for global variable ‘deltaGrulesRNA’
DesignSignatures: no visible binding for global variable ‘deltaHrules’
FindGenes: no visible binding for global variable ‘deltaHrulesRNA’
FindNonCoding: no visible binding for global variable ‘deltaHrulesRNA’
LearnNonCoding: no visible binding for global variable ‘deltaHrulesRNA’
PredictDBN: no visible binding for global variable ‘deltaGrulesRNA’
Treeline: multiple local function definitions for ‘.NNI’ with different
  formal arguments
Treeline: multiple local function definitions for ‘.minimize’ with
  different formal arguments
Undefined global functions or variables:
  deltaGrulesRNA deltaHrules deltaHrulesRNA
* checking Rd files ... OK
* checking Rd metadata ... OK
* checking Rd cross-references ... OK
* checking for missing documentation entries ... OK
* checking for code/documentation mismatches ... OK
* checking Rd \usage sections ... OK
* checking Rd contents ... OK
* checking for unstated dependencies in examples ... OK
* checking contents of ‘data’ directory ... OK
* checking data for non-ASCII characters ... OK
* checking data for ASCII and uncompressed saves ... OK
* checking line endings in C/C++/Fortran sources/headers ... OK
* checking line endings in Makefiles ... OK
* checking compilation flags in Makevars ... OK
* checking for GNU extensions in Makefiles ... OK
* checking for portable use of $(BLAS_LIBS) and $(LAPACK_LIBS) ... OK
* checking use of PKG_*FLAGS in Makefiles ... OK
* checking compiled code ... NOTE
Note: information on .o files is not available
* checking sizes of PDF files under ‘inst/doc’ ... OK
* checking files in ‘vignettes’ ... OK
* checking examples ... OK
Examples with CPU (user + system) or elapsed time > 5s
                      user system elapsed
AlignSeqs          476.675  6.448 548.103
TreeLine           210.060  4.158 233.875
LearnNonCoding     170.480  5.585 187.104
FindNonCoding       88.098  5.394  98.602
Genes-class         73.946  1.903  79.535
FindGenes           73.628  1.513  82.588
ExtractGenes        73.563  1.469  88.172
WriteGenes          70.379  1.891  86.500
BrowseSeqs          57.431  0.961  72.845
CorrectFrameshifts  36.700  1.692  49.701
DetectRepeats       28.536  0.223  41.839
StaggerAlignment    26.804  1.088  29.641
AlignTranslation    25.532  0.320  30.917
Taxa-class          16.353  0.740  18.022
MapCharacters       15.737  0.601  17.065
IdTaxa              15.390  0.524  17.719
Cophenetic          13.468  0.133  17.572
LearnTaxa            9.872  2.067  13.061
Clusterize          11.184  0.611  14.654
ScoreAlignment      11.021  0.289  12.143
Array2Matrix         9.531  0.074  11.333
DesignArray          9.267  0.054  12.446
TileSeqs             9.088  0.049   9.681
AlignPairs           6.368  0.186   7.138
AlignSynteny         6.195  0.064   7.526
TrainingSet_16S      5.146  0.047   5.620
* checking for unstated dependencies in vignettes ... OK
* checking package vignettes ... OK
* checking running R code from vignettes ... SKIPPED
* checking re-building of vignette outputs ... SKIPPED
* checking PDF version of manual ... OK
* DONE

Status: 3 NOTEs
See
  ‘/Users/biocbuild/bbs-3.20-bioc/meat/DECIPHER.Rcheck/00check.log’
for details.


Installation output

DECIPHER.Rcheck/00install.out

##############################################################################
##############################################################################
###
### Running command:
###
###   /Library/Frameworks/R.framework/Resources/bin/R CMD INSTALL DECIPHER
###
##############################################################################
##############################################################################


* installing to library ‘/Library/Frameworks/R.framework/Versions/4.4-x86_64/Resources/library’
* installing *source* package ‘DECIPHER’ ...
** using staged installation
** libs
using C compiler: ‘Apple clang version 14.0.0 (clang-1400.0.29.202)’
using SDK: ‘MacOSX11.3.sdk’
clang -arch x86_64 -I"/Library/Frameworks/R.framework/Resources/include" -DNDEBUG  -I'/Library/Frameworks/R.framework/Versions/4.4-x86_64/Resources/library/Biostrings/include' -I'/Library/Frameworks/R.framework/Versions/4.4-x86_64/Resources/library/S4Vectors/include' -I'/Library/Frameworks/R.framework/Versions/4.4-x86_64/Resources/library/IRanges/include' -I'/Library/Frameworks/R.framework/Versions/4.4-x86_64/Resources/library/XVector/include' -I/opt/R/x86_64/include    -fPIC  -falign-functions=64 -Wall -g -O2  -c AlignProfiles.c -o AlignProfiles.o
clang -arch x86_64 -I"/Library/Frameworks/R.framework/Resources/include" -DNDEBUG  -I'/Library/Frameworks/R.framework/Versions/4.4-x86_64/Resources/library/Biostrings/include' -I'/Library/Frameworks/R.framework/Versions/4.4-x86_64/Resources/library/S4Vectors/include' -I'/Library/Frameworks/R.framework/Versions/4.4-x86_64/Resources/library/IRanges/include' -I'/Library/Frameworks/R.framework/Versions/4.4-x86_64/Resources/library/XVector/include' -I/opt/R/x86_64/include    -fPIC  -falign-functions=64 -Wall -g -O2  -c AssignIndels.c -o AssignIndels.o
clang -arch x86_64 -I"/Library/Frameworks/R.framework/Resources/include" -DNDEBUG  -I'/Library/Frameworks/R.framework/Versions/4.4-x86_64/Resources/library/Biostrings/include' -I'/Library/Frameworks/R.framework/Versions/4.4-x86_64/Resources/library/S4Vectors/include' -I'/Library/Frameworks/R.framework/Versions/4.4-x86_64/Resources/library/IRanges/include' -I'/Library/Frameworks/R.framework/Versions/4.4-x86_64/Resources/library/XVector/include' -I/opt/R/x86_64/include    -fPIC  -falign-functions=64 -Wall -g -O2  -c Biostrings_stubs.c -o Biostrings_stubs.o
clang -arch x86_64 -I"/Library/Frameworks/R.framework/Resources/include" -DNDEBUG  -I'/Library/Frameworks/R.framework/Versions/4.4-x86_64/Resources/library/Biostrings/include' -I'/Library/Frameworks/R.framework/Versions/4.4-x86_64/Resources/library/S4Vectors/include' -I'/Library/Frameworks/R.framework/Versions/4.4-x86_64/Resources/library/IRanges/include' -I'/Library/Frameworks/R.framework/Versions/4.4-x86_64/Resources/library/XVector/include' -I/opt/R/x86_64/include    -fPIC  -falign-functions=64 -Wall -g -O2  -c CalculateDeltaG.c -o CalculateDeltaG.o
clang -arch x86_64 -I"/Library/Frameworks/R.framework/Resources/include" -DNDEBUG  -I'/Library/Frameworks/R.framework/Versions/4.4-x86_64/Resources/library/Biostrings/include' -I'/Library/Frameworks/R.framework/Versions/4.4-x86_64/Resources/library/S4Vectors/include' -I'/Library/Frameworks/R.framework/Versions/4.4-x86_64/Resources/library/IRanges/include' -I'/Library/Frameworks/R.framework/Versions/4.4-x86_64/Resources/library/XVector/include' -I/opt/R/x86_64/include    -fPIC  -falign-functions=64 -Wall -g -O2  -c CalculateFISH.c -o CalculateFISH.o
CalculateFISH.c:26:3: warning: suggest braces around initialization of subobject [-Wmissing-braces]
                -11.5, -7.8, -7, -8.3,
                ^~~~~~~~~~~~~~~~~~~~~
                {                    }
CalculateFISH.c:27:3: warning: suggest braces around initialization of subobject [-Wmissing-braces]
                -10.4, -12.8, -16.3, -9.1,
                ^~~~~~~~~~~~~~~~~~~~~~~~~
                {                        }
CalculateFISH.c:28:3: warning: suggest braces around initialization of subobject [-Wmissing-braces]
                -8.6, -8, -9.3, -5.9,
                ^~~~~~~~~~~~~~~~~~~~
                {                   }
CalculateFISH.c:29:3: warning: suggest braces around initialization of subobject [-Wmissing-braces]
                -7.8, -5.5, -9, -7.8
                ^~~~~~~~~~~~~~~~~~~~
                {                   }
CalculateFISH.c:32:3: warning: suggest braces around initialization of subobject [-Wmissing-braces]
                -36.4, -21.6, -19.7, -23.9,
                ^~~~~~~~~~~~~~~~~~~~~~~~~~
                {                         }
CalculateFISH.c:33:3: warning: suggest braces around initialization of subobject [-Wmissing-braces]
                -28.4, -31.9, -47.1, -23.5,
                ^~~~~~~~~~~~~~~~~~~~~~~~~~
                {                         }
CalculateFISH.c:34:3: warning: suggest braces around initialization of subobject [-Wmissing-braces]
                -22.9, -17.1, -23.2, -12.3,
                ^~~~~~~~~~~~~~~~~~~~~~~~~~
                {                         }
CalculateFISH.c:35:3: warning: suggest braces around initialization of subobject [-Wmissing-braces]
                -23.2, -13.5, -26.1, -21.9
                ^~~~~~~~~~~~~~~~~~~~~~~~~~
                {                         }
CalculateFISH.c:38:3: warning: suggest braces around initialization of subobject [-Wmissing-braces]
                -7.9, -8.4, -7.8, -7.2,
                ^~~~~~~~~~~~~~~~~~~~~~
                {                     }
CalculateFISH.c:39:3: warning: suggest braces around initialization of subobject [-Wmissing-braces]
                -8.5, -8, -10.6, -7.8,
                ^~~~~~~~~~~~~~~~~~~~~
                {                    }
CalculateFISH.c:40:3: warning: suggest braces around initialization of subobject [-Wmissing-braces]
                -8.2, -9.8, -8, -8.4,
                ^~~~~~~~~~~~~~~~~~~~
                {                   }
CalculateFISH.c:41:3: warning: suggest braces around initialization of subobject [-Wmissing-braces]
                -7.2, -8.2, -8.5, -7.9
                ^~~~~~~~~~~~~~~~~~~~~~
                {                     }
CalculateFISH.c:44:3: warning: suggest braces around initialization of subobject [-Wmissing-braces]
                -22.2, -22.4, -21, -20.4,
                ^~~~~~~~~~~~~~~~~~~~~~~~
                {                       }
CalculateFISH.c:45:3: warning: suggest braces around initialization of subobject [-Wmissing-braces]
                -22.7, -19.9, -27.2, -21,
                ^~~~~~~~~~~~~~~~~~~~~~~~
                {                       }
CalculateFISH.c:46:3: warning: suggest braces around initialization of subobject [-Wmissing-braces]
                -22.2, -24.4, -19.9, -22.4,
                ^~~~~~~~~~~~~~~~~~~~~~~~~~
                {                         }
CalculateFISH.c:47:3: warning: suggest braces around initialization of subobject [-Wmissing-braces]
                -21.3, -22.2, -22.7, -22.2
                ^~~~~~~~~~~~~~~~~~~~~~~~~~
                {                         }
CalculateFISH.c:50:3: warning: suggest braces around initialization of subobject [-Wmissing-braces]
                -6.6, -10.17, -7.65, -5.76,
                ^~~~~~~~~~~~~~~~~~~~~~~~~~
                {                         }
CalculateFISH.c:51:3: warning: suggest braces around initialization of subobject [-Wmissing-braces]
                -10.56, -12.21, -7.95, -7.65,
                ^~~~~~~~~~~~~~~~~~~~~~~~~~~~
                {                           }
CalculateFISH.c:52:3: warning: suggest braces around initialization of subobject [-Wmissing-braces]
                -13.37, -14.21, -12.21, -10.17,
                ^~~~~~~~~~~~~~~~~~~~~~~~~~~~~~
                {                             }
CalculateFISH.c:53:3: warning: suggest braces around initialization of subobject [-Wmissing-braces]
                -8.11, -13.37, -10.56, -6.6
                ^~~~~~~~~~~~~~~~~~~~~~~~~~~
                {                          }
CalculateFISH.c:56:3: warning: suggest braces around initialization of subobject [-Wmissing-braces]
                -18.38, -26.03, -19.18, -15.67,
                ^~~~~~~~~~~~~~~~~~~~~~~~~~~~~~
                {                             }
CalculateFISH.c:57:3: warning: suggest braces around initialization of subobject [-Wmissing-braces]
                -28.25, -30.02, -19.18, -19.18,
                ^~~~~~~~~~~~~~~~~~~~~~~~~~~~~~
                {                             }
CalculateFISH.c:58:3: warning: suggest braces around initialization of subobject [-Wmissing-braces]
                -35.68, -34.85, -30.02, -26.03,
                ^~~~~~~~~~~~~~~~~~~~~~~~~~~~~~
                {                             }
CalculateFISH.c:59:3: warning: suggest braces around initialization of subobject [-Wmissing-braces]
                -22.59, -35.68, -28.25, -18.38
                ^~~~~~~~~~~~~~~~~~~~~~~~~~~~~~
                {                             }
24 warnings generated.
clang -arch x86_64 -I"/Library/Frameworks/R.framework/Resources/include" -DNDEBUG  -I'/Library/Frameworks/R.framework/Versions/4.4-x86_64/Resources/library/Biostrings/include' -I'/Library/Frameworks/R.framework/Versions/4.4-x86_64/Resources/library/S4Vectors/include' -I'/Library/Frameworks/R.framework/Versions/4.4-x86_64/Resources/library/IRanges/include' -I'/Library/Frameworks/R.framework/Versions/4.4-x86_64/Resources/library/XVector/include' -I/opt/R/x86_64/include    -fPIC  -falign-functions=64 -Wall -g -O2  -c ChainSegments.c -o ChainSegments.o
ChainSegments.c:715:6: warning: unused variable 'nthreads' [-Wunused-variable]
        int nthreads = asInteger(nThreads);
            ^
1 warning generated.
clang -arch x86_64 -I"/Library/Frameworks/R.framework/Resources/include" -DNDEBUG  -I'/Library/Frameworks/R.framework/Versions/4.4-x86_64/Resources/library/Biostrings/include' -I'/Library/Frameworks/R.framework/Versions/4.4-x86_64/Resources/library/S4Vectors/include' -I'/Library/Frameworks/R.framework/Versions/4.4-x86_64/Resources/library/IRanges/include' -I'/Library/Frameworks/R.framework/Versions/4.4-x86_64/Resources/library/XVector/include' -I/opt/R/x86_64/include    -fPIC  -falign-functions=64 -Wall -g -O2  -c Cluster.c -o Cluster.o
clang -arch x86_64 -I"/Library/Frameworks/R.framework/Resources/include" -DNDEBUG  -I'/Library/Frameworks/R.framework/Versions/4.4-x86_64/Resources/library/Biostrings/include' -I'/Library/Frameworks/R.framework/Versions/4.4-x86_64/Resources/library/S4Vectors/include' -I'/Library/Frameworks/R.framework/Versions/4.4-x86_64/Resources/library/IRanges/include' -I'/Library/Frameworks/R.framework/Versions/4.4-x86_64/Resources/library/XVector/include' -I/opt/R/x86_64/include    -fPIC  -falign-functions=64 -Wall -g -O2  -c ClusterME.c -o ClusterME.o
clang -arch x86_64 -I"/Library/Frameworks/R.framework/Resources/include" -DNDEBUG  -I'/Library/Frameworks/R.framework/Versions/4.4-x86_64/Resources/library/Biostrings/include' -I'/Library/Frameworks/R.framework/Versions/4.4-x86_64/Resources/library/S4Vectors/include' -I'/Library/Frameworks/R.framework/Versions/4.4-x86_64/Resources/library/IRanges/include' -I'/Library/Frameworks/R.framework/Versions/4.4-x86_64/Resources/library/XVector/include' -I/opt/R/x86_64/include    -fPIC  -falign-functions=64 -Wall -g -O2  -c ClusterML.c -o ClusterML.o
ClusterML.c:1584:6: warning: unused variable 'nthreads' [-Wunused-variable]
        int nthreads = asInteger(nThreads);
            ^
1 warning generated.
clang -arch x86_64 -I"/Library/Frameworks/R.framework/Resources/include" -DNDEBUG  -I'/Library/Frameworks/R.framework/Versions/4.4-x86_64/Resources/library/Biostrings/include' -I'/Library/Frameworks/R.framework/Versions/4.4-x86_64/Resources/library/S4Vectors/include' -I'/Library/Frameworks/R.framework/Versions/4.4-x86_64/Resources/library/IRanges/include' -I'/Library/Frameworks/R.framework/Versions/4.4-x86_64/Resources/library/XVector/include' -I/opt/R/x86_64/include    -fPIC  -falign-functions=64 -Wall -g -O2  -c ClusterMP.c -o ClusterMP.o
ClusterMP.c:112:6: warning: unused variable 'nthreads' [-Wunused-variable]
        int nthreads = asInteger(nThreads);
            ^
1 warning generated.
clang -arch x86_64 -I"/Library/Frameworks/R.framework/Resources/include" -DNDEBUG  -I'/Library/Frameworks/R.framework/Versions/4.4-x86_64/Resources/library/Biostrings/include' -I'/Library/Frameworks/R.framework/Versions/4.4-x86_64/Resources/library/S4Vectors/include' -I'/Library/Frameworks/R.framework/Versions/4.4-x86_64/Resources/library/IRanges/include' -I'/Library/Frameworks/R.framework/Versions/4.4-x86_64/Resources/library/XVector/include' -I/opt/R/x86_64/include    -fPIC  -falign-functions=64 -Wall -g -O2  -c Compositions.c -o Compositions.o
clang -arch x86_64 -I"/Library/Frameworks/R.framework/Resources/include" -DNDEBUG  -I'/Library/Frameworks/R.framework/Versions/4.4-x86_64/Resources/library/Biostrings/include' -I'/Library/Frameworks/R.framework/Versions/4.4-x86_64/Resources/library/S4Vectors/include' -I'/Library/Frameworks/R.framework/Versions/4.4-x86_64/Resources/library/IRanges/include' -I'/Library/Frameworks/R.framework/Versions/4.4-x86_64/Resources/library/XVector/include' -I/opt/R/x86_64/include    -fPIC  -falign-functions=64 -Wall -g -O2  -c Compression.c -o Compression.o
Compression.c:521:6: warning: unused variable 'nthreads' [-Wunused-variable]
        int nthreads = asInteger(nThreads);
            ^
Compression.c:1408:6: warning: unused variable 'nthreads' [-Wunused-variable]
        int nthreads = asInteger(nThreads);
            ^
Compression.c:1706:6: warning: unused variable 'nthreads' [-Wunused-variable]
        int nthreads = asInteger(nThreads);
            ^
3 warnings generated.
clang -arch x86_64 -I"/Library/Frameworks/R.framework/Resources/include" -DNDEBUG  -I'/Library/Frameworks/R.framework/Versions/4.4-x86_64/Resources/library/Biostrings/include' -I'/Library/Frameworks/R.framework/Versions/4.4-x86_64/Resources/library/S4Vectors/include' -I'/Library/Frameworks/R.framework/Versions/4.4-x86_64/Resources/library/IRanges/include' -I'/Library/Frameworks/R.framework/Versions/4.4-x86_64/Resources/library/XVector/include' -I/opt/R/x86_64/include    -fPIC  -falign-functions=64 -Wall -g -O2  -c ConsensusSequence.c -o ConsensusSequence.o
clang -arch x86_64 -I"/Library/Frameworks/R.framework/Resources/include" -DNDEBUG  -I'/Library/Frameworks/R.framework/Versions/4.4-x86_64/Resources/library/Biostrings/include' -I'/Library/Frameworks/R.framework/Versions/4.4-x86_64/Resources/library/S4Vectors/include' -I'/Library/Frameworks/R.framework/Versions/4.4-x86_64/Resources/library/IRanges/include' -I'/Library/Frameworks/R.framework/Versions/4.4-x86_64/Resources/library/XVector/include' -I/opt/R/x86_64/include    -fPIC  -falign-functions=64 -Wall -g -O2  -c DesignProbes.c -o DesignProbes.o
DesignProbes.c:72:3: warning: suggest braces around initialization of subobject [-Wmissing-braces]
                -0.816507461,-2.5401714,-1.647430026,-1.184658548
                ^~~~~~~~~~~~~~~~~~~~~~~~~~~~~~~~~~~~~~~~~~~~~~~~~
                {                                                }
DesignProbes.c:73:4: warning: suggest braces around initialization of subobject [-Wmissing-braces]
                ,-1.854740485,-2.479102613,-2.826248182,-1.647430026
                 ^~~~~~~~~~~~~~~~~~~~~~~~~~~~~~~~~~~~~~~~~~~~~~~~~~~
                 {                                                  }
DesignProbes.c:74:4: warning: suggest braces around initialization of subobject [-Wmissing-braces]
                ,-2.48761723,-4.694133177,-2.479102613,-2.5401714
                 ^~~~~~~~~~~~~~~~~~~~~~~~~~~~~~~~~~~~~~~~~~~~~~~~
                 {                                               }
DesignProbes.c:75:4: warning: suggest braces around initialization of subobject [-Wmissing-braces]
                ,-0.495794417,-2.48761723,-1.854740485,-0.816507461
                 ^~~~~~~~~~~~~~~~~~~~~~~~~~~~~~~~~~~~~~~~~~~~~~~~~~
                 {                                                 }
DesignProbes.c:79:3: warning: suggest braces around initialization of subobject [-Wmissing-braces]
                -0.141370102,-0.439805276,-0.285236035,-0.205111781
                ^~~~~~~~~~~~~~~~~~~~~~~~~~~~~~~~~~~~~~~~~~~~~~~~~~~
                {                                                  }
DesignProbes.c:80:4: warning: suggest braces around initialization of subobject [-Wmissing-braces]
                ,-0.321129768,-0.429231826,-0.48933661,-0.285236035
                 ^~~~~~~~~~~~~~~~~~~~~~~~~~~~~~~~~~~~~~~~~~~~~~~~~~
                 {                                                 }
DesignProbes.c:81:4: warning: suggest braces around initialization of subobject [-Wmissing-braces]
                ,-0.430706047,-0.812742218,-0.429231826,-0.439805276
                 ^~~~~~~~~~~~~~~~~~~~~~~~~~~~~~~~~~~~~~~~~~~~~~~~~~~
                 {                                                  }
DesignProbes.c:82:4: warning: suggest braces around initialization of subobject [-Wmissing-braces]
                ,-0.085841845,-0.430706047,-0.321129768,-0.141370102
                 ^~~~~~~~~~~~~~~~~~~~~~~~~~~~~~~~~~~~~~~~~~~~~~~~~~~
                 {                                                  }
DesignProbes.c:86:3: warning: suggest braces around initialization of subobject [-Wmissing-braces]
                0,0,0,0
                ^~~~~~~
                {      }
DesignProbes.c:87:4: warning: suggest braces around initialization of subobject [-Wmissing-braces]
                ,1.545032445,1.254355018,1.491691514,1.329138183
                 ^~~~~~~~~~~~~~~~~~~~~~~~~~~~~~~~~~~~~~~~~~~~~~~
                 {                                              }
DesignProbes.c:88:4: warning: suggest braces around initialization of subobject [-Wmissing-braces]
                ,1.150635633,0.582415494,1.075877275,1.187937642
                 ^~~~~~~~~~~~~~~~~~~~~~~~~~~~~~~~~~~~~~~~~~~~~~~
                 {                                              }
DesignProbes.c:89:4: warning: suggest braces around initialization of subobject [-Wmissing-braces]
                ,1.203555051,1.001540513,0.864287715,0.717125848
                 ^~~~~~~~~~~~~~~~~~~~~~~~~~~~~~~~~~~~~~~~~~~~~~~
                 {                                              }
DesignProbes.c:90:4: warning: suggest braces around initialization of subobject [-Wmissing-braces]
                ,0.75,0.65,0.69,0.78
                 ^~~~~~~~~~~~~~~~~~~
                 {                  }
DesignProbes.c:86:3: warning: suggest braces around initialization of subobject [-Wmissing-braces]
                0,0,0,0
                ^~~~~~~
                {
DesignProbes.c:91:4: warning: suggest braces around initialization of subobject [-Wmissing-braces]
                ,0.630005348,0.18553379,0.730763505,0.709272397
                 ^~~~~~~~~~~~~~~~~~~~~~~~~~~~~~~~~~~~~~~~~~~~~~
                 {                                             }
DesignProbes.c:92:4: warning: suggest braces around initialization of subobject [-Wmissing-braces]
                ,0,0,0,0
                 ^~~~~~~
                 {      }
DesignProbes.c:93:4: warning: suggest braces around initialization of subobject [-Wmissing-braces]
                ,0.856582783,-0.143236405,0.716721488,0.603652831
                 ^~~~~~~~~~~~~~~~~~~~~~~~~~~~~~~~~~~~~~~~~~~~~~~~
                 {                                               }
DesignProbes.c:94:4: warning: suggest braces around initialization of subobject [-Wmissing-braces]
                ,0.851622883,0.653168672,0.676545316,1.187937642
                 ^~~~~~~~~~~~~~~~~~~~~~~~~~~~~~~~~~~~~~~~~~~~~~~
                 {                                              }
DesignProbes.c:95:4: warning: suggest braces around initialization of subobject [-Wmissing-braces]
                ,0.75,0.65,0.69,0.78
                 ^~~~~~~~~~~~~~~~~~~
                 {                  }
DesignProbes.c:91:4: warning: suggest braces around initialization of subobject [-Wmissing-braces]
                ,0.630005348,0.18553379,0.730763505,0.709272397
                 ^~~~~~~~~~~~~~~~~~~~~~~~~~~~~~~~~~~~~~~~~~~~~~
                 {
DesignProbes.c:96:4: warning: suggest braces around initialization of subobject [-Wmissing-braces]
                ,1.231861002,0.746214538,1.087821916,0.989140748
                 ^~~~~~~~~~~~~~~~~~~~~~~~~~~~~~~~~~~~~~~~~~~~~~~
                 {                                              }
DesignProbes.c:97:4: warning: suggest braces around initialization of subobject [-Wmissing-braces]
                ,1.822113278,1.270687029,1.336192565,1.364584949
                 ^~~~~~~~~~~~~~~~~~~~~~~~~~~~~~~~~~~~~~~~~~~~~~~
                 {                                              }
DesignProbes.c:98:4: warning: suggest braces around initialization of subobject [-Wmissing-braces]
                ,0,0,0,0
                 ^~~~~~~
                 {      }
DesignProbes.c:99:4: warning: suggest braces around initialization of subobject [-Wmissing-braces]
                ,1.443665704,1.385046493,1.256013166,1.329138183
                 ^~~~~~~~~~~~~~~~~~~~~~~~~~~~~~~~~~~~~~~~~~~~~~~
                 {                                              }
DesignProbes.c:100:4: warning: suggest braces around initialization of subobject [-Wmissing-braces]
                ,0.75,0.65,0.69,0.78
                 ^~~~~~~~~~~~~~~~~~~
                 {                  }
DesignProbes.c:96:4: warning: suggest braces around initialization of subobject [-Wmissing-braces]
                ,1.231861002,0.746214538,1.087821916,0.989140748
                 ^~~~~~~~~~~~~~~~~~~~~~~~~~~~~~~~~~~~~~~~~~~~~~~
                 {
DesignProbes.c:101:4: warning: suggest braces around initialization of subobject [-Wmissing-braces]
                ,1.478009492,0.882097231,1.20450984,1.061002478
                 ^~~~~~~~~~~~~~~~~~~~~~~~~~~~~~~~~~~~~~~~~~~~~~
                 {                                             }
DesignProbes.c:102:4: warning: suggest braces around initialization of subobject [-Wmissing-braces]
                ,1.496720812,0.846496194,0.967868114,0.989140748
                 ^~~~~~~~~~~~~~~~~~~~~~~~~~~~~~~~~~~~~~~~~~~~~~~
                 {                                              }
DesignProbes.c:103:4: warning: suggest braces around initialization of subobject [-Wmissing-braces]
                ,0.766581547,-0.024857805,0.50754303,0.709272397
                 ^~~~~~~~~~~~~~~~~~~~~~~~~~~~~~~~~~~~~~~~~~~~~~~
                 {                                              }
DesignProbes.c:104:4: warning: suggest braces around initialization of subobject [-Wmissing-braces]
                ,0,0,0,0
                 ^~~~~~~
                 {      }
DesignProbes.c:105:4: warning: suggest braces around initialization of subobject [-Wmissing-braces]
                ,0.75,0.65,0.69,0.78
                 ^~~~~~~~~~~~~~~~~~~
                 {                  }
DesignProbes.c:101:4: warning: suggest braces around initialization of subobject [-Wmissing-braces]
                ,1.478009492,0.882097231,1.20450984,1.061002478
                 ^~~~~~~~~~~~~~~~~~~~~~~~~~~~~~~~~~~~~~~~~~~~~~
                 {
DesignProbes.c:106:4: warning: suggest braces around initialization of subobject [-Wmissing-braces]
                ,0.75,0.65,0.69,0.78
                 ^~~~~~~~~~~~~~~~~~~
                 {                  }
DesignProbes.c:107:4: warning: suggest braces around initialization of subobject [-Wmissing-braces]
                ,0.75,0.65,0.69,0.78
                 ^~~~~~~~~~~~~~~~~~~
                 {                  }
DesignProbes.c:108:4: warning: suggest braces around initialization of subobject [-Wmissing-braces]
                ,0.75,0.65,0.69,0.78
                 ^~~~~~~~~~~~~~~~~~~
                 {                  }
DesignProbes.c:109:4: warning: suggest braces around initialization of subobject [-Wmissing-braces]
                ,0.76,0.65,0.69,0.78
                 ^~~~~~~~~~~~~~~~~~~
                 {                  }
DesignProbes.c:110:4: warning: suggest braces around initialization of subobject [-Wmissing-braces]
                ,0,0,0,0
                 ^~~~~~~
                 {      }
DesignProbes.c:106:4: warning: suggest braces around initialization of subobject [-Wmissing-braces]
                ,0.75,0.65,0.69,0.78
                 ^~~~~~~~~~~~~~~~~~~
                 {
DesignProbes.c:86:3: warning: suggest braces around initialization of subobject [-Wmissing-braces]
                0,0,0,0
                ^~~~~~~
                {
DesignProbes.c:111:4: warning: suggest braces around initialization of subobject [-Wmissing-braces]
                ,0,0,0,0
                 ^~~~~~~
                 {      }
DesignProbes.c:112:4: warning: suggest braces around initialization of subobject [-Wmissing-braces]
                ,1.295827995,0.84547091,0.91019099,1.256013166
                 ^~~~~~~~~~~~~~~~~~~~~~~~~~~~~~~~~~~~~~~~~~~~~
                 {                                            }
DesignProbes.c:113:4: warning: suggest braces around initialization of subobject [-Wmissing-braces]
                ,0.755889609,0.241428373,0.396379912,0.676545316
                 ^~~~~~~~~~~~~~~~~~~~~~~~~~~~~~~~~~~~~~~~~~~~~~~
                 {                                              }
DesignProbes.c:114:4: warning: suggest braces around initialization of subobject [-Wmissing-braces]
                ,0.99945386,0.740323132,0.435659206,0.864287715
                 ^~~~~~~~~~~~~~~~~~~~~~~~~~~~~~~~~~~~~~~~~~~~~~
                 {                                             }
DesignProbes.c:115:4: warning: suggest braces around initialization of subobject [-Wmissing-braces]
                ,0.65,0.55,0.48,0.69
                 ^~~~~~~~~~~~~~~~~~~
                 {                  }
DesignProbes.c:111:4: warning: suggest braces around initialization of subobject [-Wmissing-braces]
                ,0,0,0,0
                 ^~~~~~~
                 {
DesignProbes.c:116:4: warning: suggest braces around initialization of subobject [-Wmissing-braces]
                ,0.843147406,0.101248351,0.49063599,0.50754303
                 ^~~~~~~~~~~~~~~~~~~~~~~~~~~~~~~~~~~~~~~~~~~~~
                 {                                            }
DesignProbes.c:117:4: warning: suggest braces around initialization of subobject [-Wmissing-braces]
                ,0,0,0,0
                 ^~~~~~~
                 {      }
DesignProbes.c:118:4: warning: suggest braces around initialization of subobject [-Wmissing-braces]
                ,1.0651638,0.249934344,0.699352949,0.716721488
                 ^~~~~~~~~~~~~~~~~~~~~~~~~~~~~~~~~~~~~~~~~~~~~
                 {                                            }
DesignProbes.c:119:4: warning: suggest braces around initialization of subobject [-Wmissing-braces]
                ,0.871921533,0.59458138,0.396379912,1.075877275
                 ^~~~~~~~~~~~~~~~~~~~~~~~~~~~~~~~~~~~~~~~~~~~~~
                 {                                             }
DesignProbes.c:120:4: warning: suggest braces around initialization of subobject [-Wmissing-braces]
                ,0.65,0.56,0.49,0.69
                 ^~~~~~~~~~~~~~~~~~~
                 {                  }
DesignProbes.c:116:4: warning: suggest braces around initialization of subobject [-Wmissing-braces]
                ,0.843147406,0.101248351,0.49063599,0.50754303
                 ^~~~~~~~~~~~~~~~~~~~~~~~~~~~~~~~~~~~~~~~~~~~~
                 {
DesignProbes.c:121:4: warning: suggest braces around initialization of subobject [-Wmissing-braces]
                ,1.07531714,0.318907854,0.653287717,0.967868114
                 ^~~~~~~~~~~~~~~~~~~~~~~~~~~~~~~~~~~~~~~~~~~~~~
                 {                                             }
DesignProbes.c:122:4: warning: suggest braces around initialization of subobject [-Wmissing-braces]
                ,1.099899195,0.730184613,0.661798984,1.336192565
                 ^~~~~~~~~~~~~~~~~~~~~~~~~~~~~~~~~~~~~~~~~~~~~~~
                 {                                              }
DesignProbes.c:123:4: warning: suggest braces around initialization of subobject [-Wmissing-braces]
                ,0,0,0,0
                 ^~~~~~~
                 {      }
DesignProbes.c:124:4: warning: suggest braces around initialization of subobject [-Wmissing-braces]
                ,1.45897431,1.318532145,0.91019099,1.491691514
                 ^~~~~~~~~~~~~~~~~~~~~~~~~~~~~~~~~~~~~~~~~~~~~
                 {                                            }
DesignProbes.c:125:4: warning: suggest braces around initialization of subobject [-Wmissing-braces]
                ,0.65,0.56,0.49,0.69
                 ^~~~~~~~~~~~~~~~~~~
                 {                  }
DesignProbes.c:121:4: warning: suggest braces around initialization of subobject [-Wmissing-braces]
                ,1.07531714,0.318907854,0.653287717,0.967868114
                 ^~~~~~~~~~~~~~~~~~~~~~~~~~~~~~~~~~~~~~~~~~~~~~
                 {
DesignProbes.c:126:4: warning: suggest braces around initialization of subobject [-Wmissing-braces]
                ,1.242135174,0.894838095,1.108555445,1.20450984
                 ^~~~~~~~~~~~~~~~~~~~~~~~~~~~~~~~~~~~~~~~~~~~~~
                 {                                             }
DesignProbes.c:127:4: warning: suggest braces around initialization of subobject [-Wmissing-braces]
                ,0.911428974,0.524430101,0.653287717,1.087821916
                 ^~~~~~~~~~~~~~~~~~~~~~~~~~~~~~~~~~~~~~~~~~~~~~~
                 {                                              }
DesignProbes.c:128:4: warning: suggest braces around initialization of subobject [-Wmissing-braces]
                ,0.503209827,0.274849491,0.49063599,0.730763505
                 ^~~~~~~~~~~~~~~~~~~~~~~~~~~~~~~~~~~~~~~~~~~~~~
                 {                                             }
DesignProbes.c:129:4: warning: suggest braces around initialization of subobject [-Wmissing-braces]
                ,0,0,0,0
                 ^~~~~~~
                 {      }
DesignProbes.c:130:4: warning: suggest braces around initialization of subobject [-Wmissing-braces]
                ,0.65,0.55,0.48,0.69
                 ^~~~~~~~~~~~~~~~~~~
                 {                  }
DesignProbes.c:126:4: warning: suggest braces around initialization of subobject [-Wmissing-braces]
                ,1.242135174,0.894838095,1.108555445,1.20450984
                 ^~~~~~~~~~~~~~~~~~~~~~~~~~~~~~~~~~~~~~~~~~~~~~
                 {
DesignProbes.c:131:4: warning: suggest braces around initialization of subobject [-Wmissing-braces]
                ,0.65,0.55,0.48,0.69
                 ^~~~~~~~~~~~~~~~~~~
                 {                  }
DesignProbes.c:132:4: warning: suggest braces around initialization of subobject [-Wmissing-braces]
                ,0.65,0.56,0.49,0.69
                 ^~~~~~~~~~~~~~~~~~~
                 {                  }
DesignProbes.c:133:4: warning: suggest braces around initialization of subobject [-Wmissing-braces]
                ,0.65,0.56,0.49,0.69
                 ^~~~~~~~~~~~~~~~~~~
                 {                  }
DesignProbes.c:134:4: warning: suggest braces around initialization of subobject [-Wmissing-braces]
                ,0.65,0.55,0.48,0.69
                 ^~~~~~~~~~~~~~~~~~~
                 {                  }
DesignProbes.c:135:4: warning: suggest braces around initialization of subobject [-Wmissing-braces]
                ,0,0,0,0
                 ^~~~~~~
                 {      }
DesignProbes.c:131:4: warning: suggest braces around initialization of subobject [-Wmissing-braces]
                ,0.65,0.55,0.48,0.69
                 ^~~~~~~~~~~~~~~~~~~
                 {
DesignProbes.c:111:4: warning: suggest braces around initialization of subobject [-Wmissing-braces]
                ,0,0,0,0
                 ^~~~~~~
                 {
DesignProbes.c:136:4: warning: suggest braces around initialization of subobject [-Wmissing-braces]
                ,0,0,0,0
                 ^~~~~~~
                 {      }
DesignProbes.c:137:4: warning: suggest braces around initialization of subobject [-Wmissing-braces]
                ,1.100661785,0.969784756,1.318532145,1.385046493
                 ^~~~~~~~~~~~~~~~~~~~~~~~~~~~~~~~~~~~~~~~~~~~~~~
                 {                                              }
DesignProbes.c:138:4: warning: suggest braces around initialization of subobject [-Wmissing-braces]
                ,0.565895968,-0.060347902,0.59458138,0.653168672
                 ^~~~~~~~~~~~~~~~~~~~~~~~~~~~~~~~~~~~~~~~~~~~~~~
                 {                                              }
DesignProbes.c:139:4: warning: suggest braces around initialization of subobject [-Wmissing-braces]
                ,0.782168488,0.788161238,0.740323132,1.001540513
                 ^~~~~~~~~~~~~~~~~~~~~~~~~~~~~~~~~~~~~~~~~~~~~~~
                 {                                              }
DesignProbes.c:140:4: warning: suggest braces around initialization of subobject [-Wmissing-braces]
                ,0.68,0.46,0.55,0.65
                 ^~~~~~~~~~~~~~~~~~~
                 {                  }
DesignProbes.c:136:4: warning: suggest braces around initialization of subobject [-Wmissing-braces]
                ,0,0,0,0
                 ^~~~~~~
                 {
DesignProbes.c:141:4: warning: suggest braces around initialization of subobject [-Wmissing-braces]
                ,0.468913405,-0.469855984,0.274849491,-0.024857805
                 ^~~~~~~~~~~~~~~~~~~~~~~~~~~~~~~~~~~~~~~~~~~~~~~~~
                 {                                                }
DesignProbes.c:142:4: warning: suggest braces around initialization of subobject [-Wmissing-braces]
                ,0,0,0,0
                 ^~~~~~~
                 {      }
DesignProbes.c:143:4: warning: suggest braces around initialization of subobject [-Wmissing-braces]
                ,0.258195131,-0.70438632,0.249934344,-0.143236405
                 ^~~~~~~~~~~~~~~~~~~~~~~~~~~~~~~~~~~~~~~~~~~~~~~~
                 {                                               }
DesignProbes.c:144:4: warning: suggest braces around initialization of subobject [-Wmissing-braces]
                ,0.502914193,-0.060347902,0.241428373,0.582415494
                 ^~~~~~~~~~~~~~~~~~~~~~~~~~~~~~~~~~~~~~~~~~~~~~~~
                 {                                               }
DesignProbes.c:145:4: warning: suggest braces around initialization of subobject [-Wmissing-braces]
                ,0.68,0.47,0.56,0.65
                 ^~~~~~~~~~~~~~~~~~~
                 {                  }
DesignProbes.c:141:4: warning: suggest braces around initialization of subobject [-Wmissing-braces]
                ,0.468913405,-0.469855984,0.274849491,-0.024857805
                 ^~~~~~~~~~~~~~~~~~~~~~~~~~~~~~~~~~~~~~~~~~~~~~~~~
                 {
DesignProbes.c:146:4: warning: suggest braces around initialization of subobject [-Wmissing-braces]
                ,0.584083861,0.258975454,0.524430101,0.846496194
                 ^~~~~~~~~~~~~~~~~~~~~~~~~~~~~~~~~~~~~~~~~~~~~~~
                 {                                              }
DesignProbes.c:147:4: warning: suggest braces around initialization of subobject [-Wmissing-braces]
                ,0.968040559,0.797499702,0.730184613,1.270687029
                 ^~~~~~~~~~~~~~~~~~~~~~~~~~~~~~~~~~~~~~~~~~~~~~~
                 {                                              }
DesignProbes.c:148:4: warning: suggest braces around initialization of subobject [-Wmissing-braces]
                ,0,0,0,0
                 ^~~~~~~
                 {      }
DesignProbes.c:149:4: warning: suggest braces around initialization of subobject [-Wmissing-braces]
                ,1.081040749,0.969784756,0.84547091,1.254355018
                 ^~~~~~~~~~~~~~~~~~~~~~~~~~~~~~~~~~~~~~~~~~~~~~
                 {                                             }
DesignProbes.c:150:4: warning: suggest braces around initialization of subobject [-Wmissing-braces]
                ,0.68,0.47,0.56,0.65
                 ^~~~~~~~~~~~~~~~~~~
                 {                  }
DesignProbes.c:146:4: warning: suggest braces around initialization of subobject [-Wmissing-braces]
                ,0.584083861,0.258975454,0.524430101,0.846496194
                 ^~~~~~~~~~~~~~~~~~~~~~~~~~~~~~~~~~~~~~~~~~~~~~~
                 {
DesignProbes.c:151:4: warning: suggest braces around initialization of subobject [-Wmissing-braces]
                ,1.048553951,0.728354541,0.894838095,0.882097231
                 ^~~~~~~~~~~~~~~~~~~~~~~~~~~~~~~~~~~~~~~~~~~~~~~
                 {                                              }
DesignProbes.c:152:4: warning: suggest braces around initialization of subobject [-Wmissing-braces]
                ,0.88611252,0.258975454,0.318907854,0.746214538
                 ^~~~~~~~~~~~~~~~~~~~~~~~~~~~~~~~~~~~~~~~~~~~~~
                 {                                             }
DesignProbes.c:153:4: warning: suggest braces around initialization of subobject [-Wmissing-braces]
                ,0.239520858,-0.469855984,0.101248351,0.18553379
                 ^~~~~~~~~~~~~~~~~~~~~~~~~~~~~~~~~~~~~~~~~~~~~~~
                 {                                              }
DesignProbes.c:154:4: warning: suggest braces around initialization of subobject [-Wmissing-braces]
                ,0,0,0,0
                 ^~~~~~~
                 {      }
DesignProbes.c:155:4: warning: suggest braces around initialization of subobject [-Wmissing-braces]
                ,0.68,0.46,0.55,0.65
                 ^~~~~~~~~~~~~~~~~~~
                 {                  }
DesignProbes.c:151:4: warning: suggest braces around initialization of subobject [-Wmissing-braces]
                ,1.048553951,0.728354541,0.894838095,0.882097231
                 ^~~~~~~~~~~~~~~~~~~~~~~~~~~~~~~~~~~~~~~~~~~~~~~
                 {
DesignProbes.c:156:4: warning: suggest braces around initialization of subobject [-Wmissing-braces]
                ,0.68,0.46,0.55,0.65
                 ^~~~~~~~~~~~~~~~~~~
                 {                  }
DesignProbes.c:157:4: warning: suggest braces around initialization of subobject [-Wmissing-braces]
                ,0.68,0.47,0.56,0.65
                 ^~~~~~~~~~~~~~~~~~~
                 {                  }
DesignProbes.c:158:4: warning: suggest braces around initialization of subobject [-Wmissing-braces]
                ,0.68,0.47,0.56,0.65
                 ^~~~~~~~~~~~~~~~~~~
                 {                  }
DesignProbes.c:159:4: warning: suggest braces around initialization of subobject [-Wmissing-braces]
                ,0.68,0.46,0.55,0.65
                 ^~~~~~~~~~~~~~~~~~~
                 {                  }
DesignProbes.c:160:4: warning: suggest braces around initialization of subobject [-Wmissing-braces]
                ,0,0,0,0
                 ^~~~~~~
                 {      }
DesignProbes.c:156:4: warning: suggest braces around initialization of subobject [-Wmissing-braces]
                ,0.68,0.46,0.55,0.65
                 ^~~~~~~~~~~~~~~~~~~
                 {
DesignProbes.c:136:4: warning: suggest braces around initialization of subobject [-Wmissing-braces]
                ,0,0,0,0
                 ^~~~~~~
                 {
DesignProbes.c:161:4: warning: suggest braces around initialization of subobject [-Wmissing-braces]
                ,0,0,0,0
                 ^~~~~~~
                 {      }
DesignProbes.c:162:4: warning: suggest braces around initialization of subobject [-Wmissing-braces]
                ,1.566899704,1.081040749,1.45897431,1.443665704
                 ^~~~~~~~~~~~~~~~~~~~~~~~~~~~~~~~~~~~~~~~~~~~~~
                 {                                             }
DesignProbes.c:163:4: warning: suggest braces around initialization of subobject [-Wmissing-braces]
                ,0.976725675,0.502914193,0.871921533,0.851622883
                 ^~~~~~~~~~~~~~~~~~~~~~~~~~~~~~~~~~~~~~~~~~~~~~~
                 {                                              }
DesignProbes.c:164:4: warning: suggest braces around initialization of subobject [-Wmissing-braces]
                ,1.482046826,0.782168488,0.99945386,1.203555051
                 ^~~~~~~~~~~~~~~~~~~~~~~~~~~~~~~~~~~~~~~~~~~~~~
                 {                                             }
DesignProbes.c:165:4: warning: suggest braces around initialization of subobject [-Wmissing-braces]
                ,0.85,0.68,0.65,0.76
                 ^~~~~~~~~~~~~~~~~~~
                 {                  }
DesignProbes.c:161:4: warning: suggest braces around initialization of subobject [-Wmissing-braces]
                ,0,0,0,0
                 ^~~~~~~
                 {
DesignProbes.c:166:4: warning: suggest braces around initialization of subobject [-Wmissing-braces]
                ,0.798628781,0.239520858,0.503209827,0.766581547
                 ^~~~~~~~~~~~~~~~~~~~~~~~~~~~~~~~~~~~~~~~~~~~~~~
                 {                                              }
DesignProbes.c:167:4: warning: suggest braces around initialization of subobject [-Wmissing-braces]
                ,0,0,0,0
                 ^~~~~~~
                 {      }
DesignProbes.c:168:4: warning: suggest braces around initialization of subobject [-Wmissing-braces]
                ,1.141098246,0.258195131,1.0651638,0.856582783
                 ^~~~~~~~~~~~~~~~~~~~~~~~~~~~~~~~~~~~~~~~~~~~~
                 {                                            }
DesignProbes.c:169:4: warning: suggest braces around initialization of subobject [-Wmissing-braces]
                ,0.976725675,0.565895968,0.755889609,1.150635633
                 ^~~~~~~~~~~~~~~~~~~~~~~~~~~~~~~~~~~~~~~~~~~~~~~
                 {                                              }
DesignProbes.c:170:4: warning: suggest braces around initialization of subobject [-Wmissing-braces]
                ,0.85,0.68,0.65,0.75
                 ^~~~~~~~~~~~~~~~~~~
                 {                  }
DesignProbes.c:166:4: warning: suggest braces around initialization of subobject [-Wmissing-braces]
                ,0.798628781,0.239520858,0.503209827,0.766581547
                 ^~~~~~~~~~~~~~~~~~~~~~~~~~~~~~~~~~~~~~~~~~~~~~~
                 {
DesignProbes.c:171:4: warning: suggest braces around initialization of subobject [-Wmissing-braces]
                ,1.125403302,0.88611252,0.911428974,1.496720812
                 ^~~~~~~~~~~~~~~~~~~~~~~~~~~~~~~~~~~~~~~~~~~~~~
                 {                                             }
DesignProbes.c:172:4: warning: suggest braces around initialization of subobject [-Wmissing-braces]
                ,1.68169282,0.968040559,1.099899195,1.822113278
                 ^~~~~~~~~~~~~~~~~~~~~~~~~~~~~~~~~~~~~~~~~~~~~~
                 {                                             }
DesignProbes.c:173:4: warning: suggest braces around initialization of subobject [-Wmissing-braces]
                ,0,0,0,0
                 ^~~~~~~
                 {      }
DesignProbes.c:174:4: warning: suggest braces around initialization of subobject [-Wmissing-braces]
                ,1.566899704,1.100661785,1.295827995,1.545032445
                 ^~~~~~~~~~~~~~~~~~~~~~~~~~~~~~~~~~~~~~~~~~~~~~~
                 {                                              }
DesignProbes.c:175:4: warning: suggest braces around initialization of subobject [-Wmissing-braces]
                ,0.85,0.68,0.65,0.75
                 ^~~~~~~~~~~~~~~~~~~
                 {                  }
DesignProbes.c:171:4: warning: suggest braces around initialization of subobject [-Wmissing-braces]
                ,1.125403302,0.88611252,0.911428974,1.496720812
                 ^~~~~~~~~~~~~~~~~~~~~~~~~~~~~~~~~~~~~~~~~~~~~~
                 {
DesignProbes.c:176:4: warning: suggest braces around initialization of subobject [-Wmissing-braces]
                ,1.35948517,1.048553951,1.242135174,1.478009492
                 ^~~~~~~~~~~~~~~~~~~~~~~~~~~~~~~~~~~~~~~~~~~~~~
                 {                                             }
DesignProbes.c:177:4: warning: suggest braces around initialization of subobject [-Wmissing-braces]
                ,1.125403302,0.584083861,1.07531714,1.231861002
                 ^~~~~~~~~~~~~~~~~~~~~~~~~~~~~~~~~~~~~~~~~~~~~~
                 {                                             }
DesignProbes.c:178:4: warning: suggest braces around initialization of subobject [-Wmissing-braces]
                ,0.798628781,0.468913405,0.843147406,0.630005348
                 ^~~~~~~~~~~~~~~~~~~~~~~~~~~~~~~~~~~~~~~~~~~~~~~
                 {                                              }
DesignProbes.c:179:4: warning: suggest braces around initialization of subobject [-Wmissing-braces]
                ,0,0,0,0
                 ^~~~~~~
                 {      }
DesignProbes.c:180:4: warning: suggest braces around initialization of subobject [-Wmissing-braces]
                ,0.85,0.68,0.65,0.75
                 ^~~~~~~~~~~~~~~~~~~
                 {                  }
DesignProbes.c:176:4: warning: suggest braces around initialization of subobject [-Wmissing-braces]
                ,1.35948517,1.048553951,1.242135174,1.478009492
                 ^~~~~~~~~~~~~~~~~~~~~~~~~~~~~~~~~~~~~~~~~~~~~~
                 {
DesignProbes.c:181:4: warning: suggest braces around initialization of subobject [-Wmissing-braces]
                ,0.85,0.68,0.65,0.75
                 ^~~~~~~~~~~~~~~~~~~
                 {                  }
DesignProbes.c:182:4: warning: suggest braces around initialization of subobject [-Wmissing-braces]
                ,0.85,0.68,0.65,0.75
                 ^~~~~~~~~~~~~~~~~~~
                 {                  }
DesignProbes.c:183:4: warning: suggest braces around initialization of subobject [-Wmissing-braces]
                ,0.85,0.68,0.65,0.75
                 ^~~~~~~~~~~~~~~~~~~
                 {                  }
DesignProbes.c:184:4: warning: suggest braces around initialization of subobject [-Wmissing-braces]
                ,0.85,0.68,0.65,0.75
                 ^~~~~~~~~~~~~~~~~~~
                 {                  }
DesignProbes.c:185:4: warning: suggest braces around initialization of subobject [-Wmissing-braces]
                ,0,0,0,0        
                 ^~~~~~~
                 {      }
DesignProbes.c:181:4: warning: suggest braces around initialization of subobject [-Wmissing-braces]
                ,0.85,0.68,0.65,0.75
                 ^~~~~~~~~~~~~~~~~~~
                 {
DesignProbes.c:161:4: warning: suggest braces around initialization of subobject [-Wmissing-braces]
                ,0,0,0,0
                 ^~~~~~~
                 {
DesignProbes.c:59:6: warning: unused variable 'nthreads' [-Wunused-variable]
        int nthreads = asInteger(nThreads);
            ^
133 warnings generated.
clang -arch x86_64 -I"/Library/Frameworks/R.framework/Resources/include" -DNDEBUG  -I'/Library/Frameworks/R.framework/Versions/4.4-x86_64/Resources/library/Biostrings/include' -I'/Library/Frameworks/R.framework/Versions/4.4-x86_64/Resources/library/S4Vectors/include' -I'/Library/Frameworks/R.framework/Versions/4.4-x86_64/Resources/library/IRanges/include' -I'/Library/Frameworks/R.framework/Versions/4.4-x86_64/Resources/library/XVector/include' -I/opt/R/x86_64/include    -fPIC  -falign-functions=64 -Wall -g -O2  -c Diff.c -o Diff.o
clang -arch x86_64 -I"/Library/Frameworks/R.framework/Resources/include" -DNDEBUG  -I'/Library/Frameworks/R.framework/Versions/4.4-x86_64/Resources/library/Biostrings/include' -I'/Library/Frameworks/R.framework/Versions/4.4-x86_64/Resources/library/S4Vectors/include' -I'/Library/Frameworks/R.framework/Versions/4.4-x86_64/Resources/library/IRanges/include' -I'/Library/Frameworks/R.framework/Versions/4.4-x86_64/Resources/library/XVector/include' -I/opt/R/x86_64/include    -fPIC  -falign-functions=64 -Wall -g -O2  -c DistanceMatrix.c -o DistanceMatrix.o
DistanceMatrix.c:320:6: warning: unused variable 'nthreads' [-Wunused-variable]
        int nthreads = asInteger(nThreads);
            ^
DistanceMatrix.c:914:6: warning: unused variable 'nthreads' [-Wunused-variable]
        int nthreads = asInteger(nThreads);
            ^
2 warnings generated.
clang -arch x86_64 -I"/Library/Frameworks/R.framework/Resources/include" -DNDEBUG  -I'/Library/Frameworks/R.framework/Versions/4.4-x86_64/Resources/library/Biostrings/include' -I'/Library/Frameworks/R.framework/Versions/4.4-x86_64/Resources/library/S4Vectors/include' -I'/Library/Frameworks/R.framework/Versions/4.4-x86_64/Resources/library/IRanges/include' -I'/Library/Frameworks/R.framework/Versions/4.4-x86_64/Resources/library/XVector/include' -I/opt/R/x86_64/include    -fPIC  -falign-functions=64 -Wall -g -O2  -c EnumerateSequence.c -o EnumerateSequence.o
EnumerateSequence.c:298:6: warning: unused variable 'nthreads' [-Wunused-variable]
        int nthreads = asInteger(nThreads);
            ^
EnumerateSequence.c:871:6: warning: unused variable 'nthreads' [-Wunused-variable]
        int nthreads = asInteger(nThreads);
            ^
2 warnings generated.
clang -arch x86_64 -I"/Library/Frameworks/R.framework/Resources/include" -DNDEBUG  -I'/Library/Frameworks/R.framework/Versions/4.4-x86_64/Resources/library/Biostrings/include' -I'/Library/Frameworks/R.framework/Versions/4.4-x86_64/Resources/library/S4Vectors/include' -I'/Library/Frameworks/R.framework/Versions/4.4-x86_64/Resources/library/IRanges/include' -I'/Library/Frameworks/R.framework/Versions/4.4-x86_64/Resources/library/XVector/include' -I/opt/R/x86_64/include    -fPIC  -falign-functions=64 -Wall -g -O2  -c ExpandAmbiguities.c -o ExpandAmbiguities.o
clang -arch x86_64 -I"/Library/Frameworks/R.framework/Resources/include" -DNDEBUG  -I'/Library/Frameworks/R.framework/Versions/4.4-x86_64/Resources/library/Biostrings/include' -I'/Library/Frameworks/R.framework/Versions/4.4-x86_64/Resources/library/S4Vectors/include' -I'/Library/Frameworks/R.framework/Versions/4.4-x86_64/Resources/library/IRanges/include' -I'/Library/Frameworks/R.framework/Versions/4.4-x86_64/Resources/library/XVector/include' -I/opt/R/x86_64/include    -fPIC  -falign-functions=64 -Wall -g -O2  -c FindFrameshifts.c -o FindFrameshifts.o
clang -arch x86_64 -I"/Library/Frameworks/R.framework/Resources/include" -DNDEBUG  -I'/Library/Frameworks/R.framework/Versions/4.4-x86_64/Resources/library/Biostrings/include' -I'/Library/Frameworks/R.framework/Versions/4.4-x86_64/Resources/library/S4Vectors/include' -I'/Library/Frameworks/R.framework/Versions/4.4-x86_64/Resources/library/IRanges/include' -I'/Library/Frameworks/R.framework/Versions/4.4-x86_64/Resources/library/XVector/include' -I/opt/R/x86_64/include    -fPIC  -falign-functions=64 -Wall -g -O2  -c GeneFinding.c -o GeneFinding.o
GeneFinding.c:3261:6: warning: unused variable 'nthreads' [-Wunused-variable]
        int nthreads = asInteger(nThreads);
            ^
GeneFinding.c:3338:6: warning: unused variable 'nthreads' [-Wunused-variable]
        int nthreads = asInteger(nThreads);
            ^
GeneFinding.c:3395:6: warning: unused variable 'nthreads' [-Wunused-variable]
        int nthreads = asInteger(nThreads);
            ^
3 warnings generated.
clang -arch x86_64 -I"/Library/Frameworks/R.framework/Resources/include" -DNDEBUG  -I'/Library/Frameworks/R.framework/Versions/4.4-x86_64/Resources/library/Biostrings/include' -I'/Library/Frameworks/R.framework/Versions/4.4-x86_64/Resources/library/S4Vectors/include' -I'/Library/Frameworks/R.framework/Versions/4.4-x86_64/Resources/library/IRanges/include' -I'/Library/Frameworks/R.framework/Versions/4.4-x86_64/Resources/library/XVector/include' -I/opt/R/x86_64/include    -fPIC  -falign-functions=64 -Wall -g -O2  -c GetPools.c -o GetPools.o
clang -arch x86_64 -I"/Library/Frameworks/R.framework/Resources/include" -DNDEBUG  -I'/Library/Frameworks/R.framework/Versions/4.4-x86_64/Resources/library/Biostrings/include' -I'/Library/Frameworks/R.framework/Versions/4.4-x86_64/Resources/library/S4Vectors/include' -I'/Library/Frameworks/R.framework/Versions/4.4-x86_64/Resources/library/IRanges/include' -I'/Library/Frameworks/R.framework/Versions/4.4-x86_64/Resources/library/XVector/include' -I/opt/R/x86_64/include    -fPIC  -falign-functions=64 -Wall -g -O2  -c Import.c -o Import.o
clang -arch x86_64 -I"/Library/Frameworks/R.framework/Resources/include" -DNDEBUG  -I'/Library/Frameworks/R.framework/Versions/4.4-x86_64/Resources/library/Biostrings/include' -I'/Library/Frameworks/R.framework/Versions/4.4-x86_64/Resources/library/S4Vectors/include' -I'/Library/Frameworks/R.framework/Versions/4.4-x86_64/Resources/library/IRanges/include' -I'/Library/Frameworks/R.framework/Versions/4.4-x86_64/Resources/library/XVector/include' -I/opt/R/x86_64/include    -fPIC  -falign-functions=64 -Wall -g -O2  -c InformationContent.c -o InformationContent.o
clang -arch x86_64 -I"/Library/Frameworks/R.framework/Resources/include" -DNDEBUG  -I'/Library/Frameworks/R.framework/Versions/4.4-x86_64/Resources/library/Biostrings/include' -I'/Library/Frameworks/R.framework/Versions/4.4-x86_64/Resources/library/S4Vectors/include' -I'/Library/Frameworks/R.framework/Versions/4.4-x86_64/Resources/library/IRanges/include' -I'/Library/Frameworks/R.framework/Versions/4.4-x86_64/Resources/library/XVector/include' -I/opt/R/x86_64/include    -fPIC  -falign-functions=64 -Wall -g -O2  -c IntDist.c -o IntDist.o
clang -arch x86_64 -I"/Library/Frameworks/R.framework/Resources/include" -DNDEBUG  -I'/Library/Frameworks/R.framework/Versions/4.4-x86_64/Resources/library/Biostrings/include' -I'/Library/Frameworks/R.framework/Versions/4.4-x86_64/Resources/library/S4Vectors/include' -I'/Library/Frameworks/R.framework/Versions/4.4-x86_64/Resources/library/IRanges/include' -I'/Library/Frameworks/R.framework/Versions/4.4-x86_64/Resources/library/XVector/include' -I/opt/R/x86_64/include    -fPIC  -falign-functions=64 -Wall -g -O2  -c ManipulateXStringSet.c -o ManipulateXStringSet.o
ManipulateXStringSet.c:55:6: warning: unused variable 'nthreads' [-Wunused-variable]
        int nthreads = asInteger(nThreads);
            ^
ManipulateXStringSet.c:689:6: warning: unused variable 'nthreads' [-Wunused-variable]
        int nthreads = asInteger(nThreads);
            ^
ManipulateXStringSet.c:818:6: warning: unused variable 'nthreads' [-Wunused-variable]
        int nthreads = asInteger(nThreads);
            ^
3 warnings generated.
clang -arch x86_64 -I"/Library/Frameworks/R.framework/Resources/include" -DNDEBUG  -I'/Library/Frameworks/R.framework/Versions/4.4-x86_64/Resources/library/Biostrings/include' -I'/Library/Frameworks/R.framework/Versions/4.4-x86_64/Resources/library/S4Vectors/include' -I'/Library/Frameworks/R.framework/Versions/4.4-x86_64/Resources/library/IRanges/include' -I'/Library/Frameworks/R.framework/Versions/4.4-x86_64/Resources/library/XVector/include' -I/opt/R/x86_64/include    -fPIC  -falign-functions=64 -Wall -g -O2  -c MeltPolymer.c -o MeltPolymer.o
MeltPolymer.c:80:3: warning: suggest braces around initialization of subobject [-Wmissing-braces]
                -7.9,-8.4,-7.8,-7.2
                ^~~~~~~~~~~~~~~~~~~
                {                  }
MeltPolymer.c:81:4: warning: suggest braces around initialization of subobject [-Wmissing-braces]
                ,-8.5,-8.0,-10.6,-7.8
                 ^~~~~~~~~~~~~~~~~~~~
                 {                   }
MeltPolymer.c:82:4: warning: suggest braces around initialization of subobject [-Wmissing-braces]
                ,-8.2,-9.8,-8.0,-8.4
                 ^~~~~~~~~~~~~~~~~~~
                 {                  }
MeltPolymer.c:83:4: warning: suggest braces around initialization of subobject [-Wmissing-braces]
                ,-7.2,-8.2,-8.5,-7.9
                 ^~~~~~~~~~~~~~~~~~~
                 {                  }
MeltPolymer.c:89:3: warning: suggest braces around initialization of subobject [-Wmissing-braces]
                -22.2,-22.4,-21.0,-20.4
                ^~~~~~~~~~~~~~~~~~~~~~~
                {                      }
MeltPolymer.c:90:4: warning: suggest braces around initialization of subobject [-Wmissing-braces]
                ,-22.7,-19.9,-27.2,-21.0
                 ^~~~~~~~~~~~~~~~~~~~~~~
                 {                      }
MeltPolymer.c:91:4: warning: suggest braces around initialization of subobject [-Wmissing-braces]
                ,-22.2,-24.4,-19.9,-22.4
                 ^~~~~~~~~~~~~~~~~~~~~~~
                 {                      }
MeltPolymer.c:92:4: warning: suggest braces around initialization of subobject [-Wmissing-braces]
                ,-21.3,-22.2,-22.7,-22.2
                 ^~~~~~~~~~~~~~~~~~~~~~~
                 {                      }
8 warnings generated.
clang -arch x86_64 -I"/Library/Frameworks/R.framework/Resources/include" -DNDEBUG  -I'/Library/Frameworks/R.framework/Versions/4.4-x86_64/Resources/library/Biostrings/include' -I'/Library/Frameworks/R.framework/Versions/4.4-x86_64/Resources/library/S4Vectors/include' -I'/Library/Frameworks/R.framework/Versions/4.4-x86_64/Resources/library/IRanges/include' -I'/Library/Frameworks/R.framework/Versions/4.4-x86_64/Resources/library/XVector/include' -I/opt/R/x86_64/include    -fPIC  -falign-functions=64 -Wall -g -O2  -c MovingAverage.c -o MovingAverage.o
clang -arch x86_64 -I"/Library/Frameworks/R.framework/Resources/include" -DNDEBUG  -I'/Library/Frameworks/R.framework/Versions/4.4-x86_64/Resources/library/Biostrings/include' -I'/Library/Frameworks/R.framework/Versions/4.4-x86_64/Resources/library/S4Vectors/include' -I'/Library/Frameworks/R.framework/Versions/4.4-x86_64/Resources/library/IRanges/include' -I'/Library/Frameworks/R.framework/Versions/4.4-x86_64/Resources/library/XVector/include' -I/opt/R/x86_64/include    -fPIC  -falign-functions=64 -Wall -g -O2  -c NNLS.c -o NNLS.o
NNLS.c:50:6: warning: unused variable 'nthreads' [-Wunused-variable]
        int nthreads = asInteger(nThreads);
            ^
1 warning generated.
clang -arch x86_64 -I"/Library/Frameworks/R.framework/Resources/include" -DNDEBUG  -I'/Library/Frameworks/R.framework/Versions/4.4-x86_64/Resources/library/Biostrings/include' -I'/Library/Frameworks/R.framework/Versions/4.4-x86_64/Resources/library/S4Vectors/include' -I'/Library/Frameworks/R.framework/Versions/4.4-x86_64/Resources/library/IRanges/include' -I'/Library/Frameworks/R.framework/Versions/4.4-x86_64/Resources/library/XVector/include' -I/opt/R/x86_64/include    -fPIC  -falign-functions=64 -Wall -g -O2  -c Order.c -o Order.o
clang -arch x86_64 -I"/Library/Frameworks/R.framework/Resources/include" -DNDEBUG  -I'/Library/Frameworks/R.framework/Versions/4.4-x86_64/Resources/library/Biostrings/include' -I'/Library/Frameworks/R.framework/Versions/4.4-x86_64/Resources/library/S4Vectors/include' -I'/Library/Frameworks/R.framework/Versions/4.4-x86_64/Resources/library/IRanges/include' -I'/Library/Frameworks/R.framework/Versions/4.4-x86_64/Resources/library/XVector/include' -I/opt/R/x86_64/include    -fPIC  -falign-functions=64 -Wall -g -O2  -c PairwiseAlignment.c -o PairwiseAlignment.o
PairwiseAlignment.c:188:6: warning: unused variable 'nthreads' [-Wunused-variable]
        int nthreads = asInteger(nThreads);
            ^
PairwiseAlignment.c:1034:6: warning: unused variable 'nthreads' [-Wunused-variable]
        int nthreads = asInteger(nThreads);
            ^
2 warnings generated.
clang -arch x86_64 -I"/Library/Frameworks/R.framework/Resources/include" -DNDEBUG  -I'/Library/Frameworks/R.framework/Versions/4.4-x86_64/Resources/library/Biostrings/include' -I'/Library/Frameworks/R.framework/Versions/4.4-x86_64/Resources/library/S4Vectors/include' -I'/Library/Frameworks/R.framework/Versions/4.4-x86_64/Resources/library/IRanges/include' -I'/Library/Frameworks/R.framework/Versions/4.4-x86_64/Resources/library/XVector/include' -I/opt/R/x86_64/include    -fPIC  -falign-functions=64 -Wall -g -O2  -c PredictDBN.c -o PredictDBN.o
PredictDBN.c:160:6: warning: unused variable 'nthreads' [-Wunused-variable]
        int nthreads = asInteger(nThreads);
            ^
1 warning generated.
clang -arch x86_64 -I"/Library/Frameworks/R.framework/Resources/include" -DNDEBUG  -I'/Library/Frameworks/R.framework/Versions/4.4-x86_64/Resources/library/Biostrings/include' -I'/Library/Frameworks/R.framework/Versions/4.4-x86_64/Resources/library/S4Vectors/include' -I'/Library/Frameworks/R.framework/Versions/4.4-x86_64/Resources/library/IRanges/include' -I'/Library/Frameworks/R.framework/Versions/4.4-x86_64/Resources/library/XVector/include' -I/opt/R/x86_64/include    -fPIC  -falign-functions=64 -Wall -g -O2  -c PredictHEC.c -o PredictHEC.o
clang -arch x86_64 -I"/Library/Frameworks/R.framework/Resources/include" -DNDEBUG  -I'/Library/Frameworks/R.framework/Versions/4.4-x86_64/Resources/library/Biostrings/include' -I'/Library/Frameworks/R.framework/Versions/4.4-x86_64/Resources/library/S4Vectors/include' -I'/Library/Frameworks/R.framework/Versions/4.4-x86_64/Resources/library/IRanges/include' -I'/Library/Frameworks/R.framework/Versions/4.4-x86_64/Resources/library/XVector/include' -I/opt/R/x86_64/include    -fPIC  -falign-functions=64 -Wall -g -O2  -c R_init_decipher.c -o R_init_decipher.o
clang -arch x86_64 -I"/Library/Frameworks/R.framework/Resources/include" -DNDEBUG  -I'/Library/Frameworks/R.framework/Versions/4.4-x86_64/Resources/library/Biostrings/include' -I'/Library/Frameworks/R.framework/Versions/4.4-x86_64/Resources/library/S4Vectors/include' -I'/Library/Frameworks/R.framework/Versions/4.4-x86_64/Resources/library/IRanges/include' -I'/Library/Frameworks/R.framework/Versions/4.4-x86_64/Resources/library/XVector/include' -I/opt/R/x86_64/include    -fPIC  -falign-functions=64 -Wall -g -O2  -c S4Vectors_stubs.c -o S4Vectors_stubs.o
clang -arch x86_64 -I"/Library/Frameworks/R.framework/Resources/include" -DNDEBUG  -I'/Library/Frameworks/R.framework/Versions/4.4-x86_64/Resources/library/Biostrings/include' -I'/Library/Frameworks/R.framework/Versions/4.4-x86_64/Resources/library/S4Vectors/include' -I'/Library/Frameworks/R.framework/Versions/4.4-x86_64/Resources/library/IRanges/include' -I'/Library/Frameworks/R.framework/Versions/4.4-x86_64/Resources/library/XVector/include' -I/opt/R/x86_64/include    -fPIC  -falign-functions=64 -Wall -g -O2  -c Search.c -o Search.o
Search.c:106:6: warning: unused variable 'nthreads' [-Wunused-variable]
        int nthreads = asInteger(nThreads);
            ^
1 warning generated.
clang -arch x86_64 -I"/Library/Frameworks/R.framework/Resources/include" -DNDEBUG  -I'/Library/Frameworks/R.framework/Versions/4.4-x86_64/Resources/library/Biostrings/include' -I'/Library/Frameworks/R.framework/Versions/4.4-x86_64/Resources/library/S4Vectors/include' -I'/Library/Frameworks/R.framework/Versions/4.4-x86_64/Resources/library/IRanges/include' -I'/Library/Frameworks/R.framework/Versions/4.4-x86_64/Resources/library/XVector/include' -I/opt/R/x86_64/include    -fPIC  -falign-functions=64 -Wall -g -O2  -c TerminalMismatch.c -o TerminalMismatch.o
TerminalMismatch.c:41:6: warning: unused variable 'nthreads' [-Wunused-variable]
        int nthreads = asInteger(nThreads);
            ^
1 warning generated.
clang -arch x86_64 -I"/Library/Frameworks/R.framework/Resources/include" -DNDEBUG  -I'/Library/Frameworks/R.framework/Versions/4.4-x86_64/Resources/library/Biostrings/include' -I'/Library/Frameworks/R.framework/Versions/4.4-x86_64/Resources/library/S4Vectors/include' -I'/Library/Frameworks/R.framework/Versions/4.4-x86_64/Resources/library/IRanges/include' -I'/Library/Frameworks/R.framework/Versions/4.4-x86_64/Resources/library/XVector/include' -I/opt/R/x86_64/include    -fPIC  -falign-functions=64 -Wall -g -O2  -c Translate.c -o Translate.o
clang -arch x86_64 -I"/Library/Frameworks/R.framework/Resources/include" -DNDEBUG  -I'/Library/Frameworks/R.framework/Versions/4.4-x86_64/Resources/library/Biostrings/include' -I'/Library/Frameworks/R.framework/Versions/4.4-x86_64/Resources/library/S4Vectors/include' -I'/Library/Frameworks/R.framework/Versions/4.4-x86_64/Resources/library/IRanges/include' -I'/Library/Frameworks/R.framework/Versions/4.4-x86_64/Resources/library/XVector/include' -I/opt/R/x86_64/include    -fPIC  -falign-functions=64 -Wall -g -O2  -c Utils.c -o Utils.o
Utils.c:230:6: warning: unused variable 'nthreads' [-Wunused-variable]
        int nthreads = asInteger(nThreads);
            ^
Utils.c:343:6: warning: unused variable 'nthreads' [-Wunused-variable]
        int nthreads = asInteger(nThreads);
            ^
2 warnings generated.
clang -arch x86_64 -I"/Library/Frameworks/R.framework/Resources/include" -DNDEBUG  -I'/Library/Frameworks/R.framework/Versions/4.4-x86_64/Resources/library/Biostrings/include' -I'/Library/Frameworks/R.framework/Versions/4.4-x86_64/Resources/library/S4Vectors/include' -I'/Library/Frameworks/R.framework/Versions/4.4-x86_64/Resources/library/IRanges/include' -I'/Library/Frameworks/R.framework/Versions/4.4-x86_64/Resources/library/XVector/include' -I/opt/R/x86_64/include    -fPIC  -falign-functions=64 -Wall -g -O2  -c VectorSums.c -o VectorSums.o
VectorSums.c:83:6: warning: unused variable 'nthreads' [-Wunused-variable]
        int nthreads = asInteger(nThreads);
            ^
1 warning generated.
clang -arch x86_64 -I"/Library/Frameworks/R.framework/Resources/include" -DNDEBUG  -I'/Library/Frameworks/R.framework/Versions/4.4-x86_64/Resources/library/Biostrings/include' -I'/Library/Frameworks/R.framework/Versions/4.4-x86_64/Resources/library/S4Vectors/include' -I'/Library/Frameworks/R.framework/Versions/4.4-x86_64/Resources/library/IRanges/include' -I'/Library/Frameworks/R.framework/Versions/4.4-x86_64/Resources/library/XVector/include' -I/opt/R/x86_64/include    -fPIC  -falign-functions=64 -Wall -g -O2  -c XVector_stubs.c -o XVector_stubs.o
clang -arch x86_64 -dynamiclib -Wl,-headerpad_max_install_names -undefined dynamic_lookup -L/Library/Frameworks/R.framework/Resources/lib -L/opt/R/x86_64/lib -o DECIPHER.so AlignProfiles.o AssignIndels.o Biostrings_stubs.o CalculateDeltaG.o CalculateFISH.o ChainSegments.o Cluster.o ClusterME.o ClusterML.o ClusterMP.o Compositions.o Compression.o ConsensusSequence.o DesignProbes.o Diff.o DistanceMatrix.o EnumerateSequence.o ExpandAmbiguities.o FindFrameshifts.o GeneFinding.o GetPools.o Import.o InformationContent.o IntDist.o ManipulateXStringSet.o MeltPolymer.o MovingAverage.o NNLS.o Order.o PairwiseAlignment.o PredictDBN.o PredictHEC.o R_init_decipher.o S4Vectors_stubs.o Search.o TerminalMismatch.o Translate.o Utils.o VectorSums.o XVector_stubs.o -F/Library/Frameworks/R.framework/.. -framework R -Wl,-framework -Wl,CoreFoundation
installing to /Library/Frameworks/R.framework/Versions/4.4-x86_64/Resources/library/00LOCK-DECIPHER/00new/DECIPHER/libs
** R
** data
** inst
** byte-compile and prepare package for lazy loading
** help
*** installing help indices
** building package indices
** installing vignettes
** testing if installed package can be loaded from temporary location
** checking absolute paths in shared objects and dynamic libraries
** testing if installed package can be loaded from final location
** testing if installed package keeps a record of temporary installation path
* DONE (DECIPHER)

Tests output


Example timings

DECIPHER.Rcheck/DECIPHER-Ex.timings

nameusersystemelapsed
AA_REDUCED0.1010.0160.123
Add2DB1.5060.1611.848
AdjustAlignment0.4570.0200.501
AlignDB2.5990.0632.851
AlignPairs6.3680.1867.138
AlignProfiles1.7410.0602.010
AlignSeqs476.675 6.448548.103
AlignSynteny6.1950.0647.526
AlignTranslation25.532 0.32030.917
AmplifyDNA0.0040.0040.012
Array2Matrix 9.531 0.07411.333
BLOSUM0.0260.0110.059
BrowseDB0.0890.0060.153
BrowseSeqs57.431 0.96172.845
CalculateEfficiencyArray0.0260.0070.044
CalculateEfficiencyFISH0.0090.0010.011
CalculateEfficiencyPCR0.0090.0000.012
Clusterize11.184 0.61114.654
Codec1.3040.0171.712
ConsensusSequence0.4110.0330.630
Cophenetic13.468 0.13317.572
CorrectFrameshifts36.700 1.69249.701
CreateChimeras1.7900.0162.145
DB2Seqs0.0640.0270.123
DesignArray 9.267 0.05412.446
DesignPrimers0.0180.0020.040
DesignProbes0.0170.0020.039
DesignSignatures0.0200.0030.057
DetectRepeats28.536 0.22341.839
DigestDNA0.3310.0170.444
Disambiguate0.1270.0070.157
DistanceMatrix0.1050.0220.145
ExtractGenes73.563 1.46988.172
FindChimeras0.1680.0070.202
FindGenes73.628 1.51382.588
FindNonCoding88.098 5.39498.602
FindSynteny3.3590.0953.604
FormGroups0.1360.0060.151
Genes-class73.946 1.90379.535
HEC_MI0.3000.0220.365
IdConsensus0.9050.0681.033
IdLengths0.0640.0040.075
IdTaxa15.390 0.52417.719
IdentifyByRank0.0770.0060.095
IndexSeqs1.5460.0141.886
InvertedIndex-class0.8810.0190.991
LearnNonCoding170.480 5.585187.104
LearnTaxa 9.872 2.06713.061
MIQS0.0650.0160.086
MMLSUM0.0110.0160.029
MODELS0.0040.0010.004
MapCharacters15.737 0.60117.065
MaskAlignment1.0600.0521.154
MeltDNA0.1220.0080.134
NNLS0.0060.0020.034
NonCoding-class0.0880.0280.139
NonCodingRNA0.1380.0430.195
OrientNucleotides0.8040.0100.816
PAM0.0110.0080.018
PFASUM0.0130.0080.021
PredictDBN0.0150.0030.017
PredictHEC0.5460.0190.575
RESTRICTION_ENZYMES0.0040.0090.015
ReadDendrogram0.0410.0080.049
RemoveGaps0.0280.0020.030
ScoreAlignment11.021 0.28912.143
SearchDB0.0990.0150.120
SearchIndex2.1610.1112.411
Seqs2DB0.2040.0070.224
StaggerAlignment26.804 1.08829.641
Synteny-class4.5630.0804.890
Taxa-class16.353 0.74018.022
TerminalChar0.0140.0020.025
TileSeqs9.0880.0499.681
TrainingSet_16S5.1460.0475.620
TreeLine210.060 4.158233.875
TrimDNA0.3190.0200.354
WriteDendrogram0.0070.0010.009
WriteGenes70.379 1.89186.500
deltaGrules0.0140.0140.028
deltaGrulesRNA0.0240.0130.039
deltaHrules0.0240.0150.039
deltaHrulesRNA0.0240.0140.039
deltaSrules0.0920.0060.103
deltaSrulesRNA0.0210.0140.036