| Back to Multiple platform build/check report for BioC 3.20: simplified long |
|
This page was generated on 2024-07-16 11:40 -0400 (Tue, 16 Jul 2024).
| Hostname | OS | Arch (*) | R version | Installed pkgs |
|---|---|---|---|---|
| nebbiolo2 | Linux (Ubuntu 22.04.3 LTS) | x86_64 | 4.4.1 (2024-06-14) -- "Race for Your Life" | 4677 |
| palomino6 | Windows Server 2022 Datacenter | x64 | 4.4.1 (2024-06-14 ucrt) -- "Race for Your Life" | 4416 |
| lconway | macOS 12.7.1 Monterey | x86_64 | 4.4.1 (2024-06-14) -- "Race for Your Life" | 4444 |
| kjohnson3 | macOS 13.6.5 Ventura | arm64 | 4.4.1 (2024-06-14) -- "Race for Your Life" | 4393 |
| palomino8 | Windows Server 2022 Datacenter | x64 | 4.4.1 (2024-06-14 ucrt) -- "Race for Your Life" | 4373 |
| Click on any hostname to see more info about the system (e.g. compilers) (*) as reported by 'uname -p', except on Windows and Mac OS X | ||||
| Package 1308/2243 | Hostname | OS / Arch | INSTALL | BUILD | CHECK | BUILD BIN | ||||||||
| MsBackendRawFileReader 1.11.3 (landing page) Christian Panse
| nebbiolo2 | Linux (Ubuntu 22.04.3 LTS) / x86_64 | OK | OK | ERROR | |||||||||
| palomino6 | Windows Server 2022 Datacenter / x64 | OK | OK | ERROR | OK | |||||||||
| lconway | macOS 12.7.1 Monterey / x86_64 | OK | OK | ERROR | OK | |||||||||
| kjohnson3 | macOS 13.6.5 Ventura / arm64 | ERROR | ERROR | skipped | skipped | |||||||||
| palomino8 | Windows Server 2022 Datacenter / x64 | OK | OK | ERROR | OK | |||||||||
|
To the developers/maintainers of the MsBackendRawFileReader package: - Allow up to 24 hours (and sometimes 48 hours) for your latest push to git@git.bioconductor.org:packages/MsBackendRawFileReader.git to reflect on this report. See Troubleshooting Build Report for more information. - Use the following Renviron settings to reproduce errors and warnings. - If 'R CMD check' started to fail recently on the Linux builder(s) over a missing dependency, add the missing dependency to 'Suggests:' in your DESCRIPTION file. See Renviron.bioc for more information. |
| Package: MsBackendRawFileReader |
| Version: 1.11.3 |
| Command: C:\Users\biocbuild\bbs-3.20-bioc\R\bin\R.exe CMD check --no-multiarch --install=check:MsBackendRawFileReader.install-out.txt --library=C:\Users\biocbuild\bbs-3.20-bioc\R\library --no-vignettes --timings MsBackendRawFileReader_1.11.3.tar.gz |
| StartedAt: 2024-07-16 02:02:33 -0400 (Tue, 16 Jul 2024) |
| EndedAt: 2024-07-16 02:07:46 -0400 (Tue, 16 Jul 2024) |
| EllapsedTime: 312.9 seconds |
| RetCode: 1 |
| Status: ERROR |
| CheckDir: MsBackendRawFileReader.Rcheck |
| Warnings: NA |
##############################################################################
##############################################################################
###
### Running command:
###
### C:\Users\biocbuild\bbs-3.20-bioc\R\bin\R.exe CMD check --no-multiarch --install=check:MsBackendRawFileReader.install-out.txt --library=C:\Users\biocbuild\bbs-3.20-bioc\R\library --no-vignettes --timings MsBackendRawFileReader_1.11.3.tar.gz
###
##############################################################################
##############################################################################
* using log directory 'C:/Users/biocbuild/bbs-3.20-bioc/meat/MsBackendRawFileReader.Rcheck'
* using R version 4.4.1 (2024-06-14 ucrt)
* using platform: x86_64-w64-mingw32
* R was compiled by
gcc.exe (GCC) 13.2.0
GNU Fortran (GCC) 13.2.0
* running under: Windows Server 2022 x64 (build 20348)
* using session charset: UTF-8
* using option '--no-vignettes'
* checking for file 'MsBackendRawFileReader/DESCRIPTION' ... OK
* checking extension type ... Package
* this is package 'MsBackendRawFileReader' version '1.11.3'
* package encoding: UTF-8
* checking package namespace information ... OK
* checking package dependencies ... OK
* checking if this is a source package ... OK
* checking if there is a namespace ... OK
* checking for hidden files and directories ... OK
* checking for portable file names ... OK
* checking whether package 'MsBackendRawFileReader' can be installed ... OK
* checking installed package size ... OK
* checking package directory ... OK
* checking 'build' directory ... OK
* checking DESCRIPTION meta-information ... OK
* checking top-level files ... OK
* checking for left-over files ... OK
* checking index information ... OK
* checking package subdirectories ... OK
* checking code files for non-ASCII characters ... OK
* checking R files for syntax errors ... OK
* checking whether the package can be loaded ... OK
* checking whether the package can be loaded with stated dependencies ... OK
* checking whether the package can be unloaded cleanly ... OK
* checking whether the namespace can be loaded with stated dependencies ... OK
* checking whether the namespace can be unloaded cleanly ... OK
* checking whether startup messages can be suppressed ... OK
* checking dependencies in R code ... OK
* checking S3 generic/method consistency ... OK
* checking replacement functions ... OK
* checking foreign function calls ... OK
* checking R code for possible problems ... OK
* checking Rd files ... OK
* checking Rd metadata ... OK
* checking Rd cross-references ... OK
* checking for missing documentation entries ... OK
* checking for code/documentation mismatches ... OK
* checking Rd \usage sections ... OK
* checking Rd contents ... OK
* checking for unstated dependencies in examples ... OK
* checking files in 'vignettes' ... OK
* checking examples ... OK
Examples with CPU (user + system) or elapsed time > 5s
user system elapsed
ioBenchmark 7.69 1.88 52.43
MsBackendRawFileReader-class 1.55 0.08 11.97
MsBackendRawFileReader 1.11 0.10 35.12
hidden_aliases 0.28 0.02 10.01
* checking for unstated dependencies in 'tests' ... OK
* checking tests ...
Running 'testthat.R'
ERROR
Running the tests in 'tests/testthat.R' failed.
Last 13 lines of output:
── Skipped tests (1) ───────────────────────────────────────────────────────────
• empty test (1): 'test_spectra_variables.R:262:1'
── Failed tests ────────────────────────────────────────────────────────────────
Failure ('test_peaks_variables.R:16:5'): peaksData columns and peaksVariables match
colnames(res[[1L]]) not equal to peaksVariables(be).
Lengths differ: 5 is not 2
Failure ('test_spectra_variables.R:205:5'): peaksData
colnames(m) not equal to c("mz", "intensity").
Lengths differ: 5 is not 2
[ FAIL 2 | WARN 0 | SKIP 1 | PASS 2381 ]
Error: Test failures
Execution halted
* checking for unstated dependencies in vignettes ... OK
* checking package vignettes ... OK
* checking running R code from vignettes ... SKIPPED
* checking re-building of vignette outputs ... SKIPPED
* checking PDF version of manual ... OK
* DONE
Status: 1 ERROR
See
'C:/Users/biocbuild/bbs-3.20-bioc/meat/MsBackendRawFileReader.Rcheck/00check.log'
for details.
MsBackendRawFileReader.Rcheck/00install.out
############################################################################## ############################################################################## ### ### Running command: ### ### C:\Users\biocbuild\bbs-3.20-bioc\R\bin\R.exe CMD INSTALL MsBackendRawFileReader ### ############################################################################## ############################################################################## * installing to library 'C:/Users/biocbuild/bbs-3.20-bioc/R/library' * installing *source* package 'MsBackendRawFileReader' ... ** using staged installation ** R ** inst ** byte-compile and prepare package for lazy loading ** help *** installing help indices ** building package indices ** installing vignettes ** testing if installed package can be loaded from temporary location ** testing if installed package can be loaded from final location ** testing if installed package keeps a record of temporary installation path * DONE (MsBackendRawFileReader)
MsBackendRawFileReader.Rcheck/tests/testthat.Rout.fail
R version 4.4.1 (2024-06-14 ucrt) -- "Race for Your Life"
Copyright (C) 2024 The R Foundation for Statistical Computing
Platform: x86_64-w64-mingw32/x64
R is free software and comes with ABSOLUTELY NO WARRANTY.
You are welcome to redistribute it under certain conditions.
Type 'license()' or 'licence()' for distribution details.
R is a collaborative project with many contributors.
Type 'contributors()' for more information and
'citation()' on how to cite R or R packages in publications.
Type 'demo()' for some demos, 'help()' for on-line help, or
'help.start()' for an HTML browser interface to help.
Type 'q()' to quit R.
> library("testthat")
> library("MsBackendRawFileReader")
Loading required package: Spectra
Loading required package: S4Vectors
Loading required package: stats4
Loading required package: BiocGenerics
Attaching package: 'BiocGenerics'
The following objects are masked from 'package:stats':
IQR, mad, sd, var, xtabs
The following objects are masked from 'package:base':
Filter, Find, Map, Position, Reduce, anyDuplicated, aperm, append,
as.data.frame, basename, cbind, colnames, dirname, do.call,
duplicated, eval, evalq, get, grep, grepl, intersect, is.unsorted,
lapply, mapply, match, mget, order, paste, pmax, pmax.int, pmin,
pmin.int, rank, rbind, rownames, sapply, setdiff, table, tapply,
union, unique, unsplit, which.max, which.min
Attaching package: 'S4Vectors'
The following object is masked from 'package:utils':
findMatches
The following objects are masked from 'package:base':
I, expand.grid, unname
Loading required package: BiocParallel
Loading required package: ProtGenerics
Attaching package: 'ProtGenerics'
The following object is masked from 'package:stats':
smooth
> library("Spectra")
>
>
> sample_raw_file <- file.path(system.file(package = "rawrr"),
+ 'extdata', 'sample.raw')
>
> sample_mzXML_file <- file.path(path.package(package = 'MsBackendRawFileReader'),
+ 'extdata', 'sample.mzXML')
>
>
> sample_raw <- backendInitialize(MsBackendRawFileReader::MsBackendRawFileReader(), files = sample_raw_file)
>
>
> #sample_mzr <- backendInitialize(MsBackendMzR(), files = sample_mzXML_file)
>
>
> mgf_file <- file.path(system.file(package = "MsBackendRawFileReader"),
+ 'extdata', '3159619b11ed_4590_9594.mgf')
>
>
> rv <- lapply(1:2, function(x){
+ file.copy(from = sample_raw_file, to = tempfile(fileext='.raw'))})
>
>
> register(SnowParam(workers = 1, type = "SOCK") , default = TRUE);
> sample_raw_2 <- backendInitialize(MsBackendRawFileReader(),
+ files = file.path(tempdir(),
+ list.files(path = tempdir(), pattern = 'raw$')))
>
>
> test_check("MsBackendRawFileReader")
[ FAIL 0 | WARN 1 | SKIP 2 | PASS 21 ]
══ Skipped tests (2) ═══════════════════════════════════════════════════════════
• isFALSE(file.exists(sample_mzXML_file)) is TRUE (1):
'test_MsBackendMzR_MsBackendRawFileReader.R:1:1'
• isFALSE(require(MsBackendRawMgf)) is TRUE (1): 'test_top_n_mgf.R:1:1'
[ FAIL 0 | WARN 1 | SKIP 2 | PASS 21 ]
>
>
> be <- Spectra::backendInitialize(MsBackendRawFileReader::MsBackendRawFileReader(),
+ files = c(sample_raw_file))
>
> ## Run the MsBackend spectra variable test suite
> test_suite <- system.file("test_backends", "test_MsBackend",
+ package = "Spectra")
>
> #res <- test_file(paste0(test_suite, "/test_spectra_variables.R"),
> # reporter = check_reporter(), stop_on_failure = TRUE)
>
>
> ## Run the whole suite.
> res <- test_dir(test_suite, stop_on_failure = TRUE)
✔ | F W S OK | Context
⠏ | 0 | peaks_variables
⠙ | 2 | peaks_variables
⠸ | 1 3 | peaks_variables
✖ | 1 3 | peaks_variables [6.3s]
────────────────────────────────────────────────────────────────────────────────
Failure ('test_peaks_variables.R:16:5'): peaksData columns and peaksVariables match
colnames(res[[1L]]) not equal to peaksVariables(be).
Lengths differ: 5 is not 2
────────────────────────────────────────────────────────────────────────────────
⠏ | 0 | spectra_subsetting
⠋ | 1 | spectra_subsetting
⠴ | 16 | spectra_subsetting
⠧ | 28 | spectra_subsetting
⠸ | 44 | spectra_subsetting
⠧ | 58 | spectra_subsetting
⠋ | 71 | spectra_subsetting
⠧ | 88 | spectra_subsetting
⠏ | 100 | spectra_subsetting
⠇ | 119 | spectra_subsetting
⠋ | 131 | spectra_subsetting
⠼ | 145 | spectra_subsetting
⠏ | 160 | spectra_subsetting
⠹ | 173 | spectra_subsetting
⠏ | 190 | spectra_subsetting
⠙ | 202 | spectra_subsetting
⠦ | 217 | spectra_subsetting
⠇ | 229 | spectra_subsetting
⠸ | 244 | spectra_subsetting
⠴ | 256 | spectra_subsetting
⠧ | 268 | spectra_subsetting
⠸ | 284 | spectra_subsetting
⠧ | 298 | spectra_subsetting
⠏ | 310 | spectra_subsetting
⠼ | 325 | spectra_subsetting
⠦ | 337 | spectra_subsetting
⠏ | 350 | spectra_subsetting
⠸ | 364 | spectra_subsetting
⠹ | 373 | spectra_subsetting
⠧ | 388 | spectra_subsetting
⠇ | 389 | spectra_subsetting
⠙ | 402 | spectra_subsetting
⠙ | 412 | spectra_subsetting
⠦ | 427 | spectra_subsetting
⠴ | 436 | spectra_subsetting
⠋ | 451 | spectra_subsetting
⠼ | 465 | spectra_subsetting
⠼ | 475 | spectra_subsetting
⠋ | 491 | spectra_subsetting
⠇ | 499 | spectra_subsetting
⠋ | 511 | spectra_subsetting
⠴ | 526 | spectra_subsetting
⠧ | 538 | spectra_subsetting
⠋ | 551 | spectra_subsetting
⠼ | 565 | spectra_subsetting
⠼ | 575 | spectra_subsetting
⠦ | 587 | spectra_subsetting
⠋ | 601 | spectra_subsetting
⠋ | 611 | spectra_subsetting
⠼ | 625 | spectra_subsetting
⠧ | 638 | spectra_subsetting
⠇ | 649 | spectra_subsetting
⠸ | 664 | spectra_subsetting
⠸ | 674 | spectra_subsetting
⠼ | 685 | spectra_subsetting
⠏ | 700 | spectra_subsetting
⠙ | 712 | spectra_subsetting
⠦ | 727 | spectra_subsetting
⠏ | 740 | spectra_subsetting
⠋ | 751 | spectra_subsetting
⠴ | 766 | spectra_subsetting
⠋ | 781 | spectra_subsetting
⠇ | 799 | spectra_subsetting
⠋ | 811 | spectra_subsetting
⠴ | 826 | spectra_subsetting
⠋ | 841 | spectra_subsetting
⠙ | 852 | spectra_subsetting
⠸ | 864 | spectra_subsetting
⠦ | 877 | spectra_subsetting
⠴ | 886 | spectra_subsetting
⠋ | 901 | spectra_subsetting
⠴ | 916 | spectra_subsetting
⠏ | 930 | spectra_subsetting
⠴ | 946 | spectra_subsetting
⠧ | 958 | spectra_subsetting
⠹ | 973 | spectra_subsetting
⠼ | 985 | spectra_subsetting
⠇ | 999 | spectra_subsetting
⠼ | 1015 | spectra_subsetting
⠼ | 1025 | spectra_subsetting
⠇ | 1039 | spectra_subsetting
⠙ | 1052 | spectra_subsetting
⠹ | 1063 | spectra_subsetting
⠴ | 1076 | spectra_subsetting
⠏ | 1090 | spectra_subsetting
⠦ | 1107 | spectra_subsetting
⠏ | 1120 | spectra_subsetting
⠼ | 1135 | spectra_subsetting
⠏ | 1150 | spectra_subsetting
⠇ | 1159 | spectra_subsetting
⠙ | 1172 | spectra_subsetting
⠸ | 1184 | spectra_subsetting
⠼ | 1195 | spectra_subsetting
⠏ | 1210 | spectra_subsetting
⠙ | 1222 | spectra_subsetting
⠼ | 1235 | spectra_subsetting
⠏ | 1250 | spectra_subsetting
⠸ | 1264 | spectra_subsetting
⠦ | 1277 | spectra_subsetting
⠋ | 1291 | spectra_subsetting
⠹ | 1303 | spectra_subsetting
⠇ | 1319 | spectra_subsetting
⠏ | 1330 | spectra_subsetting
⠙ | 1342 | spectra_subsetting
⠦ | 1357 | spectra_subsetting
⠇ | 1369 | spectra_subsetting
⠼ | 1385 | spectra_subsetting
⠦ | 1397 | spectra_subsetting
⠋ | 1411 | spectra_subsetting
⠸ | 1424 | spectra_subsetting
⠴ | 1436 | spectra_subsetting
⠏ | 1450 | spectra_subsetting
⠙ | 1462 | spectra_subsetting
⠦ | 1477 | spectra_subsetting
⠙ | 1492 | spectra_subsetting
⠹ | 1503 | spectra_subsetting
⠇ | 1519 | spectra_subsetting
⠏ | 1530 | spectra_subsetting
⠹ | 1543 | spectra_subsetting
⠧ | 1558 | spectra_subsetting
⠏ | 1570 | spectra_subsetting
⠼ | 1585 | spectra_subsetting
⠦ | 1597 | spectra_subsetting
⠏ | 1610 | spectra_subsetting
⠦ | 1627 | spectra_subsetting
⠏ | 1640 | spectra_subsetting
⠼ | 1655 | spectra_subsetting
⠦ | 1667 | spectra_subsetting
⠙ | 1682 | spectra_subsetting
⠴ | 1696 | spectra_subsetting
⠏ | 1710 | spectra_subsetting
⠼ | 1725 | spectra_subsetting
⠦ | 1727 | spectra_subsetting
⠏ | 1730 | spectra_subsetting
⠹ | 1733 | spectra_subsetting
⠼ | 1735 | spectra_subsetting
⠧ | 1738 | spectra_subsetting
⠋ | 1741 | spectra_subsetting
⠹ | 1743 | spectra_subsetting
⠴ | 1746 | spectra_subsetting
⠇ | 1749 | spectra_subsetting
⠋ | 1751 | spectra_subsetting
⠸ | 1754 | spectra_subsetting
⠦ | 1757 | spectra_subsetting
⠏ | 1760 | spectra_subsetting
⠙ | 1762 | spectra_subsetting
⠼ | 1765 | spectra_subsetting
⠧ | 1768 | spectra_subsetting
⠏ | 1770 | spectra_subsetting
⠹ | 1773 | spectra_subsetting
⠴ | 1776 | spectra_subsetting
⠧ | 1778 | spectra_subsetting
⠋ | 1781 | spectra_subsetting
⠸ | 1784 | spectra_subsetting
⠴ | 1786 | spectra_subsetting
⠇ | 1789 | spectra_subsetting
⠙ | 1792 | spectra_subsetting
⠸ | 1794 | spectra_subsetting
⠴ | 1796 | spectra_subsetting
⠇ | 1799 | spectra_subsetting
⠋ | 1801 | spectra_subsetting
⠸ | 1804 | spectra_subsetting
⠦ | 1807 | spectra_subsetting
⠇ | 1809 | spectra_subsetting
⠙ | 1812 | spectra_subsetting
⠼ | 1815 | spectra_subsetting
⠦ | 1817 | spectra_subsetting
⠏ | 1820 | spectra_subsetting
⠹ | 1823 | spectra_subsetting
⠼ | 1825 | spectra_subsetting
⠦ | 1827 | spectra_subsetting
⠏ | 1830 | spectra_subsetting
⠙ | 1832 | spectra_subsetting
⠼ | 1835 | spectra_subsetting
⠧ | 1838 | spectra_subsetting
⠏ | 1840 | spectra_subsetting
⠙ | 1842 | spectra_subsetting
⠸ | 1844 | spectra_subsetting
⠴ | 1846 | spectra_subsetting
⠇ | 1849 | spectra_subsetting
⠏ | 1850 | spectra_subsetting
⠹ | 1853 | spectra_subsetting
⠴ | 1856 | spectra_subsetting
⠧ | 1858 | spectra_subsetting
⠋ | 1861 | spectra_subsetting
⠸ | 1864 | spectra_subsetting
⠦ | 1867 | spectra_subsetting
⠏ | 1870 | spectra_subsetting
⠹ | 1873 | spectra_subsetting
⠴ | 1876 | spectra_subsetting
⠇ | 1879 | spectra_subsetting
⠙ | 1882 | spectra_subsetting
⠼ | 1885 | spectra_subsetting
⠧ | 1888 | spectra_subsetting
⠋ | 1891 | spectra_subsetting
⠸ | 1894 | spectra_subsetting
⠦ | 1897 | spectra_subsetting
⠏ | 1900 | spectra_subsetting
⠙ | 1902 | spectra_subsetting
⠼ | 1905 | spectra_subsetting
⠦ | 1907 | spectra_subsetting
⠏ | 1910 | spectra_subsetting
⠹ | 1913 | spectra_subsetting
⠴ | 1916 | spectra_subsetting
⠇ | 1919 | spectra_subsetting
⠋ | 1921 | spectra_subsetting
⠹ | 1923 | spectra_subsetting
⠴ | 1926 | spectra_subsetting
⠇ | 1929 | spectra_subsetting
⠙ | 1932 | spectra_subsetting
⠼ | 1935 | spectra_subsetting
⠧ | 1938 | spectra_subsetting
⠋ | 1941 | spectra_subsetting
⠹ | 1943 | spectra_subsetting
⠴ | 1946 | spectra_subsetting
⠇ | 1949 | spectra_subsetting
⠙ | 1952 | spectra_subsetting
⠼ | 1955 | spectra_subsetting
⠧ | 1958 | spectra_subsetting
⠋ | 1961 | spectra_subsetting
⠸ | 1964 | spectra_subsetting
⠦ | 1967 | spectra_subsetting
⠇ | 1969 | spectra_subsetting
⠹ | 1973 | spectra_subsetting
⠴ | 1976 | spectra_subsetting
⠇ | 1979 | spectra_subsetting
⠙ | 1982 | spectra_subsetting
⠼ | 1985 | spectra_subsetting
⠧ | 1988 | spectra_subsetting
⠋ | 1991 | spectra_subsetting
⠸ | 1994 | spectra_subsetting
⠦ | 1997 | spectra_subsetting
⠏ | 2000 | spectra_subsetting
⠹ | 2003 | spectra_subsetting
⠴ | 2006 | spectra_subsetting
⠧ | 2008 | spectra_subsetting
⠋ | 2011 | spectra_subsetting
⠸ | 2014 | spectra_subsetting
⠴ | 2016 | spectra_subsetting
⠇ | 2019 | spectra_subsetting
⠙ | 2022 | spectra_subsetting
⠼ | 2025 | spectra_subsetting
⠧ | 2028 | spectra_subsetting
⠋ | 2031 | spectra_subsetting
⠸ | 2034 | spectra_subsetting
⠦ | 2037 | spectra_subsetting
⠏ | 2040 | spectra_subsetting
⠹ | 2043 | spectra_subsetting
⠴ | 2046 | spectra_subsetting
⠇ | 2049 | spectra_subsetting
⠙ | 2052 | spectra_subsetting
⠼ | 2055 | spectra_subsetting
⠦ | 2057 | spectra_subsetting
⠏ | 2060 | spectra_subsetting
⠹ | 2063 | spectra_subsetting
⠴ | 2066 | spectra_subsetting
⠇ | 2069 | spectra_subsetting
⠙ | 2072 | spectra_subsetting
⠸ | 2074 | spectra_subsetting
⠦ | 2077 | spectra_subsetting
⠏ | 2080 | spectra_subsetting
⠹ | 2083 | spectra_subsetting
⠴ | 2086 | spectra_subsetting
⠇ | 2089 | spectra_subsetting
⠙ | 2092 | spectra_subsetting
⠼ | 2095 | spectra_subsetting
⠧ | 2098 | spectra_subsetting
⠏ | 2100 | spectra_subsetting
⠹ | 2103 | spectra_subsetting
⠼ | 2105 | spectra_subsetting
⠧ | 2108 | spectra_subsetting
⠋ | 2111 | spectra_subsetting
⠸ | 2114 | spectra_subsetting
⠴ | 2116 | spectra_subsetting
⠇ | 2119 | spectra_subsetting
⠙ | 2122 | spectra_subsetting
⠼ | 2125 | spectra_subsetting
⠧ | 2128 | spectra_subsetting
⠋ | 2131 | spectra_subsetting
⠸ | 2134 | spectra_subsetting
⠦ | 2137 | spectra_subsetting
⠏ | 2140 | spectra_subsetting
⠹ | 2143 | spectra_subsetting
⠴ | 2146 | spectra_subsetting
⠇ | 2149 | spectra_subsetting
⠋ | 2151 | spectra_subsetting
⠸ | 2154 | spectra_subsetting
⠴ | 2156 | spectra_subsetting
⠇ | 2159 | spectra_subsetting
⠙ | 2162 | spectra_subsetting
⠼ | 2165 | spectra_subsetting
⠧ | 2168 | spectra_subsetting
⠋ | 2171 | spectra_subsetting
⠸ | 2174 | spectra_subsetting
⠦ | 2177 | spectra_subsetting
⠏ | 2180 | spectra_subsetting
⠹ | 2183 | spectra_subsetting
⠴ | 2186 | spectra_subsetting
⠇ | 2189 | spectra_subsetting
⠙ | 2192 | spectra_subsetting
⠼ | 2195 | spectra_subsetting
⠧ | 2198 | spectra_subsetting
⠋ | 2201 | spectra_subsetting
⠸ | 2204 | spectra_subsetting
⠦ | 2207 | spectra_subsetting
⠇ | 2209 | spectra_subsetting
⠙ | 2212 | spectra_subsetting
⠼ | 2215 | spectra_subsetting
⠦ | 2217 | spectra_subsetting
⠇ | 2219 | spectra_subsetting
⠙ | 2222 | spectra_subsetting
⠼ | 2225 | spectra_subsetting
⠧ | 2228 | spectra_subsetting
⠏ | 2230 | spectra_subsetting
⠹ | 2233 | spectra_subsetting
⠴ | 2236 | spectra_subsetting
⠇ | 2239 | spectra_subsetting
⠋ | 2241 | spectra_subsetting
⠸ | 2244 | spectra_subsetting
⠦ | 2247 | spectra_subsetting
⠏ | 2250 | spectra_subsetting
⠹ | 2253 | spectra_subsetting
⠴ | 2256 | spectra_subsetting
⠇ | 2259 | spectra_subsetting
⠙ | 2262 | spectra_subsetting
⠼ | 2265 | spectra_subsetting
⠧ | 2268 | spectra_subsetting
⠋ | 2271 | spectra_subsetting
⠸ | 2274 | spectra_subsetting
⠦ | 2277 | spectra_subsetting
⠏ | 2280 | spectra_subsetting
⠹ | 2283 | spectra_subsetting
⠼ | 2285 | spectra_subsetting
⠧ | 2288 | spectra_subsetting
⠋ | 2291 | spectra_subsetting
⠸ | 2294 | spectra_subsetting
⠦ | 2297 | spectra_subsetting
⠏ | 2300 | spectra_subsetting
⠼ | 2305 | spectra_subsetting
⠸ | 2314 | spectra_subsetting
✔ | 2317 | spectra_subsetting [45.2s]
⠏ | 0 | spectra_variables
⠙ | 12 | spectra_variables
⠸ | 14 | spectra_variables
⠴ | 16 | spectra_variables
⠦ | 27 | spectra_variables
⠇ | 29 | spectra_variables
⠋ | 31 | spectra_variables
⠹ | 43 | spectra_variables
⠸ | 1 53 | spectra_variables
✖ | 1 1 61 | spectra_variables [22.7s]
────────────────────────────────────────────────────────────────────────────────
Failure ('test_spectra_variables.R:205:5'): peaksData
colnames(m) not equal to c("mz", "intensity").
Lengths differ: 5 is not 2
────────────────────────────────────────────────────────────────────────────────
══ Results ═════════════════════════════════════════════════════════════════════
Duration: 74.2 s
── Skipped tests (1) ───────────────────────────────────────────────────────────
• empty test (1): 'test_spectra_variables.R:262:1'
── Failed tests ────────────────────────────────────────────────────────────────
Failure ('test_peaks_variables.R:16:5'): peaksData columns and peaksVariables match
colnames(res[[1L]]) not equal to peaksVariables(be).
Lengths differ: 5 is not 2
Failure ('test_spectra_variables.R:205:5'): peaksData
colnames(m) not equal to c("mz", "intensity").
Lengths differ: 5 is not 2
[ FAIL 2 | WARN 0 | SKIP 1 | PASS 2381 ]
Error: Test failures
Execution halted
MsBackendRawFileReader.Rcheck/MsBackendRawFileReader-Ex.timings
| name | user | system | elapsed | |
| MsBackendRawFileReader-class | 1.55 | 0.08 | 11.97 | |
| MsBackendRawFileReader | 1.11 | 0.10 | 35.12 | |
| hidden_aliases | 0.28 | 0.02 | 10.01 | |
| ioBenchmark | 7.69 | 1.88 | 52.43 | |