Back to Multiple platform build/check report for BioC 3.20: simplified long |
|
This page was generated on 2024-08-27 11:40 -0400 (Tue, 27 Aug 2024).
Hostname | OS | Arch (*) | R version | Installed pkgs |
---|---|---|---|---|
nebbiolo2 | Linux (Ubuntu 22.04.3 LTS) | x86_64 | 4.4.1 (2024-06-14) -- "Race for Your Life" | 4703 |
palomino8 | Windows Server 2022 Datacenter | x64 | 4.4.1 (2024-06-14 ucrt) -- "Race for Your Life" | 4440 |
lconway | macOS 12.7.1 Monterey | x86_64 | 4.4.1 (2024-06-14) -- "Race for Your Life" | 4472 |
kjohnson3 | macOS 13.6.5 Ventura | arm64 | 4.4.1 (2024-06-14) -- "Race for Your Life" | 4421 |
kunpeng2 | Linux (openEuler 22.03 LTS-SP1) | aarch64 | 4.4.1 (2024-06-14) -- "Race for Your Life" | 4415 |
Click on any hostname to see more info about the system (e.g. compilers) (*) as reported by 'uname -p', except on Windows and Mac OS X |
Package 1373/2255 | Hostname | OS / Arch | INSTALL | BUILD | CHECK | BUILD BIN | ||||||||
NanoMethViz 3.1.5 (landing page) Shian Su
| nebbiolo2 | Linux (Ubuntu 22.04.3 LTS) / x86_64 | OK | OK | OK | |||||||||
palomino8 | Windows Server 2022 Datacenter / x64 | OK | OK | OK | OK | |||||||||
lconway | macOS 12.7.1 Monterey / x86_64 | OK | OK | OK | OK | |||||||||
kjohnson3 | macOS 13.6.5 Ventura / arm64 | OK | OK | OK | OK | |||||||||
kunpeng2 | Linux (openEuler 22.03 LTS-SP1) / aarch64 | OK | OK | OK | ||||||||||
To the developers/maintainers of the NanoMethViz package: - Allow up to 24 hours (and sometimes 48 hours) for your latest push to git@git.bioconductor.org:packages/NanoMethViz.git to reflect on this report. See Troubleshooting Build Report for more information. - Use the following Renviron settings to reproduce errors and warnings. - If 'R CMD check' started to fail recently on the Linux builder(s) over a missing dependency, add the missing dependency to 'Suggests:' in your DESCRIPTION file. See Renviron.bioc for more information. |
Package: NanoMethViz |
Version: 3.1.5 |
Command: /home/biocbuild/bbs-3.20-bioc/R/bin/R CMD check --install=check:NanoMethViz.install-out.txt --library=/home/biocbuild/bbs-3.20-bioc/R/site-library --timings NanoMethViz_3.1.5.tar.gz |
StartedAt: 2024-08-27 01:25:58 -0400 (Tue, 27 Aug 2024) |
EndedAt: 2024-08-27 01:44:51 -0400 (Tue, 27 Aug 2024) |
EllapsedTime: 1133.3 seconds |
RetCode: 0 |
Status: OK |
CheckDir: NanoMethViz.Rcheck |
Warnings: 0 |
############################################################################## ############################################################################## ### ### Running command: ### ### /home/biocbuild/bbs-3.20-bioc/R/bin/R CMD check --install=check:NanoMethViz.install-out.txt --library=/home/biocbuild/bbs-3.20-bioc/R/site-library --timings NanoMethViz_3.1.5.tar.gz ### ############################################################################## ############################################################################## * using log directory ‘/home/biocbuild/bbs-3.20-bioc/meat/NanoMethViz.Rcheck’ * using R version 4.4.1 (2024-06-14) * using platform: x86_64-pc-linux-gnu * R was compiled by gcc (Ubuntu 11.4.0-1ubuntu1~22.04) 11.4.0 GNU Fortran (Ubuntu 11.4.0-1ubuntu1~22.04) 11.4.0 * running under: Ubuntu 22.04.4 LTS * using session charset: UTF-8 * checking for file ‘NanoMethViz/DESCRIPTION’ ... OK * checking extension type ... Package * this is package ‘NanoMethViz’ version ‘3.1.5’ * package encoding: UTF-8 * checking package namespace information ... OK * checking package dependencies ... OK * checking if this is a source package ... OK * checking if there is a namespace ... OK * checking for hidden files and directories ... OK * checking for portable file names ... OK * checking for sufficient/correct file permissions ... OK * checking whether package ‘NanoMethViz’ can be installed ... OK * used C++ compiler: ‘g++ (Ubuntu 11.4.0-1ubuntu1~22.04) 11.4.0’ * checking C++ specification ... OK Not all R platforms support C++20 * checking installed package size ... NOTE installed size is 10.3Mb sub-directories of 1Mb or more: libs 3.8Mb * checking package directory ... OK * checking ‘build’ directory ... OK * checking DESCRIPTION meta-information ... OK * checking top-level files ... OK * checking for left-over files ... OK * checking index information ... OK * checking package subdirectories ... OK * checking code files for non-ASCII characters ... OK * checking R files for syntax errors ... OK * checking whether the package can be loaded ... OK * checking whether the package can be loaded with stated dependencies ... OK * checking whether the package can be unloaded cleanly ... OK * checking whether the namespace can be loaded with stated dependencies ... OK * checking whether the namespace can be unloaded cleanly ... OK * checking loading without being on the library search path ... OK * checking whether startup messages can be suppressed ... OK * checking dependencies in R code ... OK * checking S3 generic/method consistency ... OK * checking replacement functions ... OK * checking foreign function calls ... OK * checking R code for possible problems ... OK * checking Rd files ... OK * checking Rd metadata ... OK * checking Rd cross-references ... OK * checking for missing documentation entries ... OK * checking for code/documentation mismatches ... OK * checking Rd \usage sections ... OK * checking Rd contents ... OK * checking for unstated dependencies in examples ... OK * checking line endings in C/C++/Fortran sources/headers ... OK * checking line endings in Makefiles ... OK * checking compilation flags in Makevars ... OK * checking for GNU extensions in Makefiles ... OK * checking for portable use of $(BLAS_LIBS) and $(LAPACK_LIBS) ... OK * checking use of PKG_*FLAGS in Makefiles ... OK * checking compiled code ... NOTE Note: information on .o files is not available * checking files in ‘vignettes’ ... OK * checking examples ... OK Examples with CPU (user + system) or elapsed time > 5s user system elapsed get_exons 68.729 4.604 73.906 filter_methy 31.254 1.063 32.476 get_exons_mus_musculus 20.195 0.348 20.560 get_exons_homo_sapiens 18.156 0.964 19.153 plot_gene 15.588 1.041 16.666 plot_gene_heatmap 14.354 1.064 15.419 plot_grange 11.228 0.576 11.819 plot_region 11.185 0.492 11.682 plot_agg_regions 8.822 0.672 9.520 plot_region_heatmap 9.022 0.135 9.157 plot_grange_heatmap 8.550 0.304 8.854 cluster_regions 8.466 0.356 8.849 NanoMethResult-class 5.733 0.376 6.164 * checking for unstated dependencies in ‘tests’ ... OK * checking tests ... Running ‘testthat.R’ OK * checking for unstated dependencies in vignettes ... OK * checking package vignettes ... OK * checking re-building of vignette outputs ... OK * checking PDF version of manual ... OK * DONE Status: 2 NOTEs See ‘/home/biocbuild/bbs-3.20-bioc/meat/NanoMethViz.Rcheck/00check.log’ for details.
NanoMethViz.Rcheck/00install.out
############################################################################## ############################################################################## ### ### Running command: ### ### /home/biocbuild/bbs-3.20-bioc/R/bin/R CMD INSTALL NanoMethViz ### ############################################################################## ############################################################################## * installing to library ‘/home/biocbuild/bbs-3.20-bioc/R/site-library’ * installing *source* package ‘NanoMethViz’ ... ** using staged installation ** libs using C++ compiler: ‘g++ (Ubuntu 11.4.0-1ubuntu1~22.04) 11.4.0’ using C++20 g++ -std=gnu++20 -I"/home/biocbuild/bbs-3.20-bioc/R/include" -DNDEBUG -I'/home/biocbuild/bbs-3.20-bioc/R/site-library/Rcpp/include' -I/usr/local/include -fpic -g -O2 -Wall -c RcppExports.cpp -o RcppExports.o g++ -std=gnu++20 -I"/home/biocbuild/bbs-3.20-bioc/R/include" -DNDEBUG -I'/home/biocbuild/bbs-3.20-bioc/R/site-library/Rcpp/include' -I/usr/local/include -fpic -g -O2 -Wall -c convert_methy_to_dss.cpp -o convert_methy_to_dss.o g++ -std=gnu++20 -I"/home/biocbuild/bbs-3.20-bioc/R/include" -DNDEBUG -I'/home/biocbuild/bbs-3.20-bioc/R/site-library/Rcpp/include' -I/usr/local/include -fpic -g -O2 -Wall -c count_cg.cpp -o count_cg.o g++ -std=gnu++20 -I"/home/biocbuild/bbs-3.20-bioc/R/include" -DNDEBUG -I'/home/biocbuild/bbs-3.20-bioc/R/site-library/Rcpp/include' -I/usr/local/include -fpic -g -O2 -Wall -c genome.cpp -o genome.o genome.cpp: In member function ‘bool Genome::check_if_motif(const string&, int, const string&, int)’: genome.cpp:43:21: warning: variable ‘chrom_view’ set but not used [-Wunused-but-set-variable] 43 | string_view chrom_view = this->bases_at(chrom, motif_start, motif_end); | ^~~~~~~~~~ g++ -std=gnu++20 -I"/home/biocbuild/bbs-3.20-bioc/R/include" -DNDEBUG -I'/home/biocbuild/bbs-3.20-bioc/R/site-library/Rcpp/include' -I/usr/local/include -fpic -g -O2 -Wall -c modbam.cpp -o modbam.o modbam.cpp: In function ‘GenomicModPos parse_bam(const string&, const string&, const string&, const string&, const string&, int)’: modbam.cpp:331:44: warning: comparison of integer expressions of different signedness: ‘int’ and ‘std::basic_string_view<char>::size_type’ {aka ‘long unsigned int’} [-Wsign-compare] 331 | while ( mod_string_end < mm_tok.size() && std::isalnum(mm_tok[mod_string_end]) ) { | ~~~~~~~~~~~~~~~^~~~~~~~~~~~~~~ modbam.cpp:339:40: warning: comparison of integer expressions of different signedness: ‘int’ and ‘std::basic_string_view<char>::size_type’ {aka ‘long unsigned int’} [-Wsign-compare] 339 | if (mod_string_end == mm_tok.size() || mm_tok[mod_string_end] == '?') { | ~~~~~~~~~~~~~~~^~~~~~~~~~~~~~~~ modbam.cpp:364:21: warning: ‘parse_mode’ may be used uninitialized in this function [-Wmaybe-uninitialized] 364 | switch (parse_mode) { | ^~~~~~ modbam.cpp:386:36: warning: ‘target_base’ may be used uninitialized in this function [-Wmaybe-uninitialized] 386 | while (seq.at(seq_ind) != target_base) { | ~~~~~~~~~~~~~~~~^~~~~~~~~~~~~~ g++ -std=gnu++20 -I"/home/biocbuild/bbs-3.20-bioc/R/include" -DNDEBUG -I'/home/biocbuild/bbs-3.20-bioc/R/site-library/Rcpp/include' -I/usr/local/include -fpic -g -O2 -Wall -c utils.cpp -o utils.o g++ -std=gnu++20 -shared -L/home/biocbuild/bbs-3.20-bioc/R/lib -L/usr/local/lib -o NanoMethViz.so RcppExports.o convert_methy_to_dss.o count_cg.o genome.o modbam.o utils.o -lz -L/home/biocbuild/bbs-3.20-bioc/R/lib -lR installing to /home/biocbuild/bbs-3.20-bioc/R/site-library/00LOCK-NanoMethViz/00new/NanoMethViz/libs ** R ** inst ** byte-compile and prepare package for lazy loading ** help *** installing help indices *** copying figures ** building package indices ** installing vignettes ** testing if installed package can be loaded from temporary location ** checking absolute paths in shared objects and dynamic libraries ** testing if installed package can be loaded from final location ** testing if installed package keeps a record of temporary installation path * DONE (NanoMethViz)
NanoMethViz.Rcheck/tests/testthat.Rout
R version 4.4.1 (2024-06-14) -- "Race for Your Life" Copyright (C) 2024 The R Foundation for Statistical Computing Platform: x86_64-pc-linux-gnu R is free software and comes with ABSOLUTELY NO WARRANTY. You are welcome to redistribute it under certain conditions. Type 'license()' or 'licence()' for distribution details. R is a collaborative project with many contributors. Type 'contributors()' for more information and 'citation()' on how to cite R or R packages in publications. Type 'demo()' for some demos, 'help()' for on-line help, or 'help.start()' for an HTML browser interface to help. Type 'q()' to quit R. > library(testthat) > library(NanoMethViz) Loading required package: ggplot2 > > test_check("NanoMethViz") Starting 2 test processes [ FAIL 0 | WARN 0 | SKIP 0 | PASS 628 ] > > proc.time() user system elapsed 291.345 21.591 206.422
NanoMethViz.Rcheck/NanoMethViz-Ex.timings
name | user | system | elapsed | |
NanoMethResult-class | 5.733 | 0.376 | 6.164 | |
bsseq_to_edger | 1.051 | 0.060 | 1.144 | |
bsseq_to_log_methy_ratio | 1.585 | 0.028 | 1.614 | |
cluster_regions | 8.466 | 0.356 | 8.849 | |
create_tabix_file | 1.893 | 0.048 | 2.012 | |
exons_to_genes | 0.407 | 0.013 | 0.420 | |
filter_methy | 31.254 | 1.063 | 32.476 | |
get_example_exons_mus_musculus | 0.361 | 0.008 | 0.368 | |
get_exons | 68.729 | 4.604 | 73.906 | |
get_exons_homo_sapiens | 18.156 | 0.964 | 19.153 | |
get_exons_mus_musculus | 20.195 | 0.348 | 20.560 | |
load_example_modbamresult | 0.396 | 0.008 | 0.405 | |
load_example_nanomethresult | 0.374 | 0.012 | 0.386 | |
methy | 0.004 | 0.000 | 0.004 | |
methy_col_names | 0.001 | 0.000 | 0.000 | |
methy_to_bsseq | 1.546 | 0.032 | 1.578 | |
methy_to_edger | 1.804 | 0.004 | 1.808 | |
modbam_to_tabix | 1.198 | 0.587 | 2.385 | |
plot_agg_genes | 3.345 | 0.152 | 3.539 | |
plot_agg_regions | 8.822 | 0.672 | 9.520 | |
plot_gene | 15.588 | 1.041 | 16.666 | |
plot_gene_heatmap | 14.354 | 1.064 | 15.419 | |
plot_grange | 11.228 | 0.576 | 11.819 | |
plot_grange_heatmap | 8.550 | 0.304 | 8.854 | |
plot_mds | 2.310 | 0.096 | 2.416 | |
plot_pca | 2.683 | 0.040 | 2.723 | |
plot_region | 11.185 | 0.492 | 11.682 | |
plot_region_heatmap | 9.022 | 0.135 | 9.157 | |
plot_violin | 4.087 | 0.099 | 4.187 | |
query_methy | 0.613 | 0.020 | 0.633 | |
region_methy_stats | 1.686 | 0.024 | 1.710 | |