| Back to Multiple platform build/check report for BioC 3.20: simplified long |
|
This page was generated on 2024-11-09 21:31 -0500 (Sat, 09 Nov 2024).
| Hostname | OS | Arch (*) | R version | Installed pkgs |
|---|---|---|---|---|
| teran2 | Linux (Ubuntu 24.04.1 LTS) | x86_64 | 4.4.1 (2024-06-14) -- "Race for Your Life" | 4505 |
| palomino8 | Windows Server 2022 Datacenter | x64 | 4.4.1 (2024-06-14 ucrt) -- "Race for Your Life" | 4506 |
| lconway | macOS 12.7.1 Monterey | x86_64 | 4.4.1 (2024-06-14) -- "Race for Your Life" | 4538 |
| kjohnson3 | macOS 13.6.5 Ventura | arm64 | 4.4.1 (2024-06-14) -- "Race for Your Life" | 4486 |
| kunpeng2 | Linux (openEuler 22.03 LTS-SP1) | aarch64 | 4.4.1 (2024-06-14) -- "Race for Your Life" | 4493 |
| Click on any hostname to see more info about the system (e.g. compilers) (*) as reported by 'uname -p', except on Windows and Mac OS X | ||||
| Package 1698/2289 | Hostname | OS / Arch | INSTALL | BUILD | CHECK | BUILD BIN | ||||||||
| ReactomeGSA 1.20.0 (landing page) Johannes Griss
| teran2 | Linux (Ubuntu 24.04.1 LTS) / x86_64 | OK | OK | OK | |||||||||
| palomino8 | Windows Server 2022 Datacenter / x64 | OK | OK | OK | OK | |||||||||
| lconway | macOS 12.7.1 Monterey / x86_64 | OK | OK | OK | OK | |||||||||
| kjohnson3 | macOS 13.6.5 Ventura / arm64 | OK | OK | OK | OK | |||||||||
| kunpeng2 | Linux (openEuler 22.03 LTS-SP1) / aarch64 | OK | OK | OK | ||||||||||
|
To the developers/maintainers of the ReactomeGSA package: - Allow up to 24 hours (and sometimes 48 hours) for your latest push to git@git.bioconductor.org:packages/ReactomeGSA.git to reflect on this report. See Troubleshooting Build Report for more information. - Use the following Renviron settings to reproduce errors and warnings. - If 'R CMD check' started to fail recently on the Linux builder(s) over a missing dependency, add the missing dependency to 'Suggests:' in your DESCRIPTION file. See Renviron.bioc for more information. |
| Package: ReactomeGSA |
| Version: 1.20.0 |
| Command: /Library/Frameworks/R.framework/Resources/bin/R CMD check --install=check:ReactomeGSA.install-out.txt --library=/Library/Frameworks/R.framework/Resources/library --no-vignettes --timings ReactomeGSA_1.20.0.tar.gz |
| StartedAt: 2024-11-09 10:57:24 -0500 (Sat, 09 Nov 2024) |
| EndedAt: 2024-11-09 11:08:49 -0500 (Sat, 09 Nov 2024) |
| EllapsedTime: 684.8 seconds |
| RetCode: 0 |
| Status: OK |
| CheckDir: ReactomeGSA.Rcheck |
| Warnings: 0 |
##############################################################################
##############################################################################
###
### Running command:
###
### /Library/Frameworks/R.framework/Resources/bin/R CMD check --install=check:ReactomeGSA.install-out.txt --library=/Library/Frameworks/R.framework/Resources/library --no-vignettes --timings ReactomeGSA_1.20.0.tar.gz
###
##############################################################################
##############################################################################
* using log directory ‘/Users/biocbuild/bbs-3.20-bioc/meat/ReactomeGSA.Rcheck’
* using R version 4.4.1 (2024-06-14)
* using platform: aarch64-apple-darwin20
* R was compiled by
Apple clang version 14.0.0 (clang-1400.0.29.202)
GNU Fortran (GCC) 12.2.0
* running under: macOS Ventura 13.6.7
* using session charset: UTF-8
* using option ‘--no-vignettes’
* checking for file ‘ReactomeGSA/DESCRIPTION’ ... OK
* checking extension type ... Package
* this is package ‘ReactomeGSA’ version ‘1.20.0’
* package encoding: UTF-8
* checking package namespace information ... OK
* checking package dependencies ...Warning: unable to access index for repository https://CRAN.R-project.org/src/contrib:
cannot open URL 'https://CRAN.R-project.org/src/contrib/PACKAGES'
OK
* checking if this is a source package ... OK
* checking if there is a namespace ... OK
* checking for hidden files and directories ... OK
* checking for portable file names ... OK
* checking for sufficient/correct file permissions ... OK
* checking whether package ‘ReactomeGSA’ can be installed ... OK
* checking installed package size ... OK
* checking package directory ... OK
* checking ‘build’ directory ... OK
* checking DESCRIPTION meta-information ... OK
* checking top-level files ... OK
* checking for left-over files ... OK
* checking index information ... OK
* checking package subdirectories ... OK
* checking code files for non-ASCII characters ... OK
* checking R files for syntax errors ... OK
* checking whether the package can be loaded ... OK
* checking whether the package can be loaded with stated dependencies ... OK
* checking whether the package can be unloaded cleanly ... OK
* checking whether the namespace can be loaded with stated dependencies ... OK
* checking whether the namespace can be unloaded cleanly ... OK
* checking whether startup messages can be suppressed ... OK
* checking dependencies in R code ... OK
* checking S3 generic/method consistency ... OK
* checking replacement functions ... OK
* checking foreign function calls ... OK
* checking R code for possible problems ... NOTE
plot_correlations,ReactomeAnalysisResult: no visible binding for global
variable ‘combined_sig’
plot_correlations,ReactomeAnalysisResult: no visible binding for global
variable ‘alpha’
plot_gsva_pathway,ReactomeAnalysisResult: no visible binding for global
variable ‘cluster_id’
plot_gsva_pathway,ReactomeAnalysisResult: no visible binding for global
variable ‘expr’
plot_gsva_pca,ReactomeAnalysisResult: no visible binding for global
variable ‘gsva_result’
plot_gsva_pca,ReactomeAnalysisResult: no visible binding for global
variable ‘PC1’
plot_gsva_pca,ReactomeAnalysisResult: no visible binding for global
variable ‘PC2’
plot_heatmap,ReactomeAnalysisResult: no visible global function
definition for ‘desc’
plot_heatmap,ReactomeAnalysisResult: no visible binding for global
variable ‘n_sig’
plot_heatmap,ReactomeAnalysisResult: no visible binding for global
variable ‘dataset’
plot_heatmap,ReactomeAnalysisResult: no visible binding for global
variable ‘Name’
plot_volcano,ReactomeAnalysisResult: no visible binding for global
variable ‘av_foldchange’
plot_volcano,ReactomeAnalysisResult: no visible binding for global
variable ‘FDR’
Undefined global functions or variables:
FDR Name PC1 PC2 alpha av_foldchange cluster_id combined_sig dataset
desc expr gsva_result n_sig
* checking Rd files ... OK
* checking Rd metadata ... OK
* checking Rd cross-references ... OK
* checking for missing documentation entries ... OK
* checking for code/documentation mismatches ... OK
* checking Rd \usage sections ... OK
* checking Rd contents ... OK
* checking for unstated dependencies in examples ... OK
* checking files in ‘vignettes’ ... OK
* checking examples ... OK
Examples with CPU (user + system) or elapsed time > 5s
user system elapsed
plot_gsva_heatmap 9.308 0.858 41.629
plot_gsva_heatmap-ReactomeAnalysisResult-method 9.247 0.789 42.254
plot_gsva_pathway 9.266 0.634 41.467
plot_gsva_pca 9.040 0.799 43.540
plot_gsva_pca-ReactomeAnalysisResult-method 9.071 0.687 41.627
plot_gsva_pathway-ReactomeAnalysisResult-method 8.891 0.738 43.610
analyse_sc_clusters-Seurat-method 8.832 0.539 46.999
analyse_sc_clusters 8.396 0.701 41.350
analyse_sc_clusters-SingleCellExperiment-method 8.497 0.558 41.427
perform_reactome_analysis 0.860 0.087 14.263
load_public_dataset 0.648 0.069 34.977
* checking for unstated dependencies in ‘tests’ ... OK
* checking tests ...
Running ‘testthat.R’
OK
* checking for unstated dependencies in vignettes ... OK
* checking package vignettes ... OK
* checking running R code from vignettes ... SKIPPED
* checking re-building of vignette outputs ... SKIPPED
* checking PDF version of manual ... OK
* DONE
Status: 1 NOTE
See
‘/Users/biocbuild/bbs-3.20-bioc/meat/ReactomeGSA.Rcheck/00check.log’
for details.
ReactomeGSA.Rcheck/00install.out
############################################################################## ############################################################################## ### ### Running command: ### ### /Library/Frameworks/R.framework/Resources/bin/R CMD INSTALL ReactomeGSA ### ############################################################################## ############################################################################## * installing to library ‘/Library/Frameworks/R.framework/Versions/4.4-arm64/Resources/library’ * installing *source* package ‘ReactomeGSA’ ... ** using staged installation ** R ** inst ** byte-compile and prepare package for lazy loading in method for ‘analyse_sc_clusters’ with signature ‘object="Seurat"’: no definition for class “Seurat” in method for ‘analyse_sc_clusters’ with signature ‘object="SingleCellExperiment"’: no definition for class “SingleCellExperiment” in method for ‘add_dataset’ with signature ‘request="ReactomeAnalysisRequest",expression_values="EList"’: no definition for class “EList” in method for ‘add_dataset’ with signature ‘request="ReactomeAnalysisRequest",expression_values="DGEList"’: no definition for class “DGEList” ** help *** installing help indices ** building package indices ** installing vignettes ** testing if installed package can be loaded from temporary location ** testing if installed package can be loaded from final location ** testing if installed package keeps a record of temporary installation path * DONE (ReactomeGSA)
ReactomeGSA.Rcheck/tests/testthat.Rout
R version 4.4.1 (2024-06-14) -- "Race for Your Life"
Copyright (C) 2024 The R Foundation for Statistical Computing
Platform: aarch64-apple-darwin20
R is free software and comes with ABSOLUTELY NO WARRANTY.
You are welcome to redistribute it under certain conditions.
Type 'license()' or 'licence()' for distribution details.
R is a collaborative project with many contributors.
Type 'contributors()' for more information and
'citation()' on how to cite R or R packages in publications.
Type 'demo()' for some demos, 'help()' for on-line help, or
'help.start()' for an HTML browser interface to help.
Type 'q()' to quit R.
> library(testthat)
> library(ReactomeGSA)
>
> test_check("ReactomeGSA")
[ FAIL 0 | WARN 0 | SKIP 0 | PASS 17 ]
>
> proc.time()
user system elapsed
0.522 0.039 0.560
ReactomeGSA.Rcheck/ReactomeGSA-Ex.timings
| name | user | system | elapsed | |
| ReactomeAnalysisRequest | 1.536 | 0.074 | 1.639 | |
| ReactomeAnalysisResult-class | 0.377 | 0.003 | 0.379 | |
| add_dataset-ReactomeAnalysisRequest-DGEList-method | 0.256 | 0.012 | 0.269 | |
| add_dataset-ReactomeAnalysisRequest-EList-method | 0.221 | 0.023 | 0.244 | |
| add_dataset-ReactomeAnalysisRequest-ExpressionSet-method | 0.222 | 0.021 | 0.242 | |
| add_dataset-ReactomeAnalysisRequest-data.frame-method | 0.335 | 0.031 | 0.367 | |
| add_dataset-ReactomeAnalysisRequest-matrix-method | 0.214 | 0.030 | 0.244 | |
| add_dataset | 0.213 | 0.026 | 0.239 | |
| analyse_sc_clusters-Seurat-method | 8.832 | 0.539 | 46.999 | |
| analyse_sc_clusters-SingleCellExperiment-method | 8.497 | 0.558 | 41.427 | |
| analyse_sc_clusters | 8.396 | 0.701 | 41.350 | |
| find_public_datasets | 0.032 | 0.006 | 2.324 | |
| get_public_species | 0.009 | 0.001 | 0.264 | |
| get_reactome_data_types | 0.017 | 0.003 | 0.555 | |
| get_reactome_methods | 0.029 | 0.004 | 0.847 | |
| get_result-ReactomeAnalysisResult-method | 0.068 | 0.002 | 0.070 | |
| get_result | 0.065 | 0.002 | 0.067 | |
| load_public_dataset | 0.648 | 0.069 | 34.977 | |
| names-ReactomeAnalysisResult-method | 0.069 | 0.002 | 0.072 | |
| open_reactome-ReactomeAnalysisResult-method | 0.069 | 0.003 | 0.071 | |
| open_reactome | 0.068 | 0.004 | 0.072 | |
| pathways-ReactomeAnalysisResult-method | 0.468 | 0.004 | 0.472 | |
| pathways | 0.492 | 0.015 | 0.507 | |
| perform_reactome_analysis | 0.860 | 0.087 | 14.263 | |
| plot_correlations-ReactomeAnalysisResult-method | 0.46 | 0.01 | 0.47 | |
| plot_correlations | 0.452 | 0.003 | 0.455 | |
| plot_gsva_heatmap-ReactomeAnalysisResult-method | 9.247 | 0.789 | 42.254 | |
| plot_gsva_heatmap | 9.308 | 0.858 | 41.629 | |
| plot_gsva_pathway-ReactomeAnalysisResult-method | 8.891 | 0.738 | 43.610 | |
| plot_gsva_pathway | 9.266 | 0.634 | 41.467 | |
| plot_gsva_pca-ReactomeAnalysisResult-method | 9.071 | 0.687 | 41.627 | |
| plot_gsva_pca | 9.040 | 0.799 | 43.540 | |
| plot_heatmap-ReactomeAnalysisResult-method | 0.508 | 0.010 | 0.518 | |
| plot_heatmap | 0.571 | 0.011 | 0.582 | |
| plot_volcano-ReactomeAnalysisResult-method | 0.077 | 0.003 | 0.080 | |
| plot_volcano | 0.092 | 0.003 | 0.094 | |
| print-ReactomeAnalysisRequest-method | 0.000 | 0.000 | 0.001 | |
| print-ReactomeAnalysisResult-method | 0.078 | 0.003 | 0.080 | |
| reactome_links-ReactomeAnalysisResult-method | 0.074 | 0.002 | 0.075 | |
| reactome_links | 0.074 | 0.002 | 0.076 | |
| result_types-ReactomeAnalysisResult-method | 0.073 | 0.003 | 0.075 | |
| result_types | 0.064 | 0.002 | 0.066 | |
| set_method-ReactomeAnalysisRequest-method | 0.001 | 0.001 | 0.001 | |
| set_method | 0.000 | 0.000 | 0.001 | |
| set_parameters-ReactomeAnalysisRequest-method | 0.001 | 0.000 | 0.000 | |
| set_parameters | 0.000 | 0.000 | 0.001 | |
| show-ReactomeAnalysisRequest-method | 0.001 | 0.000 | 0.000 | |
| show-ReactomeAnalysisResult-method | 0.062 | 0.002 | 0.064 | |