| Back to Multiple platform build/check report for BioC 3.20: simplified long |
|
This page was generated on 2025-04-02 19:28 -0400 (Wed, 02 Apr 2025).
| Hostname | OS | Arch (*) | R version | Installed pkgs |
|---|---|---|---|---|
| nebbiolo2 | Linux (Ubuntu 24.04.1 LTS) | x86_64 | 4.4.3 (2025-02-28) -- "Trophy Case" | 4764 |
| palomino8 | Windows Server 2022 Datacenter | x64 | 4.4.3 (2025-02-28 ucrt) -- "Trophy Case" | 4495 |
| merida1 | macOS 12.7.5 Monterey | x86_64 | 4.4.3 (2025-02-28) -- "Trophy Case" | 4522 |
| kjohnson1 | macOS 13.6.6 Ventura | arm64 | 4.4.3 (2025-02-28) -- "Trophy Case" | 4449 |
| taishan | Linux (openEuler 24.03 LTS) | aarch64 | 4.4.3 (2025-02-28) -- "Trophy Case" | 4426 |
| Click on any hostname to see more info about the system (e.g. compilers) (*) as reported by 'uname -p', except on Windows and Mac OS X | ||||
| Package 2/2289 | Hostname | OS / Arch | INSTALL | BUILD | CHECK | BUILD BIN | ||||||||
| a4Base 1.54.0 (landing page) Laure Cougnaud
| nebbiolo2 | Linux (Ubuntu 24.04.1 LTS) / x86_64 | OK | OK | OK | |||||||||
| palomino8 | Windows Server 2022 Datacenter / x64 | OK | OK | OK | OK | |||||||||
| merida1 | macOS 12.7.5 Monterey / x86_64 | OK | OK | OK | OK | |||||||||
| kjohnson1 | macOS 13.6.6 Ventura / arm64 | OK | OK | OK | OK | |||||||||
| taishan | Linux (openEuler 24.03 LTS) / aarch64 | OK | OK | OK | ||||||||||
|
To the developers/maintainers of the a4Base package: - Allow up to 24 hours (and sometimes 48 hours) for your latest push to git@git.bioconductor.org:packages/a4Base.git to reflect on this report. See Troubleshooting Build Report for more information. - Use the following Renviron settings to reproduce errors and warnings. - If 'R CMD check' started to fail recently on the Linux builder(s) over a missing dependency, add the missing dependency to 'Suggests:' in your DESCRIPTION file. See Renviron.bioc for more information. |
| Package: a4Base |
| Version: 1.54.0 |
| Command: /home/biocbuild/bbs-3.20-bioc/R/bin/R CMD check --install=check:a4Base.install-out.txt --library=/home/biocbuild/bbs-3.20-bioc/R/site-library --timings a4Base_1.54.0.tar.gz |
| StartedAt: 2025-03-31 19:44:31 -0400 (Mon, 31 Mar 2025) |
| EndedAt: 2025-03-31 19:47:29 -0400 (Mon, 31 Mar 2025) |
| EllapsedTime: 177.3 seconds |
| RetCode: 0 |
| Status: OK |
| CheckDir: a4Base.Rcheck |
| Warnings: 0 |
##############################################################################
##############################################################################
###
### Running command:
###
### /home/biocbuild/bbs-3.20-bioc/R/bin/R CMD check --install=check:a4Base.install-out.txt --library=/home/biocbuild/bbs-3.20-bioc/R/site-library --timings a4Base_1.54.0.tar.gz
###
##############################################################################
##############################################################################
* using log directory ‘/home/biocbuild/bbs-3.20-bioc/meat/a4Base.Rcheck’
* using R version 4.4.3 (2025-02-28)
* using platform: x86_64-pc-linux-gnu
* R was compiled by
gcc (Ubuntu 13.3.0-6ubuntu2~24.04) 13.3.0
GNU Fortran (Ubuntu 13.3.0-6ubuntu2~24.04) 13.3.0
* running under: Ubuntu 24.04.2 LTS
* using session charset: UTF-8
* checking for file ‘a4Base/DESCRIPTION’ ... OK
* checking extension type ... Package
* this is package ‘a4Base’ version ‘1.54.0’
* checking package namespace information ... OK
* checking package dependencies ... NOTE
Package which this enhances but not available for checking: ‘JavaGD’
* checking if this is a source package ... OK
* checking if there is a namespace ... OK
* checking for hidden files and directories ... OK
* checking for portable file names ... OK
* checking for sufficient/correct file permissions ... OK
* checking whether package ‘a4Base’ can be installed ... OK
* checking installed package size ... OK
* checking package directory ... OK
* checking DESCRIPTION meta-information ... OK
* checking top-level files ... OK
* checking for left-over files ... OK
* checking index information ... OK
* checking package subdirectories ... OK
* checking code files for non-ASCII characters ... OK
* checking R files for syntax errors ... OK
* checking whether the package can be loaded ... OK
* checking whether the package can be loaded with stated dependencies ... OK
* checking whether the package can be unloaded cleanly ... OK
* checking whether the namespace can be loaded with stated dependencies ... OK
* checking whether the namespace can be unloaded cleanly ... OK
* checking loading without being on the library search path ... OK
* checking whether startup messages can be suppressed ... OK
* checking dependencies in R code ... OK
* checking S3 generic/method consistency ... OK
* checking replacement functions ... OK
* checking foreign function calls ... OK
* checking R code for possible problems ... OK
* checking Rd files ... NOTE
checkRd: (-1) computeLogRatio.Rd:49-51: Lost braces in \itemize; meant \describe ?
checkRd: (-1) computeLogRatio.Rd:52-55: Lost braces in \itemize; meant \describe ?
checkRd: (-1) filterVarInt.Rd:52: Escaped LaTeX specials: \&
checkRd: (-1) histPvalue.Rd:50: Escaped LaTeX specials: \&
checkRd: (-1) lassoReg.Rd:38: Escaped LaTeX specials: \&
checkRd: (-1) plotLogRatio.Rd:166: Lost braces in \itemize; meant \describe ?
checkRd: (-1) plotLogRatio.Rd:167: Lost braces in \itemize; meant \describe ?
checkRd: (-1) plotLogRatio.Rd:168: Lost braces in \itemize; meant \describe ?
checkRd: (-1) plotLogRatio.Rd:169: Lost braces in \itemize; meant \describe ?
checkRd: (-1) plotLogRatio.Rd:170: Lost braces in \itemize; meant \describe ?
checkRd: (-1) plotLogRatio.Rd:183-185: Lost braces in \itemize; meant \describe ?
checkRd: (-1) plotLogRatio.Rd:186-191: Lost braces in \itemize; meant \describe ?
checkRd: (-1) plotLogRatio.Rd:192-200: Lost braces in \itemize; meant \describe ?
checkRd: (-1) plotLogRatio.Rd:201-203: Lost braces in \itemize; meant \describe ?
checkRd: (-1) spectralMap.Rd:49: Escaped LaTeX specials: \&
checkRd: (-1) topTable-methods.Rd:112: Lost braces in \itemize; meant \describe ?
checkRd: (-1) volcanoPlot.Rd:45: Escaped LaTeX specials: \&
* checking Rd metadata ... OK
* checking Rd cross-references ... OK
* checking for missing documentation entries ... OK
* checking for code/documentation mismatches ... OK
* checking Rd \usage sections ... OK
* checking Rd contents ... OK
* checking for unstated dependencies in examples ... OK
* checking contents of ‘data’ directory ... OK
* checking data for non-ASCII characters ... OK
* checking data for ASCII and uncompressed saves ... OK
* checking examples ... OK
Examples with CPU (user + system) or elapsed time > 5s
user system elapsed
spectralMap 8.839 0.221 9.06
* checking PDF version of manual ... OK
* DONE
Status: 2 NOTEs
See
‘/home/biocbuild/bbs-3.20-bioc/meat/a4Base.Rcheck/00check.log’
for details.
a4Base.Rcheck/00install.out
############################################################################## ############################################################################## ### ### Running command: ### ### /home/biocbuild/bbs-3.20-bioc/R/bin/R CMD INSTALL a4Base ### ############################################################################## ############################################################################## * installing to library ‘/home/biocbuild/bbs-3.20-bioc/R/site-library’ * installing *source* package ‘a4Base’ ... ** using staged installation ** R ** data ** inst ** byte-compile and prepare package for lazy loading ** help *** installing help indices ** building package indices ** testing if installed package can be loaded from temporary location ** testing if installed package can be loaded from final location ** testing if installed package keeps a record of temporary installation path * DONE (a4Base)
a4Base.Rcheck/a4Base-Ex.timings
| name | user | system | elapsed | |
| a4palette | 0.039 | 0.000 | 0.040 | |
| addQuantilesColors | 1.820 | 0.064 | 1.884 | |
| boxPlot | 2.558 | 0.134 | 2.693 | |
| combineTwoExpressionSet | 0 | 0 | 0 | |
| computeLogRatio | 4.250 | 0.258 | 4.507 | |
| createExpressionSet | 0.030 | 0.000 | 0.031 | |
| filterVarInt | 2.188 | 0.103 | 2.291 | |
| heatmap.expressionSet | 0.001 | 0.000 | 0.001 | |
| histPvalue | 1.734 | 0.017 | 1.752 | |
| histpvalueplotter | 1.667 | 0.044 | 1.712 | |
| lassoReg | 1.688 | 0.032 | 1.720 | |
| logReg | 0 | 0 | 0 | |
| nlcvTT | 0 | 0 | 0 | |
| plot1gene | 1.650 | 0.057 | 1.707 | |
| plotComb2Samples | 1.831 | 0.051 | 1.881 | |
| plotCombMultSamples | 3.034 | 0.093 | 3.126 | |
| plotCombination2genes | 2.459 | 0.041 | 2.500 | |
| plotLogRatio | 3.761 | 0.047 | 3.808 | |
| probabilitiesPlot | 0.000 | 0.000 | 0.001 | |
| probe2gene | 1.436 | 0.025 | 1.461 | |
| profilesPlot | 1.647 | 0.028 | 1.675 | |
| propdegenescalculation | 2.136 | 0.036 | 2.172 | |
| replicates | 0.000 | 0.001 | 0.001 | |
| spectralMap | 8.839 | 0.221 | 9.060 | |
| tTest | 1.901 | 0.018 | 1.919 | |
| volcanoPlot | 2.084 | 0.028 | 2.112 | |