| Back to Multiple platform build/check report for BioC 3.20: simplified long |
|
This page was generated on 2024-11-20 12:06 -0500 (Wed, 20 Nov 2024).
| Hostname | OS | Arch (*) | R version | Installed pkgs |
|---|---|---|---|---|
| teran2 | Linux (Ubuntu 24.04.1 LTS) | x86_64 | 4.4.2 (2024-10-31) -- "Pile of Leaves" | 4481 |
| nebbiolo2 | Linux (Ubuntu 24.04.1 LTS) | x86_64 | 4.4.2 (2024-10-31) -- "Pile of Leaves" | 4479 |
| palomino8 | Windows Server 2022 Datacenter | x64 | 4.4.2 (2024-10-31 ucrt) -- "Pile of Leaves" | 4359 |
| lconway | macOS 12.7.1 Monterey | x86_64 | 4.4.1 (2024-06-14) -- "Race for Your Life" | 4539 |
| kunpeng2 | Linux (openEuler 22.03 LTS-SP1) | aarch64 | 4.4.1 (2024-06-14) -- "Race for Your Life" | 4493 |
| Click on any hostname to see more info about the system (e.g. compilers) (*) as reported by 'uname -p', except on Windows and Mac OS X | ||||
| Package 808/2289 | Hostname | OS / Arch | INSTALL | BUILD | CHECK | BUILD BIN | ||||||||
| geNetClassifier 1.46.0 (landing page) Sara Aibar
| teran2 | Linux (Ubuntu 24.04.1 LTS) / x86_64 | OK | OK | OK | |||||||||
| nebbiolo2 | Linux (Ubuntu 24.04.1 LTS) / x86_64 | OK | OK | OK | ||||||||||
| palomino8 | Windows Server 2022 Datacenter / x64 | OK | OK | OK | OK | |||||||||
| lconway | macOS 12.7.1 Monterey / x86_64 | OK | OK | OK | OK | |||||||||
| kunpeng2 | Linux (openEuler 22.03 LTS-SP1) / aarch64 | OK | OK | OK | ||||||||||
|
To the developers/maintainers of the geNetClassifier package: - Allow up to 24 hours (and sometimes 48 hours) for your latest push to git@git.bioconductor.org:packages/geNetClassifier.git to reflect on this report. See Troubleshooting Build Report for more information. - Use the following Renviron settings to reproduce errors and warnings. - If 'R CMD check' started to fail recently on the Linux builder(s) over a missing dependency, add the missing dependency to 'Suggests:' in your DESCRIPTION file. See Renviron.bioc for more information. |
| Package: geNetClassifier |
| Version: 1.46.0 |
| Command: /Library/Frameworks/R.framework/Resources/bin/R CMD check --install=check:geNetClassifier.install-out.txt --library=/Library/Frameworks/R.framework/Resources/library --no-vignettes --timings geNetClassifier_1.46.0.tar.gz |
| StartedAt: 2024-11-19 22:24:15 -0500 (Tue, 19 Nov 2024) |
| EndedAt: 2024-11-19 22:28:57 -0500 (Tue, 19 Nov 2024) |
| EllapsedTime: 281.2 seconds |
| RetCode: 0 |
| Status: OK |
| CheckDir: geNetClassifier.Rcheck |
| Warnings: 0 |
##############################################################################
##############################################################################
###
### Running command:
###
### /Library/Frameworks/R.framework/Resources/bin/R CMD check --install=check:geNetClassifier.install-out.txt --library=/Library/Frameworks/R.framework/Resources/library --no-vignettes --timings geNetClassifier_1.46.0.tar.gz
###
##############################################################################
##############################################################################
* using log directory ‘/Users/biocbuild/bbs-3.20-bioc/meat/geNetClassifier.Rcheck’
* using R version 4.4.1 (2024-06-14)
* using platform: x86_64-apple-darwin20
* R was compiled by
Apple clang version 14.0.0 (clang-1400.0.29.202)
GNU Fortran (GCC) 12.2.0
* running under: macOS Monterey 12.7.6
* using session charset: UTF-8
* using option ‘--no-vignettes’
* checking for file ‘geNetClassifier/DESCRIPTION’ ... OK
* checking extension type ... Package
* this is package ‘geNetClassifier’ version ‘1.46.0’
* checking package namespace information ... OK
* checking package dependencies ...Warning: unable to access index for repository https://CRAN.R-project.org/src/contrib:
cannot open URL 'https://CRAN.R-project.org/src/contrib/PACKAGES'
OK
* checking if this is a source package ... OK
* checking if there is a namespace ... OK
* checking for hidden files and directories ... OK
* checking for portable file names ... OK
* checking for sufficient/correct file permissions ... OK
* checking whether package ‘geNetClassifier’ can be installed ... OK
* checking installed package size ... OK
* checking package directory ... OK
* checking ‘build’ directory ... OK
* checking DESCRIPTION meta-information ... OK
* checking top-level files ... OK
* checking for left-over files ... OK
* checking index information ... OK
* checking package subdirectories ... OK
* checking code files for non-ASCII characters ... OK
* checking R files for syntax errors ... OK
* checking whether the package can be loaded ... OK
* checking whether the package can be loaded with stated dependencies ... OK
* checking whether the package can be unloaded cleanly ... OK
* checking whether the namespace can be loaded with stated dependencies ... OK
* checking whether the namespace can be unloaded cleanly ... OK
* checking dependencies in R code ... OK
* checking S3 generic/method consistency ... OK
* checking replacement functions ... OK
* checking foreign function calls ... OK
* checking R code for possible problems ... OK
* checking Rd files ... NOTE
checkRd: (-1) calculateGenesRanking.Rd:78: Lost braces in \itemize; meant \describe ?
checkRd: (-1) calculateGenesRanking.Rd:79: Lost braces in \itemize; meant \describe ?
checkRd: (-1) calculateGenesRanking.Rd:91: Lost braces in \itemize; \value handles \item{}{} directly
checkRd: (-1) calculateGenesRanking.Rd:92: Lost braces in \itemize; \value handles \item{}{} directly
checkRd: (-1) externalValidation.stats.Rd:25-27: Lost braces in \itemize; \value handles \item{}{} directly
checkRd: (-1) externalValidation.stats.Rd:28-33: Lost braces in \itemize; \value handles \item{}{} directly
checkRd: (-1) externalValidation.stats.Rd:32: Lost braces
32 | \item{confMatrix }{Confussion matrix.}
| ^
checkRd: (-1) externalValidation.stats.Rd:32: Lost braces
32 | \item{confMatrix }{Confussion matrix.}
| ^
checkRd: (-1) plot.GenesRanking.Rd:32: Lost braces in \itemize; meant \describe ?
checkRd: (-1) plot.GenesRanking.Rd:33: Lost braces in \itemize; meant \describe ?
checkRd: (-1) plotDiscriminantPower.Rd:49: Lost braces in \itemize; \value handles \item{}{} directly
checkRd: (-1) plotDiscriminantPower.Rd:50: Lost braces in \itemize; \value handles \item{}{} directly
checkRd: (-1) queryGeNetClassifier.Rd:41: Lost braces in \itemize; meant \describe ?
checkRd: (-1) queryGeNetClassifier.Rd:42-43: Lost braces in \itemize; meant \describe ?
checkRd: (-1) queryGeNetClassifier.Rd:53: Lost braces in \itemize; \value handles \item{}{} directly
checkRd: (-1) queryGeNetClassifier.Rd:54: Lost braces in \itemize; \value handles \item{}{} directly
checkRd: (-1) queryGeNetClassifier.Rd:55: Lost braces in \itemize; \value handles \item{}{} directly
checkRd: (-1) querySummary.Rd:32: Lost braces in \itemize; \value handles \item{}{} directly
checkRd: (-1) querySummary.Rd:33: Lost braces in \itemize; \value handles \item{}{} directly
checkRd: (-1) querySummary.Rd:34: Lost braces in \itemize; \value handles \item{}{} directly
* checking Rd metadata ... OK
* checking Rd cross-references ... OK
* checking for missing documentation entries ... OK
* checking for code/documentation mismatches ... OK
* checking Rd \usage sections ... OK
* checking Rd contents ... OK
* checking for unstated dependencies in examples ... OK
* checking contents of ‘data’ directory ... OK
* checking data for non-ASCII characters ... OK
* checking data for ASCII and uncompressed saves ... OK
* checking sizes of PDF files under ‘inst/doc’ ... OK
* checking files in ‘vignettes’ ... OK
* checking examples ... OK
* checking for unstated dependencies in ‘tests’ ... OK
* checking tests ...
Running ‘runTests.R’
OK
* checking for unstated dependencies in vignettes ... OK
* checking package vignettes ... OK
* checking running R code from vignettes ... SKIPPED
* checking re-building of vignette outputs ... SKIPPED
* checking PDF version of manual ... OK
* DONE
Status: 1 NOTE
See
‘/Users/biocbuild/bbs-3.20-bioc/meat/geNetClassifier.Rcheck/00check.log’
for details.
geNetClassifier.Rcheck/00install.out
############################################################################## ############################################################################## ### ### Running command: ### ### /Library/Frameworks/R.framework/Resources/bin/R CMD INSTALL geNetClassifier ### ############################################################################## ############################################################################## * installing to library ‘/Library/Frameworks/R.framework/Versions/4.4-x86_64/Resources/library’ * installing *source* package ‘geNetClassifier’ ... ** using staged installation ** R ** data ** inst ** byte-compile and prepare package for lazy loading ** help *** installing help indices ** building package indices ** installing vignettes ** testing if installed package can be loaded from temporary location ** testing if installed package can be loaded from final location ** testing if installed package keeps a record of temporary installation path * DONE (geNetClassifier)
geNetClassifier.Rcheck/tests/runTests.Rout
R version 4.4.1 (2024-06-14) -- "Race for Your Life"
Copyright (C) 2024 The R Foundation for Statistical Computing
Platform: x86_64-apple-darwin20
R is free software and comes with ABSOLUTELY NO WARRANTY.
You are welcome to redistribute it under certain conditions.
Type 'license()' or 'licence()' for distribution details.
R is a collaborative project with many contributors.
Type 'contributors()' for more information and
'citation()' on how to cite R or R packages in publications.
Type 'demo()' for some demos, 'help()' for on-line help, or
'help.start()' for an HTML browser interface to help.
Type 'q()' to quit R.
> BiocGenerics:::testPackage("geNetClassifier")
Attaching package: 'BiocGenerics'
The following objects are masked from 'package:stats':
IQR, mad, sd, var, xtabs
The following objects are masked from 'package:base':
Filter, Find, Map, Position, Reduce, anyDuplicated, aperm, append,
as.data.frame, basename, cbind, colnames, dirname, do.call,
duplicated, eval, evalq, get, grep, grepl, intersect, is.unsorted,
lapply, mapply, match, mget, order, paste, pmax, pmax.int, pmin,
pmin.int, rank, rbind, rownames, sapply, saveRDS, setdiff, table,
tapply, union, unique, unsplit, which.max, which.min
Welcome to Bioconductor
Vignettes contain introductory material; view with
'browseVignettes()'. To cite Bioconductor, see
'citation("Biobase")', and for packages 'citation("pkgname")'.
22:28:47 - Filtering data and calculating the genes ranking...
Warning in plotExpressionProfiles(eset = myEset, genes = rownames(myEset), :
The argument 'sampleLabels' had to be converted into a factor.
Warning in plotExpressionProfiles(eset = myEset, genes = rownames(myEset), :
The data labels vector is not named, it will be assumed the labels are in order: the first label applies to the first sample...
RUNIT TEST PROTOCOL -- Tue Nov 19 22:28:47 2024
***********************************************
Number of test functions: 3
Number of errors: 0
Number of failures: 0
1 Test Suite :
geNetClassifier RUnit Tests - 3 test functions, 0 errors, 0 failures
Number of test functions: 3
Number of errors: 0
Number of failures: 0
Warning messages:
1: In geNetClassifier(matrix(sample(50000, 5 * 2), 5, 2), c(rep("one", :
The argument 'classification sampleLabels' had to be converted into a factor.
2: In geNetClassifier(matrix(sample(50000, 5 * 3), 5, 3), c(rep("one", :
The argument 'classification sampleLabels' had to be converted into a factor.
3: In geNetClassifier(matrix(sample(50000, 5 * 3), 5, 3), c(rep("one", :
The data labels vector is not named, it is assumed the labels are in order: the first label applies to the first sample...
4: In geNetClassifier(matrix(sample(50000, 5 * 3), 5, 3), c(rep("one", :
It is recommended to have the *same* number of samples in each class in order to obtain balanced external validation stats.
>
> proc.time()
user system elapsed
0.773 0.112 0.887
geNetClassifier.Rcheck/geNetClassifier-Ex.timings
| name | user | system | elapsed | |
| GeNetClassifierReturn-class | 0.439 | 0.052 | 0.494 | |
| GeneralizationError-class | 0.275 | 0.013 | 0.288 | |
| GenesNetwork-class | 1.853 | 0.641 | 2.531 | |
| GenesRanking-class | 0.481 | 0.028 | 0.510 | |
| calculateGenesRanking | 0.351 | 0.016 | 0.369 | |
| externalValidation.probMatrix | 0.435 | 0.031 | 0.465 | |
| externalValidation.stats | 0.402 | 0.020 | 0.424 | |
| gClasses-methods | 0.179 | 0.002 | 0.181 | |
| geNetClassifier | 0.095 | 0.012 | 0.147 | |
| geneSymbols | 0.051 | 0.001 | 0.052 | |
| genesDetails-methods | 0.244 | 0.009 | 0.254 | |
| getEdges-methods | 0.186 | 0.002 | 0.188 | |
| getNodes-methods | 0.282 | 0.008 | 0.290 | |
| getNumEdges-methods | 0.180 | 0.002 | 0.182 | |
| getNumNodes-methods | 0.185 | 0.003 | 0.190 | |
| getRanking-methods | 0.199 | 0.005 | 0.205 | |
| getSubNetwork-methods | 0.199 | 0.005 | 0.205 | |
| getTopRanking-methods | 0.191 | 0.005 | 0.197 | |
| leukemiasClassifier | 0.216 | 0.012 | 0.231 | |
| network2txt | 0.244 | 0.023 | 0.270 | |
| numGenes-methods | 0.182 | 0.003 | 0.186 | |
| numSignificantGenes-methods | 0.195 | 0.006 | 0.203 | |
| overview-methods | 0.217 | 0.014 | 0.230 | |
| plot.GeNetClassifierReturn | 2.362 | 0.411 | 2.816 | |
| plot.GenesRanking | 0.266 | 0.007 | 0.276 | |
| plotAssignments | 0.446 | 0.025 | 0.475 | |
| plotDiscriminantPower | 0.455 | 0.057 | 0.519 | |
| plotExpressionProfiles | 0.609 | 0.062 | 0.680 | |
| plotNetwork | 1.624 | 0.261 | 1.911 | |
| queryGeNetClassifier | 0.637 | 0.038 | 0.682 | |
| querySummary | 0.431 | 0.017 | 0.450 | |