| Back to Multiple platform build/check report for BioC 3.20: simplified long |
|
This page was generated on 2025-04-02 19:28 -0400 (Wed, 02 Apr 2025).
| Hostname | OS | Arch (*) | R version | Installed pkgs |
|---|---|---|---|---|
| nebbiolo2 | Linux (Ubuntu 24.04.1 LTS) | x86_64 | 4.4.3 (2025-02-28) -- "Trophy Case" | 4764 |
| palomino8 | Windows Server 2022 Datacenter | x64 | 4.4.3 (2025-02-28 ucrt) -- "Trophy Case" | 4495 |
| merida1 | macOS 12.7.5 Monterey | x86_64 | 4.4.3 (2025-02-28) -- "Trophy Case" | 4522 |
| kjohnson1 | macOS 13.6.6 Ventura | arm64 | 4.4.3 (2025-02-28) -- "Trophy Case" | 4449 |
| taishan | Linux (openEuler 24.03 LTS) | aarch64 | 4.4.3 (2025-02-28) -- "Trophy Case" | 4426 |
| Click on any hostname to see more info about the system (e.g. compilers) (*) as reported by 'uname -p', except on Windows and Mac OS X | ||||
| Package 969/2289 | Hostname | OS / Arch | INSTALL | BUILD | CHECK | BUILD BIN | ||||||||
| hiReadsProcessor 1.42.0 (landing page) Nirav V Malani
| nebbiolo2 | Linux (Ubuntu 24.04.1 LTS) / x86_64 | OK | OK | OK | |||||||||
| palomino8 | Windows Server 2022 Datacenter / x64 | ... NOT SUPPORTED ... | ||||||||||||
| merida1 | macOS 12.7.5 Monterey / x86_64 | OK | OK | OK | OK | |||||||||
| kjohnson1 | macOS 13.6.6 Ventura / arm64 | OK | OK | OK | OK | |||||||||
| taishan | Linux (openEuler 24.03 LTS) / aarch64 | OK | OK | OK | ||||||||||
|
To the developers/maintainers of the hiReadsProcessor package: - Allow up to 24 hours (and sometimes 48 hours) for your latest push to git@git.bioconductor.org:packages/hiReadsProcessor.git to reflect on this report. See Troubleshooting Build Report for more information. - Use the following Renviron settings to reproduce errors and warnings. - If 'R CMD check' started to fail recently on the Linux builder(s) over a missing dependency, add the missing dependency to 'Suggests:' in your DESCRIPTION file. See Renviron.bioc for more information. |
| Package: hiReadsProcessor |
| Version: 1.42.0 |
| Command: /home/biocbuild/bbs-3.20-bioc/R/bin/R CMD check --install=check:hiReadsProcessor.install-out.txt --library=/home/biocbuild/bbs-3.20-bioc/R/site-library --timings hiReadsProcessor_1.42.0.tar.gz |
| StartedAt: 2025-03-31 22:59:19 -0400 (Mon, 31 Mar 2025) |
| EndedAt: 2025-03-31 23:04:12 -0400 (Mon, 31 Mar 2025) |
| EllapsedTime: 293.4 seconds |
| RetCode: 0 |
| Status: OK |
| CheckDir: hiReadsProcessor.Rcheck |
| Warnings: 0 |
##############################################################################
##############################################################################
###
### Running command:
###
### /home/biocbuild/bbs-3.20-bioc/R/bin/R CMD check --install=check:hiReadsProcessor.install-out.txt --library=/home/biocbuild/bbs-3.20-bioc/R/site-library --timings hiReadsProcessor_1.42.0.tar.gz
###
##############################################################################
##############################################################################
* using log directory ‘/home/biocbuild/bbs-3.20-bioc/meat/hiReadsProcessor.Rcheck’
* using R version 4.4.3 (2025-02-28)
* using platform: x86_64-pc-linux-gnu
* R was compiled by
gcc (Ubuntu 13.3.0-6ubuntu2~24.04) 13.3.0
GNU Fortran (Ubuntu 13.3.0-6ubuntu2~24.04) 13.3.0
* running under: Ubuntu 24.04.2 LTS
* using session charset: UTF-8
* checking for file ‘hiReadsProcessor/DESCRIPTION’ ... OK
* this is package ‘hiReadsProcessor’ version ‘1.42.0’
* checking package namespace information ... OK
* checking package dependencies ... OK
* checking if this is a source package ... OK
* checking if there is a namespace ... OK
* checking for hidden files and directories ... NOTE
Found the following hidden files and directories:
.BBSoptions
These were most likely included in error. See section ‘Package
structure’ in the ‘Writing R Extensions’ manual.
* checking for portable file names ... OK
* checking for sufficient/correct file permissions ... OK
* checking whether package ‘hiReadsProcessor’ can be installed ... OK
* checking installed package size ... OK
* checking package directory ... OK
* checking ‘build’ directory ... OK
* checking DESCRIPTION meta-information ... OK
* checking top-level files ... OK
* checking for left-over files ... OK
* checking index information ... OK
* checking package subdirectories ... OK
* checking code files for non-ASCII characters ... OK
* checking R files for syntax errors ... OK
* checking whether the package can be loaded ... OK
* checking whether the package can be loaded with stated dependencies ... OK
* checking whether the package can be unloaded cleanly ... OK
* checking whether the namespace can be loaded with stated dependencies ... OK
* checking whether the namespace can be unloaded cleanly ... OK
* checking loading without being on the library search path ... OK
* checking dependencies in R code ... OK
* checking S3 generic/method consistency ... OK
* checking replacement functions ... OK
* checking foreign function calls ... OK
* checking R code for possible problems ... NOTE
chunkize: no visible global function definition for ‘breakInChunks’
chunkize: no visible global function definition for ‘detectCores’
clusterSites : <anonymous>: no visible binding for global variable
‘queryHits’
clusterSites: no visible binding for global variable ‘clusteredValue’
clusterSites: no visible binding for global variable
‘clusteredValue.freq’
crossOverCheck: no visible binding for global variable ‘queryHits’
decodeByBarcode: no visible global function definition for ‘metadata<-’
decodeByBarcode: no visible global function definition for ‘metadata’
extractSeqs : <anonymous>: no visible global function definition for
‘metadata’
extractSeqs : <anonymous> : <anonymous> : <anonymous>: no visible
global function definition for ‘IRanges’
extractSeqs : <anonymous> : <anonymous>: no visible global function
definition for ‘IRanges’
findBarcodes: no visible global function definition for ‘metadata<-’
findBarcodes: no visible global function definition for ‘metadata’
findIntegrations: no visible global function definition for
‘fasta.info’
findIntegrations : <anonymous>: no visible global function definition
for ‘IRanges’
findVector : <anonymous>: no visible global function definition for
‘IRanges’
pairUpAlignments : <anonymous>: no visible binding for global variable
‘queryHits’
pairwiseAlignSeqs: no visible global function definition for
‘IRangesList’
pairwiseAlignSeqs: no visible global function definition for ‘IRanges’
primerIDAlignSeqs: no visible global function definition for ‘IRanges’
primerIDAlignSeqs: no visible global function definition for
‘IRangesList’
pslToRangedObject: no visible global function definition for ‘IRanges’
read.BAMasPSL: no visible global function definition for ‘ScanBamParam’
read.BAMasPSL: no visible global function definition for ‘scanBamFlag’
read.BAMasPSL: no visible global function definition for ‘DataFrame’
read.SeqFolder: no visible global function definition for ‘SimpleList’
read.psl: no visible global function definition for ‘mclapply’
read.psl : <anonymous>: no visible binding for global variable
‘matches’
read.psl : <anonymous>: no visible binding for global variable
‘misMatches’
read.psl : <anonymous>: no visible binding for global variable
‘qBaseInsert’
read.psl : <anonymous>: no visible binding for global variable
‘tBaseInsert’
read.psl: no visible binding for global variable ‘matches’
read.psl: no visible binding for global variable ‘misMatches’
read.psl: no visible binding for global variable ‘qBaseInsert’
read.psl: no visible binding for global variable ‘tBaseInsert’
read.sampleInfo: no visible global function definition for ‘SimpleList’
splitSeqsToFiles: no visible global function definition for
‘fasta.info’
vpairwiseAlignSeqs: no visible global function definition for ‘Rle’
vpairwiseAlignSeqs: no visible global function definition for
‘runLength’
vpairwiseAlignSeqs: no visible global function definition for ‘IRanges’
vpairwiseAlignSeqs: no visible global function definition for
‘runValue’
Undefined global functions or variables:
DataFrame IRanges IRangesList Rle ScanBamParam SimpleList
breakInChunks clusteredValue clusteredValue.freq detectCores
fasta.info matches mclapply metadata metadata<- misMatches
qBaseInsert queryHits runLength runValue scanBamFlag tBaseInsert
* checking Rd files ... OK
* checking Rd metadata ... OK
* checking Rd cross-references ... OK
* checking for missing documentation entries ... OK
* checking for code/documentation mismatches ... OK
* checking Rd \usage sections ... OK
* checking Rd contents ... OK
* checking for unstated dependencies in examples ... OK
* checking contents of ‘data’ directory ... OK
* checking data for non-ASCII characters ... OK
* checking data for ASCII and uncompressed saves ... OK
* checking files in ‘vignettes’ ... OK
* checking examples ... OK
* checking for unstated dependencies in vignettes ... OK
* checking package vignettes ... OK
* checking re-building of vignette outputs ... OK
* checking PDF version of manual ... OK
* DONE
Status: 2 NOTEs
See
‘/home/biocbuild/bbs-3.20-bioc/meat/hiReadsProcessor.Rcheck/00check.log’
for details.
hiReadsProcessor.Rcheck/00install.out
############################################################################## ############################################################################## ### ### Running command: ### ### /home/biocbuild/bbs-3.20-bioc/R/bin/R CMD INSTALL hiReadsProcessor ### ############################################################################## ############################################################################## * installing to library ‘/home/biocbuild/bbs-3.20-bioc/R/site-library’ * installing *source* package ‘hiReadsProcessor’ ... ** using staged installation ** R ** data ** inst ** byte-compile and prepare package for lazy loading ** help *** installing help indices ** building package indices ** installing vignettes ** testing if installed package can be loaded from temporary location ** testing if installed package can be loaded from final location ** testing if installed package keeps a record of temporary installation path * DONE (hiReadsProcessor)
hiReadsProcessor.Rcheck/hiReadsProcessor-Ex.timings
| name | user | system | elapsed | |
| addFeature | 0.178 | 0.005 | 0.183 | |
| addListNameToReads | 1.136 | 0.002 | 1.138 | |
| annotateSites | 0 | 0 | 0 | |
| blatSeqs | 0 | 0 | 0 | |
| chunkize | 0.025 | 0.000 | 0.026 | |
| clusterSites | 0.284 | 0.008 | 0.291 | |
| crossOverCheck | 0.087 | 0.017 | 0.104 | |
| dereplicateReads | 0.037 | 0.005 | 0.042 | |
| doRCtest | 3.433 | 0.063 | 3.512 | |
| extractFeature | 0.141 | 0.072 | 0.121 | |
| extractSeqs | 0.342 | 0.020 | 0.363 | |
| findAndTrimSeq | 1.175 | 0.149 | 1.325 | |
| findBarcodes | 0.854 | 0.000 | 0.854 | |
| findIntegrations | 0 | 0 | 0 | |
| findLTRs | 0 | 0 | 0 | |
| findLinkers | 0.000 | 0.000 | 0.001 | |
| findPrimers | 0 | 0 | 0 | |
| findVector | 0 | 0 | 0 | |
| getIntegrationSites | 1.987 | 0.004 | 1.990 | |
| getSectorsForSamples | 0.078 | 0.007 | 0.084 | |
| getSonicAbund | 0.324 | 0.168 | 0.452 | |
| isuSites | 3.830 | 0.256 | 4.085 | |
| otuSites | 4.277 | 0.000 | 4.277 | |
| pairUpAlignments | 0 | 0 | 0 | |
| pairwiseAlignSeqs | 2.169 | 0.716 | 2.704 | |
| primerIDAlignSeqs | 3.337 | 0.462 | 3.704 | |
| pslCols | 0 | 0 | 0 | |
| pslToRangedObject | 0.158 | 0.001 | 0.158 | |
| read.BAMasPSL | 0 | 0 | 0 | |
| read.SeqFolder | 0.849 | 0.029 | 0.880 | |
| read.blast8 | 0 | 0 | 0 | |
| read.psl | 0 | 0 | 0 | |
| read.sampleInfo | 0.858 | 0.003 | 0.863 | |
| read.seqsFromSector | 0 | 0 | 0 | |
| removeReadsWithNs | 0.017 | 0.001 | 0.018 | |
| replicateReads | 0.041 | 0.000 | 0.041 | |
| sampleSummary | 0.562 | 0.005 | 0.567 | |
| splitByBarcode | 0.025 | 0.000 | 0.025 | |
| splitSeqsToFiles | 0.114 | 0.005 | 0.120 | |
| startgfServer | 0 | 0 | 0 | |
| trimSeqs | 0.021 | 0.001 | 0.022 | |
| vpairwiseAlignSeqs | 2.089 | 0.645 | 2.547 | |
| write.listedDNAStringSet | 0 | 0 | 0 | |
| write.psl | 0.017 | 0.002 | 0.019 | |