| Back to Multiple platform build/check report for BioC 3.20: simplified long |
|
This page was generated on 2025-04-02 19:29 -0400 (Wed, 02 Apr 2025).
| Hostname | OS | Arch (*) | R version | Installed pkgs |
|---|---|---|---|---|
| nebbiolo2 | Linux (Ubuntu 24.04.1 LTS) | x86_64 | 4.4.3 (2025-02-28) -- "Trophy Case" | 4764 |
| palomino8 | Windows Server 2022 Datacenter | x64 | 4.4.3 (2025-02-28 ucrt) -- "Trophy Case" | 4495 |
| merida1 | macOS 12.7.5 Monterey | x86_64 | 4.4.3 (2025-02-28) -- "Trophy Case" | 4522 |
| kjohnson1 | macOS 13.6.6 Ventura | arm64 | 4.4.3 (2025-02-28) -- "Trophy Case" | 4449 |
| taishan | Linux (openEuler 24.03 LTS) | aarch64 | 4.4.3 (2025-02-28) -- "Trophy Case" | 4426 |
| Click on any hostname to see more info about the system (e.g. compilers) (*) as reported by 'uname -p', except on Windows and Mac OS X | ||||
| Package 1871/2289 | Hostname | OS / Arch | INSTALL | BUILD | CHECK | BUILD BIN | ||||||||
| scDiagnostics 1.0.0 (landing page) Anthony Christidis
| nebbiolo2 | Linux (Ubuntu 24.04.1 LTS) / x86_64 | OK | OK | OK | |||||||||
| palomino8 | Windows Server 2022 Datacenter / x64 | OK | OK | OK | OK | |||||||||
| merida1 | macOS 12.7.5 Monterey / x86_64 | OK | OK | OK | OK | |||||||||
| kjohnson1 | macOS 13.6.6 Ventura / arm64 | OK | OK | OK | OK | |||||||||
| taishan | Linux (openEuler 24.03 LTS) / aarch64 | OK | OK | OK | ||||||||||
|
To the developers/maintainers of the scDiagnostics package: - Allow up to 24 hours (and sometimes 48 hours) for your latest push to git@git.bioconductor.org:packages/scDiagnostics.git to reflect on this report. See Troubleshooting Build Report for more information. - Use the following Renviron settings to reproduce errors and warnings. - If 'R CMD check' started to fail recently on the Linux builder(s) over a missing dependency, add the missing dependency to 'Suggests:' in your DESCRIPTION file. See Renviron.bioc for more information. |
| Package: scDiagnostics |
| Version: 1.0.0 |
| Command: /home/biocbuild/bbs-3.20-bioc/R/bin/R CMD check --install=check:scDiagnostics.install-out.txt --library=/home/biocbuild/bbs-3.20-bioc/R/site-library --timings scDiagnostics_1.0.0.tar.gz |
| StartedAt: 2025-04-01 01:55:01 -0400 (Tue, 01 Apr 2025) |
| EndedAt: 2025-04-01 02:04:38 -0400 (Tue, 01 Apr 2025) |
| EllapsedTime: 577.3 seconds |
| RetCode: 0 |
| Status: OK |
| CheckDir: scDiagnostics.Rcheck |
| Warnings: 0 |
##############################################################################
##############################################################################
###
### Running command:
###
### /home/biocbuild/bbs-3.20-bioc/R/bin/R CMD check --install=check:scDiagnostics.install-out.txt --library=/home/biocbuild/bbs-3.20-bioc/R/site-library --timings scDiagnostics_1.0.0.tar.gz
###
##############################################################################
##############################################################################
* using log directory ‘/home/biocbuild/bbs-3.20-bioc/meat/scDiagnostics.Rcheck’
* using R version 4.4.3 (2025-02-28)
* using platform: x86_64-pc-linux-gnu
* R was compiled by
gcc (Ubuntu 13.3.0-6ubuntu2~24.04) 13.3.0
GNU Fortran (Ubuntu 13.3.0-6ubuntu2~24.04) 13.3.0
* running under: Ubuntu 24.04.2 LTS
* using session charset: UTF-8
* checking for file ‘scDiagnostics/DESCRIPTION’ ... OK
* checking extension type ... Package
* this is package ‘scDiagnostics’ version ‘1.0.0’
* package encoding: UTF-8
* checking package namespace information ... OK
* checking package dependencies ... OK
* checking if this is a source package ... OK
* checking if there is a namespace ... OK
* checking for hidden files and directories ... OK
* checking for portable file names ... OK
* checking for sufficient/correct file permissions ... OK
* checking whether package ‘scDiagnostics’ can be installed ... OK
* checking installed package size ... OK
* checking package directory ... OK
* checking ‘build’ directory ... OK
* checking DESCRIPTION meta-information ... OK
* checking top-level files ... OK
* checking for left-over files ... OK
* checking index information ... OK
* checking package subdirectories ... OK
* checking code files for non-ASCII characters ... OK
* checking R files for syntax errors ... OK
* checking whether the package can be loaded ... OK
* checking whether the package can be loaded with stated dependencies ... OK
* checking whether the package can be unloaded cleanly ... OK
* checking whether the namespace can be loaded with stated dependencies ... OK
* checking whether the namespace can be unloaded cleanly ... OK
* checking loading without being on the library search path ... OK
* checking dependencies in R code ... OK
* checking S3 generic/method consistency ... OK
* checking replacement functions ... OK
* checking foreign function calls ... OK
* checking R code for possible problems ... OK
* checking Rd files ... OK
* checking Rd metadata ... OK
* checking Rd cross-references ... OK
* checking for missing documentation entries ... OK
* checking for code/documentation mismatches ... OK
* checking Rd \usage sections ... OK
* checking Rd contents ... OK
* checking for unstated dependencies in examples ... OK
* checking contents of ‘data’ directory ... OK
* checking data for non-ASCII characters ... OK
* checking LazyData ... NOTE
'LazyDataCompression' is specified without 'LazyData'
* checking data for ASCII and uncompressed saves ... OK
* checking files in ‘vignettes’ ... OK
* checking examples ... OK
Examples with CPU (user + system) or elapsed time > 5s
user system elapsed
plotCellTypeMDS 18.583 0.229 18.812
calculateCellDistances 14.446 0.402 14.349
calculateCramerPValue 8.999 0.783 9.784
calculateCellDistancesSimilarity 5.349 0.118 4.916
* checking for unstated dependencies in ‘tests’ ... OK
* checking tests ...
Running ‘testthat.R’
OK
* checking for unstated dependencies in vignettes ... OK
* checking package vignettes ... OK
* checking re-building of vignette outputs ... OK
* checking PDF version of manual ... OK
* DONE
Status: 1 NOTE
See
‘/home/biocbuild/bbs-3.20-bioc/meat/scDiagnostics.Rcheck/00check.log’
for details.
scDiagnostics.Rcheck/00install.out
############################################################################## ############################################################################## ### ### Running command: ### ### /home/biocbuild/bbs-3.20-bioc/R/bin/R CMD INSTALL scDiagnostics ### ############################################################################## ############################################################################## * installing to library ‘/home/biocbuild/bbs-3.20-bioc/R/site-library’ * installing *source* package ‘scDiagnostics’ ... ** using staged installation ** R ** data ** inst ** byte-compile and prepare package for lazy loading ** help *** installing help indices ** building package indices ** installing vignettes ** testing if installed package can be loaded from temporary location ** testing if installed package can be loaded from final location ** testing if installed package keeps a record of temporary installation path * DONE (scDiagnostics)
scDiagnostics.Rcheck/tests/testthat.Rout
R version 4.4.3 (2025-02-28) -- "Trophy Case"
Copyright (C) 2025 The R Foundation for Statistical Computing
Platform: x86_64-pc-linux-gnu
R is free software and comes with ABSOLUTELY NO WARRANTY.
You are welcome to redistribute it under certain conditions.
Type 'license()' or 'licence()' for distribution details.
R is a collaborative project with many contributors.
Type 'contributors()' for more information and
'citation()' on how to cite R or R packages in publications.
Type 'demo()' for some demos, 'help()' for on-line help, or
'help.start()' for an HTML browser interface to help.
Type 'q()' to quit R.
> # This file is part of the standard setup for testthat.
> # It is recommended that you do not modify it.
> #
> # Where should you do additional test configuration?
> # Learn more about the roles of various files in:
> # * https://r-pkgs.org/testing-design.html#sec-tests-files-overview
> # * https://testthat.r-lib.org/articles/special-files.html
>
> library(testthat)
> library(scDiagnostics)
>
> test_check("scDiagnostics")
[ FAIL 0 | WARN 0 | SKIP 0 | PASS 276 ]
>
> proc.time()
user system elapsed
130.296 7.538 129.756
scDiagnostics.Rcheck/scDiagnostics-Ex.timings
| name | user | system | elapsed | |
| boxplotPCA | 1.717 | 0.103 | 1.820 | |
| calculateAveragePairwiseCorrelation | 3.447 | 0.074 | 3.522 | |
| calculateCategorizationEntropy | 0.009 | 0.000 | 0.009 | |
| calculateCellDistances | 14.446 | 0.402 | 14.349 | |
| calculateCellDistancesSimilarity | 5.349 | 0.118 | 4.916 | |
| calculateCellSimilarityPCA | 1.930 | 0.055 | 1.476 | |
| calculateCramerPValue | 8.999 | 0.783 | 9.784 | |
| calculateDiscriminantSpace | 4.079 | 0.067 | 2.989 | |
| calculateHVGOverlap | 1.093 | 0.012 | 1.106 | |
| calculateHotellingPValue | 1.311 | 0.042 | 1.353 | |
| calculateNearestNeighborProbabilities | 3.248 | 0.008 | 3.256 | |
| calculateSIRSpace | 2.676 | 0.053 | 2.728 | |
| calculateVarImpOverlap | 3.996 | 0.049 | 2.500 | |
| calculateWassersteinDistance | 2.695 | 0.229 | 2.924 | |
| compareCCA | 1.065 | 0.010 | 1.074 | |
| comparePCA | 1.037 | 0.008 | 1.045 | |
| comparePCASubspace | 1.185 | 0.024 | 1.209 | |
| detectAnomaly | 2.417 | 0.054 | 1.891 | |
| histQCvsAnnotation | 0.521 | 0.004 | 0.525 | |
| plot.calculateWassersteinDistanceObject | 2.108 | 0.144 | 2.252 | |
| plotCellTypeMDS | 18.583 | 0.229 | 18.812 | |
| plotCellTypePCA | 1.444 | 0.038 | 1.482 | |
| plotGeneExpressionDimred | 1.300 | 0.014 | 1.314 | |
| plotGeneSetScores | 0.962 | 0.044 | 1.006 | |
| plotMarkerExpression | 0.524 | 0.015 | 0.538 | |
| plotPairwiseDistancesDensity | 1.993 | 0.165 | 2.157 | |
| plotQCvsAnnotation | 0.209 | 0.003 | 0.211 | |
| projectPCA | 0.296 | 0.013 | 0.309 | |
| projectSIR | 1.442 | 0.016 | 1.459 | |
| qc_data | 0.035 | 0.002 | 0.037 | |
| query_data | 0.030 | 0.004 | 0.034 | |
| reference_data | 0.075 | 0.002 | 0.077 | |
| regressPC | 1.630 | 0.048 | 1.680 | |