| Back to Multiple platform build/check report for BioC 3.20: simplified long | 
 | 
This page was generated on 2024-06-11 15:41 -0400 (Tue, 11 Jun 2024).
| Hostname | OS | Arch (*) | R version | Installed pkgs | 
|---|---|---|---|---|
| nebbiolo2 | Linux (Ubuntu 22.04.3 LTS) | x86_64 | 4.4.0 RC (2024-04-16 r86468) -- "Puppy Cup" | 4679 | 
| palomino4 | Windows Server 2022 Datacenter | x64 | 4.4.0 RC (2024-04-16 r86468 ucrt) -- "Puppy Cup" | 4414 | 
| merida1 | macOS 12.7.4 Monterey | x86_64 | 4.4.0 Patched (2024-04-24 r86482) -- "Puppy Cup" | 4441 | 
| kjohnson1 | macOS 13.6.6 Ventura | arm64 | 4.4.0 Patched (2024-04-24 r86482) -- "Puppy Cup" | 4394 | 
| Click on any hostname to see more info about the system (e.g. compilers) (*) as reported by 'uname -p', except on Windows and Mac OS X | ||||
| Package 1970/2239 | Hostname | OS / Arch | INSTALL | BUILD | CHECK | BUILD BIN | ||||||||
| sparseMatrixStats 1.17.0  (landing page) Constantin Ahlmann-Eltze 
 | nebbiolo2 | Linux (Ubuntu 22.04.3 LTS) / x86_64 | OK | OK | OK |  | ||||||||
| palomino4 | Windows Server 2022 Datacenter / x64 | OK | OK | OK | OK |  | ||||||||
| merida1 | macOS 12.7.4 Monterey / x86_64 | OK | OK | OK | OK |  | ||||||||
| kjohnson1 | macOS 13.6.6 Ventura / arm64 | OK | OK | OK | OK |  | ||||||||
| To the developers/maintainers of the sparseMatrixStats package: - Allow up to 24 hours (and sometimes 48 hours) for your latest push to git@git.bioconductor.org:packages/sparseMatrixStats.git to reflect on this report. See Troubleshooting Build Report for more information. - Use the following Renviron settings to reproduce errors and warnings. - If 'R CMD check' started to fail recently on the Linux builder(s) over a missing dependency, add the missing dependency to 'Suggests:' in your DESCRIPTION file. See Renviron.bioc for more information. | 
| Package: sparseMatrixStats | 
| Version: 1.17.0 | 
| Command: rm -rf sparseMatrixStats.buildbin-libdir && mkdir sparseMatrixStats.buildbin-libdir && F:\biocbuild\bbs-3.20-bioc\R\bin\R.exe CMD INSTALL --build --library=sparseMatrixStats.buildbin-libdir sparseMatrixStats_1.17.0.tar.gz | 
| StartedAt: 2024-06-10 15:12:36 -0400 (Mon, 10 Jun 2024) | 
| EndedAt: 2024-06-10 15:13:56 -0400 (Mon, 10 Jun 2024) | 
| EllapsedTime: 80.0 seconds | 
| RetCode: 0 | 
| Status: OK | 
| PackageFile: sparseMatrixStats_1.17.0.zip | 
| PackageFileSize: 1.404 MiB | 
##############################################################################
##############################################################################
###
### Running command:
###
###   rm -rf sparseMatrixStats.buildbin-libdir && mkdir sparseMatrixStats.buildbin-libdir && F:\biocbuild\bbs-3.20-bioc\R\bin\R.exe CMD INSTALL --build --library=sparseMatrixStats.buildbin-libdir sparseMatrixStats_1.17.0.tar.gz
###
##############################################################################
##############################################################################
* installing *source* package 'sparseMatrixStats' ...
** using staged installation
** libs
using C++ compiler: 'G__~1.EXE (GCC) 13.2.0'
using C++11
g++  -std=gnu++11 -I"F:/biocbuild/bbs-3.20-bioc/R/include" -DNDEBUG  -I'F:/biocbuild/bbs-3.20-bioc/R/library/Rcpp/include'   -I"C:/rtools44/x86_64-w64-mingw32.static.posix/include"     -O2 -Wall  -mfpmath=sse -msse2 -mstackrealign  -c RcppExports.cpp -o RcppExports.o
g++  -std=gnu++11 -I"F:/biocbuild/bbs-3.20-bioc/R/include" -DNDEBUG  -I'F:/biocbuild/bbs-3.20-bioc/R/library/Rcpp/include'   -I"C:/rtools44/x86_64-w64-mingw32.static.posix/include"     -O2 -Wall  -mfpmath=sse -msse2 -mstackrealign  -c SparseMatrixView.cpp -o SparseMatrixView.o
g++  -std=gnu++11 -I"F:/biocbuild/bbs-3.20-bioc/R/include" -DNDEBUG  -I'F:/biocbuild/bbs-3.20-bioc/R/library/Rcpp/include'   -I"C:/rtools44/x86_64-w64-mingw32.static.posix/include"     -O2 -Wall  -mfpmath=sse -msse2 -mstackrealign  -c methods.cpp -o methods.o
In file included from methods.cpp:6:
quantile.h: In instantiation of 'double quantile_sparse_impl(T, int, double) [with T = VectorSubsetView<14>]':
quantile.h:85:58:   required from here
quantile.h:35:20: warning: comparison of integer expressions of different signedness: 'int' and 'std::vector<double>::size_type' {aka 'long long unsigned int'} [-Wsign-compare]
   35 |   for(int i = 0; i < sorted_values.size() + number_of_zeros; i++){
      |                  ~~^~~~~~~~~~~~~~~~~~~~~~~~~~~~~~~~~~~~~~~~
methods.cpp: In instantiation of 'double colOrderStats::operator()(V&, R&, int) const [with V = SkipNAVectorSubsetView<14>; R = SkipNAVectorSubsetView<13>]':
methods.cpp:25:18:   required from 'Rcpp::NumericVector reduce_matrix_double(Rcpp::S4, bool, Functor) [with Functor = colOrderStats; Rcpp::NumericVector = Rcpp::Vector<14, Rcpp::PreserveStorage>; Rcpp::S4 = Rcpp::S4_Impl<Rcpp::PreserveStorage>]'
methods.cpp:510:30:   required from here
methods.cpp:475:22: warning: comparison of integer expressions of different signedness: 'int' and 'std::vector<double>::size_type' {aka 'long long unsigned int'} [-Wsign-compare]
  475 |     for(int i = 0; i < sorted_values.size() + number_of_zeros; i++){
      |                    ~~^~~~~~~~~~~~~~~~~~~~~~~~~~~~~~~~~~~~~~~~
methods.cpp: In instantiation of 'double colOrderStats::operator()(V&, R&, int) const [with V = VectorSubsetView<14>; R = VectorSubsetView<13>]':
methods.cpp:30:18:   required from 'Rcpp::NumericVector reduce_matrix_double(Rcpp::S4, bool, Functor) [with Functor = colOrderStats; Rcpp::NumericVector = Rcpp::Vector<14, Rcpp::PreserveStorage>; Rcpp::S4 = Rcpp::S4_Impl<Rcpp::PreserveStorage>]'
methods.cpp:510:30:   required from here
methods.cpp:475:22: warning: comparison of integer expressions of different signedness: 'int' and 'std::vector<double>::size_type' {aka 'long long unsigned int'} [-Wsign-compare]
quantile.h: In instantiation of 'double quantile_sparse_impl(T, int, double) [with T = SkipNAVectorSubsetView<14>]':
methods.cpp:269:32:   required from 'double colMedians::operator()(V&, R&, int) const [with V = SkipNAVectorSubsetView<14>; R = SkipNAVectorSubsetView<13>]'
methods.cpp:25:18:   required from 'Rcpp::NumericVector reduce_matrix_double(Rcpp::S4, bool, Functor) [with Functor = colMedians; Rcpp::NumericVector = Rcpp::Vector<14, Rcpp::PreserveStorage>; Rcpp::S4 = Rcpp::S4_Impl<Rcpp::PreserveStorage>]'
methods.cpp:277:30:   required from here
quantile.h:35:20: warning: comparison of integer expressions of different signedness: 'int' and 'std::vector<double>::size_type' {aka 'long long unsigned int'} [-Wsign-compare]
   35 |   for(int i = 0; i < sorted_values.size() + number_of_zeros; i++){
      |                  ~~^~~~~~~~~~~~~~~~~~~~~~~~~~~~~~~~~~~~~~~~
g++  -std=gnu++11 -I"F:/biocbuild/bbs-3.20-bioc/R/include" -DNDEBUG  -I'F:/biocbuild/bbs-3.20-bioc/R/library/Rcpp/include'   -I"C:/rtools44/x86_64-w64-mingw32.static.posix/include"     -O2 -Wall  -mfpmath=sse -msse2 -mstackrealign  -c row_methods.cpp -o row_methods.o
g++ -shared -s -static-libgcc -o sparseMatrixStats.dll tmp.def RcppExports.o SparseMatrixView.o methods.o row_methods.o -LC:/rtools44/x86_64-w64-mingw32.static.posix/lib/x64 -LC:/rtools44/x86_64-w64-mingw32.static.posix/lib -LF:/biocbuild/bbs-3.20-bioc/R/bin/x64 -lR
installing to F:/biocbuild/bbs-3.20-bioc/meat/sparseMatrixStats.buildbin-libdir/00LOCK-sparseMatrixStats/00new/sparseMatrixStats/libs/x64
** R
** inst
** byte-compile and prepare package for lazy loading
** help
*** installing help indices
*** copying figures
** building package indices
** installing vignettes
** testing if installed package can be loaded from temporary location
** testing if installed package can be loaded from final location
** testing if installed package keeps a record of temporary installation path
* MD5 sums
packaged installation of 'sparseMatrixStats' as sparseMatrixStats_1.17.0.zip
* DONE (sparseMatrixStats)