| Back to Multiple platform build/check report for BioC 3.20: simplified long | 
 | 
This page was generated on 2025-04-02 19:36 -0400 (Wed, 02 Apr 2025).
| Hostname | OS | Arch (*) | R version | Installed pkgs | 
|---|---|---|---|---|
| nebbiolo2 | Linux (Ubuntu 24.04.1 LTS) | x86_64 | 4.4.3 (2025-02-28) -- "Trophy Case" | 4764 | 
| palomino8 | Windows Server 2022 Datacenter | x64 | 4.4.3 (2025-02-28 ucrt) -- "Trophy Case" | 4495 | 
| merida1 | macOS 12.7.5 Monterey | x86_64 | 4.4.3 (2025-02-28) -- "Trophy Case" | 4522 | 
| kjohnson1 | macOS 13.6.6 Ventura | arm64 | 4.4.3 (2025-02-28) -- "Trophy Case" | 4449 | 
| taishan | Linux (openEuler 24.03 LTS) | aarch64 | 4.4.3 (2025-02-28) -- "Trophy Case" | 4426 | 
| Click on any hostname to see more info about the system (e.g. compilers) (*) as reported by 'uname -p', except on Windows and Mac OS X | ||||
| Package 2011/2289 | Hostname | OS / Arch | INSTALL | BUILD | CHECK | BUILD BIN | ||||||||
| sparseMatrixStats 1.18.0  (landing page) Constantin Ahlmann-Eltze 
 | nebbiolo2 | Linux (Ubuntu 24.04.1 LTS) / x86_64 | OK | OK | OK |  | ||||||||
| palomino8 | Windows Server 2022 Datacenter / x64 | OK | OK | OK | OK |  | ||||||||
| merida1 | macOS 12.7.5 Monterey / x86_64 | OK | OK | OK | OK |  | ||||||||
| kjohnson1 | macOS 13.6.6 Ventura / arm64 | OK | OK | OK | OK |  | ||||||||
| taishan | Linux (openEuler 24.03 LTS) / aarch64 | OK | OK | OK | ||||||||||
| To the developers/maintainers of the sparseMatrixStats package: - Allow up to 24 hours (and sometimes 48 hours) for your latest push to git@git.bioconductor.org:packages/sparseMatrixStats.git to reflect on this report. See Troubleshooting Build Report for more information. - Use the following Renviron settings to reproduce errors and warnings. - If 'R CMD check' started to fail recently on the Linux builder(s) over a missing dependency, add the missing dependency to 'Suggests:' in your DESCRIPTION file. See Renviron.bioc for more information. - See Martin Grigorov's blog post for how to debug Linux ARM64 related issues on a x86_64 host. | 
| Package: sparseMatrixStats | 
| Version: 1.18.0 | 
| Command: /home/biocbuild/R/R/bin/R CMD INSTALL sparseMatrixStats | 
| StartedAt: 2025-03-31 20:14:19 -0000 (Mon, 31 Mar 2025) | 
| EndedAt: 2025-03-31 20:15:19 -0000 (Mon, 31 Mar 2025) | 
| EllapsedTime: 60.6 seconds | 
| RetCode: 0 | 
| Status: OK | 
##############################################################################
##############################################################################
###
### Running command:
###
###   /home/biocbuild/R/R/bin/R CMD INSTALL sparseMatrixStats
###
##############################################################################
##############################################################################
* installing to library ‘/home/biocbuild/R/R-4.4.3/site-library’
* installing *source* package ‘sparseMatrixStats’ ...
** using staged installation
** libs
using C++ compiler: ‘aarch64-unknown-linux-gnu-g++ (GCC) 14.2.0’
using C++11
/opt/ohpc/pub/compiler/gcc/14.2.0/bin/aarch64-unknown-linux-gnu-g++ -std=gnu++11 -I"/home/biocbuild/R/R-4.4.3/include" -DNDEBUG  -I'/home/biocbuild/R/R-4.4.3/site-library/Rcpp/include' -I/usr/local/include    -fPIC  -g -O2  -Wall  -c RcppExports.cpp -o RcppExports.o
/opt/ohpc/pub/compiler/gcc/14.2.0/bin/aarch64-unknown-linux-gnu-g++ -std=gnu++11 -I"/home/biocbuild/R/R-4.4.3/include" -DNDEBUG  -I'/home/biocbuild/R/R-4.4.3/site-library/Rcpp/include' -I/usr/local/include    -fPIC  -g -O2  -Wall  -c SparseMatrixView.cpp -o SparseMatrixView.o
/opt/ohpc/pub/compiler/gcc/14.2.0/bin/aarch64-unknown-linux-gnu-g++ -std=gnu++11 -I"/home/biocbuild/R/R-4.4.3/include" -DNDEBUG  -I'/home/biocbuild/R/R-4.4.3/site-library/Rcpp/include' -I/usr/local/include    -fPIC  -g -O2  -Wall  -c methods.cpp -o methods.o
In file included from methods.cpp:6:
quantile.h: In instantiation of ‘double quantile_sparse_impl(T, int, double) [with T = VectorSubsetView<14>]’:
quantile.h:85:58:   required from here
   85 |   return quantile_sparse_impl<VectorSubsetView<REALSXP> >(vsv, number_of_zeros, prob);
      |          ~~~~~~~~~~~~~~~~~~~~~~~~~~~~~~~~~~~~~~~~~~~~~~~~^~~~~~~~~~~~~~~~~~~~~~~~~~~~
quantile.h:35:20: warning: comparison of integer expressions of different signedness: ‘int’ and ‘std::vector<double>::size_type’ {aka ‘long unsigned int’} [-Wsign-compare]
   35 |   for(int i = 0; i < sorted_values.size() + number_of_zeros; i++){
      |                  ~~^~~~~~~~~~~~~~~~~~~~~~~~~~~~~~~~~~~~~~~~
methods.cpp: In instantiation of ‘double colOrderStats::operator()(V&, R&, int) const [with V = SkipNAVectorSubsetView<14>; R = SkipNAVectorSubsetView<13>]’:
methods.cpp:25:18:   required from ‘Rcpp::NumericVector reduce_matrix_double(Rcpp::S4, bool, Functor) [with Functor = colOrderStats; Rcpp::NumericVector = Rcpp::Vector<14, Rcpp::PreserveStorage>; Rcpp::S4 = Rcpp::S4_Impl<Rcpp::PreserveStorage>]’
   25 |         return op(values_wrapper, row_indices_wrapper, col.number_of_zeros);
      |                ~~^~~~~~~~~~~~~~~~~~~~~~~~~~~~~~~~~~~~~~~~~~~~~~~~~~~~~~~~~~
methods.cpp:510:30:   required from here
  510 |   return reduce_matrix_double(matrix, na_rm, colOrderStats(na_rm, which));
      |          ~~~~~~~~~~~~~~~~~~~~^~~~~~~~~~~~~~~~~~~~~~~~~~~~~~~~~~~~~~~~~~~~
methods.cpp:475:22: warning: comparison of integer expressions of different signedness: ‘int’ and ‘std::vector<double>::size_type’ {aka ‘long unsigned int’} [-Wsign-compare]
  475 |     for(int i = 0; i < sorted_values.size() + number_of_zeros; i++){
      |                    ~~^~~~~~~~~~~~~~~~~~~~~~~~~~~~~~~~~~~~~~~~
methods.cpp: In instantiation of ‘double colOrderStats::operator()(V&, R&, int) const [with V = VectorSubsetView<14>; R = VectorSubsetView<13>]’:
methods.cpp:30:18:   required from ‘Rcpp::NumericVector reduce_matrix_double(Rcpp::S4, bool, Functor) [with Functor = colOrderStats; Rcpp::NumericVector = Rcpp::Vector<14, Rcpp::PreserveStorage>; Rcpp::S4 = Rcpp::S4_Impl<Rcpp::PreserveStorage>]’
   30 |         return op(col.values, col.row_indices, col.number_of_zeros);
      |                ~~^~~~~~~~~~~~~~~~~~~~~~~~~~~~~~~~~~~~~~~~~~~~~~~~~~
methods.cpp:510:30:   required from here
  510 |   return reduce_matrix_double(matrix, na_rm, colOrderStats(na_rm, which));
      |          ~~~~~~~~~~~~~~~~~~~~^~~~~~~~~~~~~~~~~~~~~~~~~~~~~~~~~~~~~~~~~~~~
methods.cpp:475:22: warning: comparison of integer expressions of different signedness: ‘int’ and ‘std::vector<double>::size_type’ {aka ‘long unsigned int’} [-Wsign-compare]
  475 |     for(int i = 0; i < sorted_values.size() + number_of_zeros; i++){
      |                    ~~^~~~~~~~~~~~~~~~~~~~~~~~~~~~~~~~~~~~~~~~
quantile.h: In instantiation of ‘double quantile_sparse_impl(T, int, double) [with T = SkipNAVectorSubsetView<14>]’:
methods.cpp:269:32:   required from ‘double colMedians::operator()(V&, R&, int) const [with V = SkipNAVectorSubsetView<14>; R = SkipNAVectorSubsetView<13>]’
  269 |     return quantile_sparse_impl(values, number_of_zeros, 0.5);
      |            ~~~~~~~~~~~~~~~~~~~~^~~~~~~~~~~~~~~~~~~~~~~~~~~~~~
methods.cpp:25:18:   required from ‘Rcpp::NumericVector reduce_matrix_double(Rcpp::S4, bool, Functor) [with Functor = colMedians; Rcpp::NumericVector = Rcpp::Vector<14, Rcpp::PreserveStorage>; Rcpp::S4 = Rcpp::S4_Impl<Rcpp::PreserveStorage>]’
   25 |         return op(values_wrapper, row_indices_wrapper, col.number_of_zeros);
      |                ~~^~~~~~~~~~~~~~~~~~~~~~~~~~~~~~~~~~~~~~~~~~~~~~~~~~~~~~~~~~
methods.cpp:277:30:   required from here
  277 |   return reduce_matrix_double(matrix, na_rm, colMedians(na_rm));
      |          ~~~~~~~~~~~~~~~~~~~~^~~~~~~~~~~~~~~~~~~~~~~~~~~~~~~~~~
quantile.h:35:20: warning: comparison of integer expressions of different signedness: ‘int’ and ‘std::vector<double>::size_type’ {aka ‘long unsigned int’} [-Wsign-compare]
   35 |   for(int i = 0; i < sorted_values.size() + number_of_zeros; i++){
      |                  ~~^~~~~~~~~~~~~~~~~~~~~~~~~~~~~~~~~~~~~~~~
/opt/ohpc/pub/compiler/gcc/14.2.0/bin/aarch64-unknown-linux-gnu-g++ -std=gnu++11 -I"/home/biocbuild/R/R-4.4.3/include" -DNDEBUG  -I'/home/biocbuild/R/R-4.4.3/site-library/Rcpp/include' -I/usr/local/include    -fPIC  -g -O2  -Wall  -c row_methods.cpp -o row_methods.o
/opt/ohpc/pub/compiler/gcc/14.2.0/bin/aarch64-unknown-linux-gnu-g++ -std=gnu++11 -shared -L/home/biocbuild/R/R-4.4.3/lib -L/usr/local/lib -o sparseMatrixStats.so RcppExports.o SparseMatrixView.o methods.o row_methods.o -L/home/biocbuild/R/R-4.4.3/lib -lR
installing to /home/biocbuild/R/R-4.4.3/site-library/00LOCK-sparseMatrixStats/00new/sparseMatrixStats/libs
** R
** byte-compile and prepare package for lazy loading
** help
*** installing help indices
*** copying figures
** building package indices
** installing vignettes
** testing if installed package can be loaded from temporary location
** checking absolute paths in shared objects and dynamic libraries
** testing if installed package can be loaded from final location
** testing if installed package keeps a record of temporary installation path
* DONE (sparseMatrixStats)