| Back to Multiple platform build/check report for BioC 3.20: simplified long | 
 | 
This page was generated on 2024-11-20 12:07 -0500 (Wed, 20 Nov 2024).
| Hostname | OS | Arch (*) | R version | Installed pkgs | 
|---|---|---|---|---|
| teran2 | Linux (Ubuntu 24.04.1 LTS) | x86_64 | 4.4.2 (2024-10-31) -- "Pile of Leaves" | 4481 | 
| nebbiolo2 | Linux (Ubuntu 24.04.1 LTS) | x86_64 | 4.4.2 (2024-10-31) -- "Pile of Leaves" | 4479 | 
| palomino8 | Windows Server 2022 Datacenter | x64 | 4.4.2 (2024-10-31 ucrt) -- "Pile of Leaves" | 4359 | 
| lconway | macOS 12.7.1 Monterey | x86_64 | 4.4.1 (2024-06-14) -- "Race for Your Life" | 4539 | 
| kunpeng2 | Linux (openEuler 22.03 LTS-SP1) | aarch64 | 4.4.1 (2024-06-14) -- "Race for Your Life" | 4493 | 
| Click on any hostname to see more info about the system (e.g. compilers) (*) as reported by 'uname -p', except on Windows and Mac OS X | ||||
| Package 2079/2289 | Hostname | OS / Arch | INSTALL | BUILD | CHECK | BUILD BIN | ||||||||
| structToolbox 1.18.0  (landing page) Gavin Rhys Lloyd 
 | teran2 | Linux (Ubuntu 24.04.1 LTS) / x86_64 | OK | OK | OK |  | ||||||||
| nebbiolo2 | Linux (Ubuntu 24.04.1 LTS) / x86_64 | OK | OK | OK | ||||||||||
| palomino8 | Windows Server 2022 Datacenter / x64 | OK | OK | OK | OK |  | ||||||||
| lconway | macOS 12.7.1 Monterey / x86_64 | OK | OK | OK | OK |  | ||||||||
| kunpeng2 | Linux (openEuler 22.03 LTS-SP1) / aarch64 | OK | OK | OK | ||||||||||
| To the developers/maintainers of the structToolbox package: - Allow up to 24 hours (and sometimes 48 hours) for your latest push to git@git.bioconductor.org:packages/structToolbox.git to reflect on this report. See Troubleshooting Build Report for more information. - Use the following Renviron settings to reproduce errors and warnings. - If 'R CMD check' started to fail recently on the Linux builder(s) over a missing dependency, add the missing dependency to 'Suggests:' in your DESCRIPTION file. See Renviron.bioc for more information. | 
| Package: structToolbox | 
| Version: 1.18.0 | 
| Command: /Library/Frameworks/R.framework/Resources/bin/R CMD check --install=check:structToolbox.install-out.txt --library=/Library/Frameworks/R.framework/Resources/library --no-vignettes --timings structToolbox_1.18.0.tar.gz | 
| StartedAt: 2024-11-20 03:10:55 -0500 (Wed, 20 Nov 2024) | 
| EndedAt: 2024-11-20 03:20:56 -0500 (Wed, 20 Nov 2024) | 
| EllapsedTime: 601.4 seconds | 
| RetCode: 0 | 
| Status: OK | 
| CheckDir: structToolbox.Rcheck | 
| Warnings: 0 | 
##############################################################################
##############################################################################
###
### Running command:
###
###   /Library/Frameworks/R.framework/Resources/bin/R CMD check --install=check:structToolbox.install-out.txt --library=/Library/Frameworks/R.framework/Resources/library --no-vignettes --timings structToolbox_1.18.0.tar.gz
###
##############################################################################
##############################################################################
* using log directory ‘/Users/biocbuild/bbs-3.20-bioc/meat/structToolbox.Rcheck’
* using R version 4.4.1 (2024-06-14)
* using platform: x86_64-apple-darwin20
* R was compiled by
    Apple clang version 14.0.0 (clang-1400.0.29.202)
    GNU Fortran (GCC) 12.2.0
* running under: macOS Monterey 12.7.6
* using session charset: UTF-8
* using option ‘--no-vignettes’
* checking for file ‘structToolbox/DESCRIPTION’ ... OK
* checking extension type ... Package
* this is package ‘structToolbox’ version ‘1.18.0’
* package encoding: UTF-8
* checking package namespace information ... OK
* checking package dependencies ...Warning: unable to access index for repository https://CRAN.R-project.org/src/contrib:
  cannot open URL 'https://CRAN.R-project.org/src/contrib/PACKAGES'
 OK
* checking if this is a source package ... OK
* checking if there is a namespace ... OK
* checking for hidden files and directories ... OK
* checking for portable file names ... OK
* checking for sufficient/correct file permissions ... OK
* checking whether package ‘structToolbox’ can be installed ... OK
* checking installed package size ... OK
* checking package directory ... OK
* checking ‘build’ directory ... OK
* checking DESCRIPTION meta-information ... OK
* checking top-level files ... OK
* checking for left-over files ... OK
* checking index information ... OK
* checking package subdirectories ... OK
* checking code files for non-ASCII characters ... OK
* checking R files for syntax errors ... OK
* checking whether the package can be loaded ... OK
* checking whether the package can be loaded with stated dependencies ... OK
* checking whether the package can be unloaded cleanly ... OK
* checking whether the namespace can be loaded with stated dependencies ... OK
* checking whether the namespace can be unloaded cleanly ... OK
* checking dependencies in R code ... OK
* checking S3 generic/method consistency ... OK
* checking replacement functions ... OK
* checking foreign function calls ... OK
* checking R code for possible problems ... OK
* checking Rd files ... OK
* checking Rd metadata ... OK
* checking Rd cross-references ... OK
* checking for missing documentation entries ... OK
* checking for code/documentation mismatches ... OK
* checking Rd \usage sections ... OK
* checking Rd contents ... OK
* checking for unstated dependencies in examples ... OK
* checking R/sysdata.rda ... OK
* checking files in ‘vignettes’ ... OK
* checking examples ... OK
Examples with CPU (user + system) or elapsed time > 5s
                  user system elapsed
fold_change_int 12.986  0.041  13.070
fold_change      9.235  0.064   9.343
fisher_exact     8.270  0.041   8.342
fs_line          5.423  0.110   5.549
* checking for unstated dependencies in ‘tests’ ... OK
* checking tests ...
  Running ‘testthat.R’
 OK
* checking for unstated dependencies in vignettes ... OK
* checking package vignettes ... OK
* checking running R code from vignettes ... SKIPPED
* checking re-building of vignette outputs ... SKIPPED
* checking PDF version of manual ... OK
* DONE
Status: OK
structToolbox.Rcheck/00install.out
############################################################################## ############################################################################## ### ### Running command: ### ### /Library/Frameworks/R.framework/Resources/bin/R CMD INSTALL structToolbox ### ############################################################################## ############################################################################## * installing to library ‘/Library/Frameworks/R.framework/Versions/4.4-x86_64/Resources/library’ * installing *source* package ‘structToolbox’ ... ** using staged installation ** R ** inst ** byte-compile and prepare package for lazy loading ** help *** installing help indices ** building package indices ** installing vignettes ** testing if installed package can be loaded from temporary location ** testing if installed package can be loaded from final location ** testing if installed package keeps a record of temporary installation path * DONE (structToolbox)
structToolbox.Rcheck/tests/testthat.Rout
R version 4.4.1 (2024-06-14) -- "Race for Your Life"
Copyright (C) 2024 The R Foundation for Statistical Computing
Platform: x86_64-apple-darwin20
R is free software and comes with ABSOLUTELY NO WARRANTY.
You are welcome to redistribute it under certain conditions.
Type 'license()' or 'licence()' for distribution details.
R is a collaborative project with many contributors.
Type 'contributors()' for more information and
'citation()' on how to cite R or R packages in publications.
Type 'demo()' for some demos, 'help()' for on-line help, or
'help.start()' for an HTML browser interface to help.
Type 'q()' to quit R.
> library(testthat)
> library(ggplot2)
> library(structToolbox)
Loading required package: struct
> 
> test_check("structToolbox")
[ FAIL 0 | WARN 6 | SKIP 0 | PASS 166 ]
[ FAIL 0 | WARN 6 | SKIP 0 | PASS 166 ]
> 
> proc.time()
   user  system elapsed 
138.059   1.501 140.143 
structToolbox.Rcheck/structToolbox-Ex.timings
| name | user | system | elapsed | |
| ANOVA | 0.186 | 0.006 | 0.194 | |
| AUC | 1.641 | 0.078 | 1.723 | |
| DFA | 0.165 | 0.001 | 0.165 | |
| DatasetExperiment_boxplot | 1.250 | 0.053 | 1.306 | |
| DatasetExperiment_dist | 1.028 | 0.080 | 1.113 | |
| DatasetExperiment_factor_boxplot | 0.182 | 0.004 | 0.188 | |
| DatasetExperiment_heatmap | 0.329 | 0.015 | 0.346 | |
| HCA | 0.060 | 0.003 | 0.063 | |
| HSD | 0.246 | 0.017 | 0.296 | |
| HSDEM | 0.419 | 0.020 | 0.447 | |
| MTBLS79_DatasetExperiment | 0.001 | 0.000 | 0.001 | |
| OPLSDA | 0.009 | 0.000 | 0.009 | |
| OPLSR | 0.012 | 0.000 | 0.012 | |
| PCA | 0.004 | 0.000 | 0.003 | |
| PLSDA | 0.02 | 0.00 | 0.02 | |
| PLSR | 0.007 | 0.001 | 0.008 | |
| SVM | 0.021 | 0.001 | 0.022 | |
| as_data_frame | 0.102 | 0.001 | 0.104 | |
| autoscale | 0.062 | 0.001 | 0.063 | |
| balanced_accuracy | 1.443 | 0.013 | 1.462 | |
| blank_filter | 0.306 | 0.016 | 0.326 | |
| blank_filter_hist | 0.001 | 0.000 | 0.001 | |
| bootstrap | 0.014 | 0.000 | 0.014 | |
| calculate | 0.005 | 0.000 | 0.005 | |
| chart_plot | 0.022 | 0.000 | 0.024 | |
| classical_lsq | 0.266 | 0.002 | 0.270 | |
| compare_dist | 3.522 | 0.240 | 3.777 | |
| confounders_clsq | 2.391 | 0.018 | 2.419 | |
| confounders_lsq_barchart | 2.708 | 0.024 | 2.746 | |
| confounders_lsq_boxplot | 2.496 | 0.019 | 2.524 | |
| constant_sum_norm | 0.012 | 0.000 | 0.012 | |
| corr_coef | 0.231 | 0.002 | 0.235 | |
| dfa_scores_plot | 0.566 | 0.006 | 0.574 | |
| dratio_filter | 0.212 | 0.005 | 0.217 | |
| equal_split | 0.108 | 0.001 | 0.109 | |
| feature_boxplot | 0.026 | 0.000 | 0.028 | |
| feature_profile | 0.304 | 0.006 | 0.310 | |
| feature_profile_array | 0.391 | 0.006 | 0.400 | |
| filter_by_name | 0.025 | 0.000 | 0.026 | |
| filter_na_count | 0.820 | 0.046 | 0.869 | |
| filter_smeta | 0.051 | 0.001 | 0.052 | |
| fisher_exact | 8.270 | 0.041 | 8.342 | |
| fold_change | 9.235 | 0.064 | 9.343 | |
| fold_change_int | 12.986 | 0.041 | 13.070 | |
| fold_change_plot | 0.047 | 0.022 | 0.070 | |
| forward_selection_by_rank | 4.873 | 0.096 | 4.985 | |
| fs_line | 5.423 | 0.110 | 5.549 | |
| glog_opt_plot | 0.362 | 0.003 | 0.367 | |
| glog_transform | 0.216 | 0.001 | 0.217 | |
| grid_search_1d | 3.176 | 0.108 | 3.293 | |
| gs_line | 0.001 | 0.001 | 0.000 | |
| hca_dendrogram | 0.001 | 0.000 | 0.001 | |
| kfold_xval | 2.590 | 0.016 | 2.611 | |
| kfoldxcv_grid | 2.850 | 0.021 | 2.882 | |
| kfoldxcv_metric | 0.000 | 0.000 | 0.001 | |
| knn_impute | 0.010 | 0.001 | 0.010 | |
| kw_p_hist | 0.001 | 0.000 | 0.001 | |
| kw_rank_sum | 0.064 | 0.001 | 0.064 | |
| linear_model | 0.023 | 0.000 | 0.023 | |
| log_transform | 0.011 | 0.000 | 0.011 | |
| mean_centre | 0.003 | 0.000 | 0.002 | |
| mean_of_medians | 0.106 | 0.006 | 0.112 | |
| mixed_effect | 0.135 | 0.001 | 0.138 | |
| model_apply | 0.017 | 0.000 | 0.019 | |
| model_predict | 0.042 | 0.000 | 0.042 | |
| model_reverse | 0.031 | 0.001 | 0.032 | |
| model_train | 0.039 | 0.001 | 0.039 | |
| mv_boxplot | 0.213 | 0.002 | 0.216 | |
| mv_feature_filter | 0.102 | 0.003 | 0.105 | |
| mv_feature_filter_hist | 0.001 | 0.000 | 0.001 | |
| mv_histogram | 0.187 | 0.001 | 0.189 | |
| mv_sample_filter | 0.012 | 0.000 | 0.012 | |
| mv_sample_filter_hist | 0.001 | 0.000 | 0.001 | |
| nroot_transform | 0.010 | 0.001 | 0.010 | |
| ontology_cache | 0.000 | 0.000 | 0.001 | |
| pairs_filter | 0.013 | 0.000 | 0.013 | |
| pareto_scale | 0.046 | 0.001 | 0.046 | |
| pca_biplot | 0.016 | 0.000 | 0.016 | |
| pca_correlation_plot | 0.009 | 0.000 | 0.009 | |
| pca_dstat_plot | 0.011 | 0.000 | 0.011 | |
| pca_loadings_plot | 0.011 | 0.000 | 0.011 | |
| pca_scores_plot | 0.412 | 0.006 | 0.418 | |
| pca_scree_plot | 0.009 | 0.001 | 0.009 | |
| permutation_test | 0.014 | 0.000 | 0.014 | |
| permutation_test_plot | 0.002 | 0.000 | 0.002 | |
| permute_sample_order | 0.011 | 0.001 | 0.012 | |
| pls_regcoeff_plot | 0.273 | 0.003 | 0.276 | |
| pls_scores_plot | 0.522 | 0.003 | 0.526 | |
| pls_vip_plot | 0.310 | 0.019 | 0.330 | |
| plsda_feature_importance_plot | 0.473 | 0.007 | 0.481 | |
| plsda_predicted_plot | 0.335 | 0.003 | 0.338 | |
| plsda_roc_plot | 0.860 | 0.005 | 0.866 | |
| plsr_cook_dist | 0.009 | 0.000 | 0.009 | |
| plsr_prediction_plot | 0.009 | 0.001 | 0.009 | |
| plsr_qq_plot | 0.008 | 0.000 | 0.008 | |
| plsr_residual_hist | 0.008 | 0.000 | 0.008 | |
| pqn_norm | 0.252 | 0.001 | 0.253 | |
| pqn_norm_hist | 0.001 | 0.000 | 0.000 | |
| prop_na | 0.013 | 0.000 | 0.013 | |
| r_squared | 0.000 | 0.000 | 0.001 | |
| resample | 0.018 | 0.001 | 0.019 | |
| resample_chart | 0.002 | 0.000 | 0.003 | |
| rsd_filter | 0.016 | 0.000 | 0.017 | |
| rsd_filter_hist | 0.001 | 0.001 | 0.001 | |
| run | 0.023 | 0.001 | 0.023 | |
| sb_corr | 0.026 | 0.001 | 0.026 | |
| scatter_chart | 0.261 | 0.003 | 0.265 | |
| split_data | 0.010 | 0.000 | 0.011 | |
| stratified_split | 0.095 | 0.001 | 0.095 | |
| svm_plot_2d | 0.506 | 0.013 | 0.524 | |
| tSNE | 0.023 | 0.001 | 0.024 | |
| tSNE_scatter | 0.009 | 0.001 | 0.011 | |
| tic_chart | 0.158 | 0.003 | 0.162 | |
| ttest | 0.017 | 0.000 | 0.017 | |
| vec_norm | 0.001 | 0.000 | 0.001 | |
| wilcox_p_hist | 0.001 | 0.001 | 0.000 | |
| wilcox_test | 0.019 | 0.000 | 0.019 | |