| Back to Multiple platform build/check report for BioC 3.20: simplified long | 
 | 
This page was generated on 2025-04-02 19:36 -0400 (Wed, 02 Apr 2025).
| Hostname | OS | Arch (*) | R version | Installed pkgs | 
|---|---|---|---|---|
| nebbiolo2 | Linux (Ubuntu 24.04.1 LTS) | x86_64 | 4.4.3 (2025-02-28) -- "Trophy Case" | 4764 | 
| palomino8 | Windows Server 2022 Datacenter | x64 | 4.4.3 (2025-02-28 ucrt) -- "Trophy Case" | 4495 | 
| merida1 | macOS 12.7.5 Monterey | x86_64 | 4.4.3 (2025-02-28) -- "Trophy Case" | 4522 | 
| kjohnson1 | macOS 13.6.6 Ventura | arm64 | 4.4.3 (2025-02-28) -- "Trophy Case" | 4449 | 
| taishan | Linux (openEuler 24.03 LTS) | aarch64 | 4.4.3 (2025-02-28) -- "Trophy Case" | 4426 | 
| Click on any hostname to see more info about the system (e.g. compilers) (*) as reported by 'uname -p', except on Windows and Mac OS X | ||||
| Package 2079/2289 | Hostname | OS / Arch | INSTALL | BUILD | CHECK | BUILD BIN | ||||||||
| structToolbox 1.18.2  (landing page) Gavin Rhys Lloyd 
 | nebbiolo2 | Linux (Ubuntu 24.04.1 LTS) / x86_64 | OK | OK | OK |  | ||||||||
| palomino8 | Windows Server 2022 Datacenter / x64 | OK | OK | OK | OK |  | ||||||||
| merida1 | macOS 12.7.5 Monterey / x86_64 | OK | OK | OK | OK |  | ||||||||
| kjohnson1 | macOS 13.6.6 Ventura / arm64 | OK | OK | OK | OK |  | ||||||||
| taishan | Linux (openEuler 24.03 LTS) / aarch64 | OK | OK | OK | ||||||||||
| To the developers/maintainers of the structToolbox package: - Allow up to 24 hours (and sometimes 48 hours) for your latest push to git@git.bioconductor.org:packages/structToolbox.git to reflect on this report. See Troubleshooting Build Report for more information. - Use the following Renviron settings to reproduce errors and warnings. - If 'R CMD check' started to fail recently on the Linux builder(s) over a missing dependency, add the missing dependency to 'Suggests:' in your DESCRIPTION file. See Renviron.bioc for more information. - See Martin Grigorov's blog post for how to debug Linux ARM64 related issues on a x86_64 host. | 
| Package: structToolbox | 
| Version: 1.18.2 | 
| Command: /home/biocbuild/R/R/bin/R CMD check --install=check:structToolbox.install-out.txt --library=/home/biocbuild/R/R/site-library --no-vignettes --timings structToolbox_1.18.2.tar.gz | 
| StartedAt: 2025-04-01 11:08:19 -0000 (Tue, 01 Apr 2025) | 
| EndedAt: 2025-04-01 11:18:20 -0000 (Tue, 01 Apr 2025) | 
| EllapsedTime: 600.9 seconds | 
| RetCode: 0 | 
| Status: OK | 
| CheckDir: structToolbox.Rcheck | 
| Warnings: 0 | 
##############################################################################
##############################################################################
###
### Running command:
###
###   /home/biocbuild/R/R/bin/R CMD check --install=check:structToolbox.install-out.txt --library=/home/biocbuild/R/R/site-library --no-vignettes --timings structToolbox_1.18.2.tar.gz
###
##############################################################################
##############################################################################
* using log directory ‘/home/biocbuild/bbs-3.20-bioc/meat/structToolbox.Rcheck’
* using R version 4.4.3 (2025-02-28)
* using platform: aarch64-unknown-linux-gnu
* R was compiled by
    aarch64-unknown-linux-gnu-gcc (GCC) 14.2.0
    GNU Fortran (GCC) 14.2.0
* running under: openEuler 24.03 (LTS)
* using session charset: UTF-8
* using option ‘--no-vignettes’
* checking for file ‘structToolbox/DESCRIPTION’ ... OK
* checking extension type ... Package
* this is package ‘structToolbox’ version ‘1.18.2’
* package encoding: UTF-8
* checking package namespace information ... OK
* checking package dependencies ... OK
* checking if this is a source package ... OK
* checking if there is a namespace ... OK
* checking for hidden files and directories ... OK
* checking for portable file names ... OK
* checking for sufficient/correct file permissions ... OK
* checking whether package ‘structToolbox’ can be installed ... OK
* checking installed package size ... OK
* checking package directory ... OK
* checking ‘build’ directory ... OK
* checking DESCRIPTION meta-information ... OK
* checking top-level files ... OK
* checking for left-over files ... OK
* checking index information ... OK
* checking package subdirectories ... OK
* checking code files for non-ASCII characters ... OK
* checking R files for syntax errors ... OK
* checking whether the package can be loaded ... OK
* checking whether the package can be loaded with stated dependencies ... OK
* checking whether the package can be unloaded cleanly ... OK
* checking whether the namespace can be loaded with stated dependencies ... OK
* checking whether the namespace can be unloaded cleanly ... OK
* checking loading without being on the library search path ... OK
* checking dependencies in R code ... OK
* checking S3 generic/method consistency ... OK
* checking replacement functions ... OK
* checking foreign function calls ... OK
* checking R code for possible problems ... OK
* checking Rd files ... OK
* checking Rd metadata ... OK
* checking Rd cross-references ... OK
* checking for missing documentation entries ... OK
* checking for code/documentation mismatches ... OK
* checking Rd \usage sections ... OK
* checking Rd contents ... OK
* checking for unstated dependencies in examples ... OK
* checking R/sysdata.rda ... OK
* checking files in ‘vignettes’ ... OK
* checking examples ... OK
Examples with CPU (user + system) or elapsed time > 5s
                            user system elapsed
fold_change_int           22.147  0.187  22.428
fold_change               16.052  0.048  16.145
fisher_exact              13.430  0.131  13.601
fs_line                    9.514  0.071   9.608
forward_selection_by_rank  8.439  0.072   8.527
compare_dist               4.962  0.183   5.159
grid_search_1d             4.981  0.008   5.011
* checking for unstated dependencies in ‘tests’ ... OK
* checking tests ...
  Running ‘testthat.R’
 OK
* checking for unstated dependencies in vignettes ... OK
* checking package vignettes ... OK
* checking running R code from vignettes ... SKIPPED
* checking re-building of vignette outputs ... SKIPPED
* checking PDF version of manual ... OK
* DONE
Status: OK
structToolbox.Rcheck/00install.out
############################################################################## ############################################################################## ### ### Running command: ### ### /home/biocbuild/R/R/bin/R CMD INSTALL structToolbox ### ############################################################################## ############################################################################## * installing to library ‘/home/biocbuild/R/R-4.4.3/site-library’ * installing *source* package ‘structToolbox’ ... ** using staged installation ** R ** inst ** byte-compile and prepare package for lazy loading ** help *** installing help indices ** building package indices ** installing vignettes ** testing if installed package can be loaded from temporary location ** testing if installed package can be loaded from final location ** testing if installed package keeps a record of temporary installation path * DONE (structToolbox)
structToolbox.Rcheck/tests/testthat.Rout
R version 4.4.3 (2025-02-28) -- "Trophy Case"
Copyright (C) 2025 The R Foundation for Statistical Computing
Platform: aarch64-unknown-linux-gnu
R is free software and comes with ABSOLUTELY NO WARRANTY.
You are welcome to redistribute it under certain conditions.
Type 'license()' or 'licence()' for distribution details.
R is a collaborative project with many contributors.
Type 'contributors()' for more information and
'citation()' on how to cite R or R packages in publications.
Type 'demo()' for some demos, 'help()' for on-line help, or
'help.start()' for an HTML browser interface to help.
Type 'q()' to quit R.
> library(testthat)
> library(ggplot2)
> library(structToolbox)
Loading required package: struct
> 
> test_check("structToolbox")
[ FAIL 0 | WARN 6 | SKIP 0 | PASS 166 ]
[ FAIL 0 | WARN 6 | SKIP 0 | PASS 166 ]
> 
> proc.time()
   user  system elapsed 
250.587   1.689 252.818 
structToolbox.Rcheck/structToolbox-Ex.timings
| name | user | system | elapsed | |
| ANOVA | 0.286 | 0.004 | 0.291 | |
| AUC | 2.631 | 0.207 | 2.847 | |
| DFA | 0.266 | 0.004 | 0.271 | |
| DatasetExperiment_boxplot | 1.535 | 0.052 | 1.592 | |
| DatasetExperiment_dist | 1.317 | 0.020 | 1.340 | |
| DatasetExperiment_factor_boxplot | 0.277 | 0.000 | 0.279 | |
| DatasetExperiment_heatmap | 0.495 | 0.008 | 0.505 | |
| HCA | 0.085 | 0.000 | 0.085 | |
| HSD | 0.383 | 0.012 | 0.401 | |
| HSDEM | 0.434 | 0.000 | 0.436 | |
| MTBLS79_DatasetExperiment | 0.001 | 0.000 | 0.001 | |
| OPLSDA | 0.015 | 0.000 | 0.015 | |
| OPLSR | 0.021 | 0.000 | 0.021 | |
| PCA | 0.006 | 0.000 | 0.005 | |
| PLSDA | 0.034 | 0.000 | 0.035 | |
| PLSR | 0.013 | 0.000 | 0.014 | |
| SVM | 0.036 | 0.003 | 0.039 | |
| as_data_frame | 0.164 | 0.000 | 0.164 | |
| autoscale | 0.101 | 0.000 | 0.101 | |
| balanced_accuracy | 2.399 | 0.092 | 2.498 | |
| blank_filter | 0.461 | 0.016 | 0.478 | |
| blank_filter_hist | 0.001 | 0.000 | 0.001 | |
| bootstrap | 0.024 | 0.000 | 0.025 | |
| calculate | 0.007 | 0.000 | 0.008 | |
| chart_plot | 0.039 | 0.000 | 0.038 | |
| classical_lsq | 0.438 | 0.004 | 0.443 | |
| compare_dist | 4.962 | 0.183 | 5.159 | |
| confounders_clsq | 3.966 | 0.040 | 4.017 | |
| confounders_lsq_barchart | 4.196 | 0.064 | 4.272 | |
| confounders_lsq_boxplot | 4.085 | 0.036 | 4.134 | |
| constant_sum_norm | 0.018 | 0.000 | 0.019 | |
| corr_coef | 0.365 | 0.008 | 0.373 | |
| dfa_scores_plot | 0.993 | 0.036 | 1.032 | |
| dratio_filter | 0.422 | 0.008 | 0.432 | |
| equal_split | 0.188 | 0.000 | 0.188 | |
| feature_boxplot | 0.046 | 0.000 | 0.046 | |
| feature_profile | 0.545 | 0.008 | 0.554 | |
| feature_profile_array | 0.622 | 0.004 | 0.628 | |
| filter_by_name | 0.06 | 0.00 | 0.06 | |
| filter_na_count | 1.517 | 0.043 | 1.565 | |
| filter_smeta | 0.104 | 0.000 | 0.104 | |
| fisher_exact | 13.430 | 0.131 | 13.601 | |
| fold_change | 16.052 | 0.048 | 16.145 | |
| fold_change_int | 22.147 | 0.187 | 22.428 | |
| fold_change_plot | 0.017 | 0.000 | 0.017 | |
| forward_selection_by_rank | 8.439 | 0.072 | 8.527 | |
| fs_line | 9.514 | 0.071 | 9.608 | |
| glog_opt_plot | 0.678 | 0.004 | 0.684 | |
| glog_transform | 0.409 | 0.000 | 0.409 | |
| grid_search_1d | 4.981 | 0.008 | 5.011 | |
| gs_line | 0.001 | 0.000 | 0.000 | |
| hca_dendrogram | 0.001 | 0.000 | 0.001 | |
| kfold_xval | 4.495 | 0.008 | 4.513 | |
| kfoldxcv_grid | 4.871 | 0.016 | 4.897 | |
| kfoldxcv_metric | 0.001 | 0.000 | 0.001 | |
| knn_impute | 0.017 | 0.000 | 0.017 | |
| kw_p_hist | 0.000 | 0.001 | 0.001 | |
| kw_rank_sum | 0.101 | 0.006 | 0.107 | |
| linear_model | 0.038 | 0.000 | 0.038 | |
| log_transform | 0.018 | 0.000 | 0.017 | |
| mean_centre | 0.004 | 0.000 | 0.004 | |
| mean_of_medians | 0.177 | 0.000 | 0.177 | |
| mixed_effect | 0.204 | 0.004 | 0.208 | |
| model_apply | 0.030 | 0.000 | 0.031 | |
| model_predict | 0.07 | 0.00 | 0.07 | |
| model_reverse | 0.054 | 0.000 | 0.054 | |
| model_train | 0.077 | 0.004 | 0.081 | |
| mv_boxplot | 0.375 | 0.016 | 0.392 | |
| mv_feature_filter | 0.156 | 0.008 | 0.166 | |
| mv_feature_filter_hist | 0.001 | 0.000 | 0.001 | |
| mv_histogram | 0.347 | 0.020 | 0.367 | |
| mv_sample_filter | 0.021 | 0.000 | 0.021 | |
| mv_sample_filter_hist | 0.001 | 0.000 | 0.001 | |
| nroot_transform | 0.015 | 0.004 | 0.019 | |
| ontology_cache | 0 | 0 | 0 | |
| pairs_filter | 0.019 | 0.004 | 0.023 | |
| pareto_scale | 0.074 | 0.000 | 0.074 | |
| pca_biplot | 0.027 | 0.000 | 0.027 | |
| pca_correlation_plot | 0.015 | 0.000 | 0.015 | |
| pca_dstat_plot | 0.018 | 0.000 | 0.018 | |
| pca_loadings_plot | 0.019 | 0.000 | 0.019 | |
| pca_scores_plot | 0.704 | 0.007 | 0.716 | |
| pca_scree_plot | 0.015 | 0.000 | 0.015 | |
| permutation_test | 0.023 | 0.000 | 0.023 | |
| permutation_test_plot | 0.004 | 0.000 | 0.004 | |
| permute_sample_order | 0.02 | 0.00 | 0.02 | |
| pls_regcoeff_plot | 0.451 | 0.004 | 0.456 | |
| pls_scores_plot | 0.907 | 0.000 | 0.909 | |
| pls_vip_plot | 0.517 | 0.000 | 0.518 | |
| plsda_feature_importance_plot | 0.794 | 0.000 | 0.796 | |
| plsda_predicted_plot | 0.585 | 0.004 | 0.591 | |
| plsda_roc_plot | 1.589 | 0.008 | 1.600 | |
| plsr_cook_dist | 0.016 | 0.000 | 0.015 | |
| plsr_prediction_plot | 0.016 | 0.000 | 0.015 | |
| plsr_qq_plot | 0.016 | 0.000 | 0.016 | |
| plsr_residual_hist | 0.015 | 0.000 | 0.016 | |
| pqn_norm | 0.457 | 0.000 | 0.459 | |
| pqn_norm_hist | 0.001 | 0.000 | 0.001 | |
| prop_na | 0.023 | 0.000 | 0.023 | |
| r_squared | 0.001 | 0.000 | 0.001 | |
| resample | 0.032 | 0.000 | 0.032 | |
| resample_chart | 0.003 | 0.000 | 0.003 | |
| rsd_filter | 0.028 | 0.000 | 0.028 | |
| rsd_filter_hist | 0.001 | 0.000 | 0.001 | |
| run | 0.039 | 0.000 | 0.039 | |
| sb_corr | 0.045 | 0.000 | 0.046 | |
| scatter_chart | 0.459 | 0.004 | 0.465 | |
| split_data | 0.018 | 0.000 | 0.017 | |
| stratified_split | 0.163 | 0.000 | 0.163 | |
| svm_plot_2d | 0.890 | 0.012 | 0.905 | |
| tSNE | 0.036 | 0.004 | 0.041 | |
| tSNE_scatter | 0.016 | 0.000 | 0.016 | |
| tic_chart | 0.274 | 0.000 | 0.275 | |
| ttest | 0.029 | 0.000 | 0.029 | |
| vec_norm | 0.001 | 0.000 | 0.001 | |
| wilcox_p_hist | 0.001 | 0.000 | 0.000 | |
| wilcox_test | 0.033 | 0.000 | 0.033 | |