| Back to Multiple platform build/check report for BioC 3.20: simplified long |
|
This page was generated on 2024-11-20 12:07 -0500 (Wed, 20 Nov 2024).
| Hostname | OS | Arch (*) | R version | Installed pkgs |
|---|---|---|---|---|
| teran2 | Linux (Ubuntu 24.04.1 LTS) | x86_64 | 4.4.2 (2024-10-31) -- "Pile of Leaves" | 4481 |
| nebbiolo2 | Linux (Ubuntu 24.04.1 LTS) | x86_64 | 4.4.2 (2024-10-31) -- "Pile of Leaves" | 4479 |
| palomino8 | Windows Server 2022 Datacenter | x64 | 4.4.2 (2024-10-31 ucrt) -- "Pile of Leaves" | 4359 |
| lconway | macOS 12.7.1 Monterey | x86_64 | 4.4.1 (2024-06-14) -- "Race for Your Life" | 4539 |
| kunpeng2 | Linux (openEuler 22.03 LTS-SP1) | aarch64 | 4.4.1 (2024-06-14) -- "Race for Your Life" | 4493 |
| Click on any hostname to see more info about the system (e.g. compilers) (*) as reported by 'uname -p', except on Windows and Mac OS X | ||||
| Package 2145/2289 | Hostname | OS / Arch | INSTALL | BUILD | CHECK | BUILD BIN | ||||||||
| tidySpatialExperiment 1.2.0 (landing page) William Hutchison
| teran2 | Linux (Ubuntu 24.04.1 LTS) / x86_64 | OK | OK | OK | |||||||||
| nebbiolo2 | Linux (Ubuntu 24.04.1 LTS) / x86_64 | OK | OK | OK | ||||||||||
| palomino8 | Windows Server 2022 Datacenter / x64 | OK | OK | OK | OK | |||||||||
| lconway | macOS 12.7.1 Monterey / x86_64 | OK | OK | OK | OK | |||||||||
| kunpeng2 | Linux (openEuler 22.03 LTS-SP1) / aarch64 | OK | OK | OK | ||||||||||
|
To the developers/maintainers of the tidySpatialExperiment package: - Allow up to 24 hours (and sometimes 48 hours) for your latest push to git@git.bioconductor.org:packages/tidySpatialExperiment.git to reflect on this report. See Troubleshooting Build Report for more information. - Use the following Renviron settings to reproduce errors and warnings. - If 'R CMD check' started to fail recently on the Linux builder(s) over a missing dependency, add the missing dependency to 'Suggests:' in your DESCRIPTION file. See Renviron.bioc for more information. |
| Package: tidySpatialExperiment |
| Version: 1.2.0 |
| Command: /Library/Frameworks/R.framework/Resources/bin/R CMD check --install=check:tidySpatialExperiment.install-out.txt --library=/Library/Frameworks/R.framework/Resources/library --no-vignettes --timings tidySpatialExperiment_1.2.0.tar.gz |
| StartedAt: 2024-11-20 03:24:47 -0500 (Wed, 20 Nov 2024) |
| EndedAt: 2024-11-20 03:32:02 -0500 (Wed, 20 Nov 2024) |
| EllapsedTime: 434.8 seconds |
| RetCode: 0 |
| Status: OK |
| CheckDir: tidySpatialExperiment.Rcheck |
| Warnings: 0 |
##############################################################################
##############################################################################
###
### Running command:
###
### /Library/Frameworks/R.framework/Resources/bin/R CMD check --install=check:tidySpatialExperiment.install-out.txt --library=/Library/Frameworks/R.framework/Resources/library --no-vignettes --timings tidySpatialExperiment_1.2.0.tar.gz
###
##############################################################################
##############################################################################
* using log directory ‘/Users/biocbuild/bbs-3.20-bioc/meat/tidySpatialExperiment.Rcheck’
* using R version 4.4.1 (2024-06-14)
* using platform: x86_64-apple-darwin20
* R was compiled by
Apple clang version 14.0.0 (clang-1400.0.29.202)
GNU Fortran (GCC) 12.2.0
* running under: macOS Monterey 12.7.6
* using session charset: UTF-8
* using option ‘--no-vignettes’
* checking for file ‘tidySpatialExperiment/DESCRIPTION’ ... OK
* checking extension type ... Package
* this is package ‘tidySpatialExperiment’ version ‘1.2.0’
* package encoding: UTF-8
* checking package namespace information ... OK
* checking package dependencies ...Warning: unable to access index for repository https://CRAN.R-project.org/src/contrib:
cannot open URL 'https://CRAN.R-project.org/src/contrib/PACKAGES'
OK
* checking if this is a source package ... OK
* checking if there is a namespace ... OK
* checking for hidden files and directories ... OK
* checking for portable file names ... OK
* checking for sufficient/correct file permissions ... OK
* checking whether package ‘tidySpatialExperiment’ can be installed ... OK
* checking installed package size ... OK
* checking package directory ... OK
* checking ‘build’ directory ... OK
* checking DESCRIPTION meta-information ... OK
* checking top-level files ... OK
* checking for left-over files ... OK
* checking index information ... OK
* checking package subdirectories ... OK
* checking code files for non-ASCII characters ... OK
* checking R files for syntax errors ... OK
* checking whether the package can be loaded ... OK
* checking whether the package can be loaded with stated dependencies ... OK
* checking whether the package can be unloaded cleanly ... OK
* checking whether the namespace can be loaded with stated dependencies ... OK
* checking whether the namespace can be unloaded cleanly ... OK
* checking dependencies in R code ... OK
* checking S3 generic/method consistency ... OK
* checking replacement functions ... OK
* checking foreign function calls ... OK
* checking R code for possible problems ... OK
* checking Rd files ... OK
* checking Rd metadata ... OK
* checking Rd cross-references ... OK
* checking for missing documentation entries ... OK
* checking for code/documentation mismatches ... OK
* checking Rd \usage sections ... OK
* checking Rd contents ... OK
* checking for unstated dependencies in examples ... OK
* checking contents of ‘data’ directory ... OK
* checking data for non-ASCII characters ... OK
* checking LazyData ... OK
* checking data for ASCII and uncompressed saves ... OK
* checking files in ‘vignettes’ ... OK
* checking examples ... OK
* checking for unstated dependencies in ‘tests’ ... OK
* checking tests ...
Running ‘testthat.R’
OK
* checking for unstated dependencies in vignettes ... OK
* checking package vignettes ... OK
* checking running R code from vignettes ... SKIPPED
* checking re-building of vignette outputs ... SKIPPED
* checking PDF version of manual ... OK
* DONE
Status: OK
tidySpatialExperiment.Rcheck/00install.out
############################################################################## ############################################################################## ### ### Running command: ### ### /Library/Frameworks/R.framework/Resources/bin/R CMD INSTALL tidySpatialExperiment ### ############################################################################## ############################################################################## * installing to library ‘/Library/Frameworks/R.framework/Versions/4.4-x86_64/Resources/library’ * installing *source* package ‘tidySpatialExperiment’ ... ** using staged installation ** R ** data *** moving datasets to lazyload DB ** inst ** byte-compile and prepare package for lazy loading ** help *** installing help indices *** copying figures ** building package indices ** installing vignettes ** testing if installed package can be loaded from temporary location ** testing if installed package can be loaded from final location ** testing if installed package keeps a record of temporary installation path * DONE (tidySpatialExperiment)
tidySpatialExperiment.Rcheck/tests/testthat.Rout
R version 4.4.1 (2024-06-14) -- "Race for Your Life"
Copyright (C) 2024 The R Foundation for Statistical Computing
Platform: x86_64-apple-darwin20
R is free software and comes with ABSOLUTELY NO WARRANTY.
You are welcome to redistribute it under certain conditions.
Type 'license()' or 'licence()' for distribution details.
R is a collaborative project with many contributors.
Type 'contributors()' for more information and
'citation()' on how to cite R or R packages in publications.
Type 'demo()' for some demos, 'help()' for on-line help, or
'help.start()' for an HTML browser interface to help.
Type 'q()' to quit R.
> library(testthat)
> library(tidySpatialExperiment)
Loading required package: SpatialExperiment
Loading required package: SingleCellExperiment
Loading required package: SummarizedExperiment
Loading required package: MatrixGenerics
Loading required package: matrixStats
Attaching package: 'MatrixGenerics'
The following objects are masked from 'package:matrixStats':
colAlls, colAnyNAs, colAnys, colAvgsPerRowSet, colCollapse,
colCounts, colCummaxs, colCummins, colCumprods, colCumsums,
colDiffs, colIQRDiffs, colIQRs, colLogSumExps, colMadDiffs,
colMads, colMaxs, colMeans2, colMedians, colMins, colOrderStats,
colProds, colQuantiles, colRanges, colRanks, colSdDiffs, colSds,
colSums2, colTabulates, colVarDiffs, colVars, colWeightedMads,
colWeightedMeans, colWeightedMedians, colWeightedSds,
colWeightedVars, rowAlls, rowAnyNAs, rowAnys, rowAvgsPerColSet,
rowCollapse, rowCounts, rowCummaxs, rowCummins, rowCumprods,
rowCumsums, rowDiffs, rowIQRDiffs, rowIQRs, rowLogSumExps,
rowMadDiffs, rowMads, rowMaxs, rowMeans2, rowMedians, rowMins,
rowOrderStats, rowProds, rowQuantiles, rowRanges, rowRanks,
rowSdDiffs, rowSds, rowSums2, rowTabulates, rowVarDiffs, rowVars,
rowWeightedMads, rowWeightedMeans, rowWeightedMedians,
rowWeightedSds, rowWeightedVars
Loading required package: GenomicRanges
Loading required package: stats4
Loading required package: BiocGenerics
Attaching package: 'BiocGenerics'
The following objects are masked from 'package:stats':
IQR, mad, sd, var, xtabs
The following objects are masked from 'package:base':
Filter, Find, Map, Position, Reduce, anyDuplicated, aperm, append,
as.data.frame, basename, cbind, colnames, dirname, do.call,
duplicated, eval, evalq, get, grep, grepl, intersect, is.unsorted,
lapply, mapply, match, mget, order, paste, pmax, pmax.int, pmin,
pmin.int, rank, rbind, rownames, sapply, saveRDS, setdiff, table,
tapply, union, unique, unsplit, which.max, which.min
Loading required package: S4Vectors
Attaching package: 'S4Vectors'
The following object is masked from 'package:utils':
findMatches
The following objects are masked from 'package:base':
I, expand.grid, unname
Loading required package: IRanges
Loading required package: GenomeInfoDb
Loading required package: Biobase
Welcome to Bioconductor
Vignettes contain introductory material; view with
'browseVignettes()'. To cite Bioconductor, see
'citation("Biobase")', and for packages 'citation("pkgname")'.
Attaching package: 'Biobase'
The following object is masked from 'package:MatrixGenerics':
rowMedians
The following objects are masked from 'package:matrixStats':
anyMissing, rowMedians
Loading required package: tidySingleCellExperiment
Attaching package: 'tidySpatialExperiment'
The following object is masked from 'package:tidySingleCellExperiment':
unnest_single_cell_experiment
>
> test_check("tidySpatialExperiment")
rd10xV> dir <- system.file(
rd10xV+ file.path("extdata", "10xVisium"),
rd10xV+ package = "SpatialExperiment")
rd10xV> sample_ids <- c("section1", "section2")
rd10xV> samples <- file.path(dir, sample_ids, "outs")
rd10xV> list.files(samples[1])
[1] "raw_feature_bc_matrix" "spatial"
rd10xV> list.files(file.path(samples[1], "spatial"))
[1] "scalefactors_json.json" "tissue_lowres_image.png"
[3] "tissue_positions_list.csv"
rd10xV> file.path(samples[1], "raw_feature_bc_matrix")
[1] "/Library/Frameworks/R.framework/Versions/4.4-x86_64/Resources/library/SpatialExperiment/extdata/10xVisium/section1/outs/raw_feature_bc_matrix"
rd10xV> (spe <- read10xVisium(samples, sample_ids,
rd10xV+ type = "sparse", data = "raw",
rd10xV+ images = "lowres", load = FALSE))
# A SpatialExperiment-tibble abstraction: 99 × 7
# Features = 50 | Cells = 99 | Assays = counts
.cell in_tissue array_row array_col sample_id pxl_col_in_fullres
<chr> <lgl> <int> <int> <chr> <int>
1 AAACAACGAATAGTTC-1 FALSE 0 16 section1 2312
2 AAACAAGTATCTCCCA-1 TRUE 50 102 section1 8230
3 AAACAATCTACTAGCA-1 TRUE 3 43 section1 4170
4 AAACACCAATAACTGC-1 TRUE 59 19 section1 2519
5 AAACAGAGCGACTCCT-1 TRUE 14 94 section1 7679
6 AAACAGCTTTCAGAAG-1 FALSE 43 9 section1 1831
7 AAACAGGGTCTATATT-1 FALSE 47 13 section1 2106
8 AAACAGTGTTCCTGGG-1 FALSE 73 43 section1 4170
9 AAACATGGTGAGAGGA-1 FALSE 62 0 section1 1212
10 AAACATTTCCCGGATT-1 FALSE 61 97 section1 7886
# ℹ 89 more rows
# ℹ 1 more variable: pxl_row_in_fullres <int>
rd10xV> # base directory 'outs/' from Space Ranger can also be omitted
rd10xV> samples2 <- file.path(dir, sample_ids)
rd10xV> (spe2 <- read10xVisium(samples2, sample_ids,
rd10xV+ type = "sparse", data = "raw",
rd10xV+ images = "lowres", load = FALSE))
# A SpatialExperiment-tibble abstraction: 99 × 7
# Features = 50 | Cells = 99 | Assays = counts
.cell in_tissue array_row array_col sample_id pxl_col_in_fullres
<chr> <lgl> <int> <int> <chr> <int>
1 AAACAACGAATAGTTC-1 FALSE 0 16 section1 2312
2 AAACAAGTATCTCCCA-1 TRUE 50 102 section1 8230
3 AAACAATCTACTAGCA-1 TRUE 3 43 section1 4170
4 AAACACCAATAACTGC-1 TRUE 59 19 section1 2519
5 AAACAGAGCGACTCCT-1 TRUE 14 94 section1 7679
6 AAACAGCTTTCAGAAG-1 FALSE 43 9 section1 1831
7 AAACAGGGTCTATATT-1 FALSE 47 13 section1 2106
8 AAACAGTGTTCCTGGG-1 FALSE 73 43 section1 4170
9 AAACATGGTGAGAGGA-1 FALSE 62 0 section1 1212
10 AAACATTTCCCGGATT-1 FALSE 61 97 section1 7886
# ℹ 89 more rows
# ℹ 1 more variable: pxl_row_in_fullres <int>
rd10xV> # tabulate number of spots mapped to tissue
rd10xV> cd <- colData(spe)
rd10xV> table(
rd10xV+ in_tissue = cd$in_tissue,
rd10xV+ sample_id = cd$sample_id)
sample_id
in_tissue section1 section2
FALSE 28 27
TRUE 22 22
rd10xV> # view available images
rd10xV> imgData(spe)
DataFrame with 2 rows and 4 columns
sample_id image_id data scaleFactor
<character> <character> <list> <numeric>
1 section1 lowres #### 0.0510334
2 section2 lowres #### 0.0510334
rd10xV> dir <- system.file(
rd10xV+ file.path("extdata", "10xVisium"),
rd10xV+ package = "SpatialExperiment")
rd10xV> sample_ids <- c("section1", "section2")
rd10xV> samples <- file.path(dir, sample_ids, "outs")
rd10xV> list.files(samples[1])
[1] "raw_feature_bc_matrix" "spatial"
rd10xV> list.files(file.path(samples[1], "spatial"))
[1] "scalefactors_json.json" "tissue_lowres_image.png"
[3] "tissue_positions_list.csv"
rd10xV> file.path(samples[1], "raw_feature_bc_matrix")
[1] "/Library/Frameworks/R.framework/Versions/4.4-x86_64/Resources/library/SpatialExperiment/extdata/10xVisium/section1/outs/raw_feature_bc_matrix"
rd10xV> (spe <- read10xVisium(samples, sample_ids,
rd10xV+ type = "sparse", data = "raw",
rd10xV+ images = "lowres", load = FALSE))
# A SpatialExperiment-tibble abstraction: 99 × 7
# Features = 50 | Cells = 99 | Assays = counts
.cell in_tissue array_row array_col sample_id pxl_col_in_fullres
<chr> <lgl> <int> <int> <chr> <int>
1 AAACAACGAATAGTTC-1 FALSE 0 16 section1 2312
2 AAACAAGTATCTCCCA-1 TRUE 50 102 section1 8230
3 AAACAATCTACTAGCA-1 TRUE 3 43 section1 4170
4 AAACACCAATAACTGC-1 TRUE 59 19 section1 2519
5 AAACAGAGCGACTCCT-1 TRUE 14 94 section1 7679
6 AAACAGCTTTCAGAAG-1 FALSE 43 9 section1 1831
7 AAACAGGGTCTATATT-1 FALSE 47 13 section1 2106
8 AAACAGTGTTCCTGGG-1 FALSE 73 43 section1 4170
9 AAACATGGTGAGAGGA-1 FALSE 62 0 section1 1212
10 AAACATTTCCCGGATT-1 FALSE 61 97 section1 7886
# ℹ 89 more rows
# ℹ 1 more variable: pxl_row_in_fullres <int>
rd10xV> # base directory 'outs/' from Space Ranger can also be omitted
rd10xV> samples2 <- file.path(dir, sample_ids)
rd10xV> (spe2 <- read10xVisium(samples2, sample_ids,
rd10xV+ type = "sparse", data = "raw",
rd10xV+ images = "lowres", load = FALSE))
# A SpatialExperiment-tibble abstraction: 99 × 7
# Features = 50 | Cells = 99 | Assays = counts
.cell in_tissue array_row array_col sample_id pxl_col_in_fullres
<chr> <lgl> <int> <int> <chr> <int>
1 AAACAACGAATAGTTC-1 FALSE 0 16 section1 2312
2 AAACAAGTATCTCCCA-1 TRUE 50 102 section1 8230
3 AAACAATCTACTAGCA-1 TRUE 3 43 section1 4170
4 AAACACCAATAACTGC-1 TRUE 59 19 section1 2519
5 AAACAGAGCGACTCCT-1 TRUE 14 94 section1 7679
6 AAACAGCTTTCAGAAG-1 FALSE 43 9 section1 1831
7 AAACAGGGTCTATATT-1 FALSE 47 13 section1 2106
8 AAACAGTGTTCCTGGG-1 FALSE 73 43 section1 4170
9 AAACATGGTGAGAGGA-1 FALSE 62 0 section1 1212
10 AAACATTTCCCGGATT-1 FALSE 61 97 section1 7886
# ℹ 89 more rows
# ℹ 1 more variable: pxl_row_in_fullres <int>
rd10xV> # tabulate number of spots mapped to tissue
rd10xV> cd <- colData(spe)
rd10xV> table(
rd10xV+ in_tissue = cd$in_tissue,
rd10xV+ sample_id = cd$sample_id)
sample_id
in_tissue section1 section2
FALSE 28 27
TRUE 22 22
rd10xV> # view available images
rd10xV> imgData(spe)
DataFrame with 2 rows and 4 columns
sample_id image_id data scaleFactor
<character> <character> <list> <numeric>
1 section1 lowres #### 0.0510334
2 section2 lowres #### 0.0510334
rd10xV> dir <- system.file(
rd10xV+ file.path("extdata", "10xVisium"),
rd10xV+ package = "SpatialExperiment")
rd10xV> sample_ids <- c("section1", "section2")
rd10xV> samples <- file.path(dir, sample_ids, "outs")
rd10xV> list.files(samples[1])
[1] "raw_feature_bc_matrix" "spatial"
rd10xV> list.files(file.path(samples[1], "spatial"))
[1] "scalefactors_json.json" "tissue_lowres_image.png"
[3] "tissue_positions_list.csv"
rd10xV> file.path(samples[1], "raw_feature_bc_matrix")
[1] "/Library/Frameworks/R.framework/Versions/4.4-x86_64/Resources/library/SpatialExperiment/extdata/10xVisium/section1/outs/raw_feature_bc_matrix"
rd10xV> (spe <- read10xVisium(samples, sample_ids,
rd10xV+ type = "sparse", data = "raw",
rd10xV+ images = "lowres", load = FALSE))
# A SpatialExperiment-tibble abstraction: 99 × 7
# Features = 50 | Cells = 99 | Assays = counts
.cell in_tissue array_row array_col sample_id pxl_col_in_fullres
<chr> <lgl> <int> <int> <chr> <int>
1 AAACAACGAATAGTTC-1 FALSE 0 16 section1 2312
2 AAACAAGTATCTCCCA-1 TRUE 50 102 section1 8230
3 AAACAATCTACTAGCA-1 TRUE 3 43 section1 4170
4 AAACACCAATAACTGC-1 TRUE 59 19 section1 2519
5 AAACAGAGCGACTCCT-1 TRUE 14 94 section1 7679
6 AAACAGCTTTCAGAAG-1 FALSE 43 9 section1 1831
7 AAACAGGGTCTATATT-1 FALSE 47 13 section1 2106
8 AAACAGTGTTCCTGGG-1 FALSE 73 43 section1 4170
9 AAACATGGTGAGAGGA-1 FALSE 62 0 section1 1212
10 AAACATTTCCCGGATT-1 FALSE 61 97 section1 7886
# ℹ 89 more rows
# ℹ 1 more variable: pxl_row_in_fullres <int>
rd10xV> # base directory 'outs/' from Space Ranger can also be omitted
rd10xV> samples2 <- file.path(dir, sample_ids)
rd10xV> (spe2 <- read10xVisium(samples2, sample_ids,
rd10xV+ type = "sparse", data = "raw",
rd10xV+ images = "lowres", load = FALSE))
# A SpatialExperiment-tibble abstraction: 99 × 7
# Features = 50 | Cells = 99 | Assays = counts
.cell in_tissue array_row array_col sample_id pxl_col_in_fullres
<chr> <lgl> <int> <int> <chr> <int>
1 AAACAACGAATAGTTC-1 FALSE 0 16 section1 2312
2 AAACAAGTATCTCCCA-1 TRUE 50 102 section1 8230
3 AAACAATCTACTAGCA-1 TRUE 3 43 section1 4170
4 AAACACCAATAACTGC-1 TRUE 59 19 section1 2519
5 AAACAGAGCGACTCCT-1 TRUE 14 94 section1 7679
6 AAACAGCTTTCAGAAG-1 FALSE 43 9 section1 1831
7 AAACAGGGTCTATATT-1 FALSE 47 13 section1 2106
8 AAACAGTGTTCCTGGG-1 FALSE 73 43 section1 4170
9 AAACATGGTGAGAGGA-1 FALSE 62 0 section1 1212
10 AAACATTTCCCGGATT-1 FALSE 61 97 section1 7886
# ℹ 89 more rows
# ℹ 1 more variable: pxl_row_in_fullres <int>
rd10xV> # tabulate number of spots mapped to tissue
rd10xV> cd <- colData(spe)
rd10xV> table(
rd10xV+ in_tissue = cd$in_tissue,
rd10xV+ sample_id = cd$sample_id)
sample_id
in_tissue section1 section2
FALSE 28 27
TRUE 22 22
rd10xV> # view available images
rd10xV> imgData(spe)
DataFrame with 2 rows and 4 columns
sample_id image_id data scaleFactor
<character> <character> <list> <numeric>
1 section1 lowres #### 0.0510334
2 section2 lowres #### 0.0510334
[ FAIL 0 | WARN 3 | SKIP 0 | PASS 39 ]
[ FAIL 0 | WARN 3 | SKIP 0 | PASS 39 ]
>
> proc.time()
user system elapsed
15.855 0.703 16.611
tidySpatialExperiment.Rcheck/tidySpatialExperiment-Ex.timings
| name | user | system | elapsed | |
| aggregate_cells | 3.231 | 0.116 | 3.366 | |
| arrange | 1.124 | 0.026 | 1.155 | |
| as_tibble | 1.231 | 0.030 | 1.276 | |
| bind_cols | 1.182 | 0.029 | 1.217 | |
| bind_rows | 1.070 | 0.021 | 1.094 | |
| count | 1.122 | 0.023 | 1.149 | |
| distinct | 0.997 | 0.021 | 1.021 | |
| ellipse | 1.049 | 0.024 | 1.077 | |
| extract | 1.185 | 0.027 | 1.217 | |
| filter | 1.151 | 0.024 | 1.180 | |
| formatting | 1.030 | 0.022 | 1.058 | |
| gate | 1.165 | 0.024 | 1.194 | |
| gate_interactive | 1.028 | 0.027 | 1.061 | |
| gate_programmatic | 1.172 | 0.027 | 1.204 | |
| ggplot | 1.132 | 0.025 | 1.161 | |
| glimpse | 1.030 | 0.025 | 1.060 | |
| group_by | 1.090 | 0.025 | 1.121 | |
| inner_join | 1.278 | 0.028 | 1.313 | |
| join_features | 1.182 | 0.026 | 1.214 | |
| left_join | 1.387 | 0.029 | 1.431 | |
| mutate | 1.241 | 0.025 | 1.281 | |
| nest | 1.082 | 0.028 | 1.115 | |
| pivot_longer | 1.026 | 0.020 | 1.048 | |
| plot_ly | 1.059 | 0.053 | 1.116 | |
| pull | 0.983 | 0.017 | 1.002 | |
| rectangle | 1.647 | 0.022 | 1.675 | |
| rename | 1.106 | 0.021 | 1.130 | |
| right_join | 1.178 | 0.030 | 1.215 | |
| rowwise | 1.007 | 0.020 | 1.032 | |
| sample_n | 1.136 | 0.022 | 1.162 | |
| select | 0.942 | 0.018 | 0.962 | |
| separate | 1.033 | 0.019 | 1.054 | |
| slice | 1.017 | 0.018 | 1.038 | |
| summarise | 1.540 | 0.023 | 1.567 | |
| tbl_format_header | 0.001 | 0.000 | 0.000 | |
| unite | 1.026 | 0.022 | 1.051 | |
| unnest | 1.099 | 0.019 | 1.120 | |