| Back to Build/check report for BioC 3.20 experimental data |
|
This page was generated on 2025-04-01 15:41 -0400 (Tue, 01 Apr 2025).
| Hostname | OS | Arch (*) | R version | Installed pkgs |
|---|---|---|---|---|
| nebbiolo2 | Linux (Ubuntu 24.04.1 LTS) | x86_64 | 4.4.3 (2025-02-28) -- "Trophy Case" | 4764 |
| Click on any hostname to see more info about the system (e.g. compilers) (*) as reported by 'uname -p', except on Windows and Mac OS X | ||||
| Package 186/431 | Hostname | OS / Arch | INSTALL | BUILD | CHECK | ||||||||
| HiCDataHumanIMR90 1.26.0 (landing page) Nicolas Servant
| nebbiolo2 | Linux (Ubuntu 24.04.1 LTS) / x86_64 | OK | OK | WARNINGS | ||||||||
|
To the developers/maintainers of the HiCDataHumanIMR90 package: - Use the following Renviron settings to reproduce errors and warnings. - If 'R CMD check' started to fail recently on the Linux builder(s) over a missing dependency, add the missing dependency to 'Suggests:' in your DESCRIPTION file. See Renviron.bioc for more information. |
| Package: HiCDataHumanIMR90 |
| Version: 1.26.0 |
| Command: /home/biocbuild/bbs-3.20-bioc/R/bin/R CMD build --keep-empty-dirs --no-resave-data HiCDataHumanIMR90 |
| StartedAt: 2025-04-01 11:21:30 -0400 (Tue, 01 Apr 2025) |
| EndedAt: 2025-04-01 11:22:20 -0400 (Tue, 01 Apr 2025) |
| EllapsedTime: 49.8 seconds |
| RetCode: 0 |
| Status: OK |
| PackageFile: HiCDataHumanIMR90_1.26.0.tar.gz |
| PackageFileSize: 70.64 MiB |
##############################################################################
##############################################################################
###
### Running command:
###
### /home/biocbuild/bbs-3.20-bioc/R/bin/R CMD build --keep-empty-dirs --no-resave-data HiCDataHumanIMR90
###
##############################################################################
##############################################################################
* checking for file ‘HiCDataHumanIMR90/DESCRIPTION’ ... OK
* preparing ‘HiCDataHumanIMR90’:
* checking DESCRIPTION meta-information ... OK
* installing the package to build vignettes
* creating vignettes ... OK
* checking for LF line-endings in source and make files and shell scripts
* checking for empty or unneeded directories
* looking to see if a ‘data/datalist’ file should be added
NB: this package now depends on R (>= 3.5.0)
WARNING: Added dependency on R >= 3.5.0 because serialized objects in
serialize/load version 3 cannot be read in older versions of R.
File(s) containing such objects:
‘HiCDataHumanIMR90/data/Dixon2012_IMR90.RData’
* building ‘HiCDataHumanIMR90_1.26.0.tar.gz’