| Back to Build/check report for BioC 3.20 experimental data |
|
This page was generated on 2025-04-01 15:41 -0400 (Tue, 01 Apr 2025).
| Hostname | OS | Arch (*) | R version | Installed pkgs |
|---|---|---|---|---|
| nebbiolo2 | Linux (Ubuntu 24.04.1 LTS) | x86_64 | 4.4.3 (2025-02-28) -- "Trophy Case" | 4764 |
| Click on any hostname to see more info about the system (e.g. compilers) (*) as reported by 'uname -p', except on Windows and Mac OS X | ||||
| Package 326/431 | Hostname | OS / Arch | INSTALL | BUILD | CHECK | ||||||||
| RMassBankData 1.44.0 (landing page) Michael Stravs, Emma Schymanski
| nebbiolo2 | Linux (Ubuntu 24.04.1 LTS) / x86_64 | OK | OK | OK | ||||||||
|
To the developers/maintainers of the RMassBankData package: - Use the following Renviron settings to reproduce errors and warnings. - If 'R CMD check' started to fail recently on the Linux builder(s) over a missing dependency, add the missing dependency to 'Suggests:' in your DESCRIPTION file. See Renviron.bioc for more information. |
| Package: RMassBankData |
| Version: 1.44.0 |
| Command: /home/biocbuild/bbs-3.20-bioc/R/bin/R CMD build --keep-empty-dirs --no-resave-data RMassBankData |
| StartedAt: 2025-04-01 11:32:25 -0400 (Tue, 01 Apr 2025) |
| EndedAt: 2025-04-01 11:32:38 -0400 (Tue, 01 Apr 2025) |
| EllapsedTime: 12.6 seconds |
| RetCode: 0 |
| Status: OK |
| PackageFile: RMassBankData_1.44.0.tar.gz |
| PackageFileSize: 51.54 MiB |
############################################################################## ############################################################################## ### ### Running command: ### ### /home/biocbuild/bbs-3.20-bioc/R/bin/R CMD build --keep-empty-dirs --no-resave-data RMassBankData ### ############################################################################## ############################################################################## * checking for file ‘RMassBankData/DESCRIPTION’ ... OK * preparing ‘RMassBankData’: * checking DESCRIPTION meta-information ... OK * checking for LF line-endings in source and make files and shell scripts * checking for empty or unneeded directories * building ‘RMassBankData_1.44.0.tar.gz’