| Back to Build/check report for BioC 3.20 experimental data |
|
This page was generated on 2025-04-01 15:41 -0400 (Tue, 01 Apr 2025).
| Hostname | OS | Arch (*) | R version | Installed pkgs |
|---|---|---|---|---|
| nebbiolo2 | Linux (Ubuntu 24.04.1 LTS) | x86_64 | 4.4.3 (2025-02-28) -- "Trophy Case" | 4764 |
| Click on any hostname to see more info about the system (e.g. compilers) (*) as reported by 'uname -p', except on Windows and Mac OS X | ||||
| Package 327/431 | Hostname | OS / Arch | INSTALL | BUILD | CHECK | ||||||||
Mike Smith
| nebbiolo2 | Linux (Ubuntu 24.04.1 LTS) / x86_64 | ERROR | ERROR | skipped | ||||||||
|
To the developers/maintainers of the RNAinteractMAPK package: - Use the following Renviron settings to reproduce errors and warnings. - If 'R CMD check' started to fail recently on the Linux builder(s) over a missing dependency, add the missing dependency to 'Suggests:' in your DESCRIPTION file. See Renviron.bioc for more information. |
| Package: RNAinteractMAPK |
| Version: 1.44.0 |
| Command: /home/biocbuild/bbs-3.20-bioc/R/bin/R CMD build --keep-empty-dirs --no-resave-data RNAinteractMAPK |
| StartedAt: 2025-04-01 11:32:32 -0400 (Tue, 01 Apr 2025) |
| EndedAt: 2025-04-01 11:32:33 -0400 (Tue, 01 Apr 2025) |
| EllapsedTime: 1.0 seconds |
| RetCode: 1 |
| Status: ERROR |
| PackageFile: None |
| PackageFileSize: NA |
##############################################################################
##############################################################################
###
### Running command:
###
### /home/biocbuild/bbs-3.20-bioc/R/bin/R CMD build --keep-empty-dirs --no-resave-data RNAinteractMAPK
###
##############################################################################
##############################################################################
* checking for file ‘RNAinteractMAPK/DESCRIPTION’ ... OK
* preparing ‘RNAinteractMAPK’:
* checking DESCRIPTION meta-information ... OK
* installing the package to build vignettes
-----------------------------------
ERROR: dependency ‘RNAinteract’ is not available for package ‘RNAinteractMAPK’
* removing ‘/home/biocbuild/bbs-3.20-data-experiment/tmpdir/RtmpsqlkUL/Rinst3ae8f06cfba98b/RNAinteractMAPK’
-----------------------------------
ERROR: package installation failed