| Back to Build/check report for BioC 3.20 experimental data |
|
This page was generated on 2025-04-01 15:41 -0400 (Tue, 01 Apr 2025).
| Hostname | OS | Arch (*) | R version | Installed pkgs |
|---|---|---|---|---|
| nebbiolo2 | Linux (Ubuntu 24.04.1 LTS) | x86_64 | 4.4.3 (2025-02-28) -- "Trophy Case" | 4764 |
| Click on any hostname to see more info about the system (e.g. compilers) (*) as reported by 'uname -p', except on Windows and Mac OS X | ||||
| Package 91/431 | Hostname | OS / Arch | INSTALL | BUILD | CHECK | ||||||||
| depmap 1.20.0 (landing page) Laurent Gatto
| nebbiolo2 | Linux (Ubuntu 24.04.1 LTS) / x86_64 | OK | OK | OK | ||||||||
|
To the developers/maintainers of the depmap package: - Use the following Renviron settings to reproduce errors and warnings. - If 'R CMD check' started to fail recently on the Linux builder(s) over a missing dependency, add the missing dependency to 'Suggests:' in your DESCRIPTION file. See Renviron.bioc for more information. |
| Package: depmap |
| Version: 1.20.0 |
| Command: /home/biocbuild/bbs-3.20-bioc/R/bin/R CMD check --install=check:depmap.install-out.txt --library=/home/biocbuild/bbs-3.20-bioc/R/site-library --timings depmap_1.20.0.tar.gz |
| StartedAt: 2025-04-01 11:52:34 -0400 (Tue, 01 Apr 2025) |
| EndedAt: 2025-04-01 12:03:20 -0400 (Tue, 01 Apr 2025) |
| EllapsedTime: 646.0 seconds |
| RetCode: 0 |
| Status: OK |
| CheckDir: depmap.Rcheck |
| Warnings: 0 |
##############################################################################
##############################################################################
###
### Running command:
###
### /home/biocbuild/bbs-3.20-bioc/R/bin/R CMD check --install=check:depmap.install-out.txt --library=/home/biocbuild/bbs-3.20-bioc/R/site-library --timings depmap_1.20.0.tar.gz
###
##############################################################################
##############################################################################
* using log directory ‘/home/biocbuild/bbs-3.20-data-experiment/meat/depmap.Rcheck’
* using R version 4.4.3 (2025-02-28)
* using platform: x86_64-pc-linux-gnu
* R was compiled by
gcc (Ubuntu 13.3.0-6ubuntu2~24.04) 13.3.0
GNU Fortran (Ubuntu 13.3.0-6ubuntu2~24.04) 13.3.0
* running under: Ubuntu 24.04.2 LTS
* using session charset: UTF-8
* checking for file ‘depmap/DESCRIPTION’ ... OK
* checking extension type ... Package
* this is package ‘depmap’ version ‘1.20.0’
* package encoding: UTF-8
* checking package namespace information ... OK
* checking package dependencies ... OK
* checking if this is a source package ... OK
* checking if there is a namespace ... OK
* checking for hidden files and directories ... OK
* checking for portable file names ... OK
* checking for sufficient/correct file permissions ... OK
* checking whether package ‘depmap’ can be installed ... OK
* checking installed package size ... OK
* checking package directory ... OK
* checking ‘build’ directory ... OK
* checking DESCRIPTION meta-information ... OK
* checking top-level files ... OK
* checking for left-over files ... OK
* checking index information ... OK
* checking package subdirectories ... OK
* checking code files for non-ASCII characters ... OK
* checking R files for syntax errors ... OK
* checking whether the package can be loaded ... OK
* checking whether the package can be loaded with stated dependencies ... OK
* checking whether the package can be unloaded cleanly ... OK
* checking whether the namespace can be loaded with stated dependencies ... OK
* checking whether the namespace can be unloaded cleanly ... OK
* checking loading without being on the library search path ... OK
* checking whether startup messages can be suppressed ... OK
* checking dependencies in R code ... OK
* checking S3 generic/method consistency ... OK
* checking replacement functions ... OK
* checking foreign function calls ... OK
* checking R code for possible problems ... OK
* checking Rd files ... OK
* checking Rd metadata ... OK
* checking Rd cross-references ... OK
* checking for missing documentation entries ... OK
* checking for code/documentation mismatches ... OK
* checking Rd \usage sections ... OK
* checking Rd contents ... OK
* checking for unstated dependencies in examples ... OK
* checking files in ‘vignettes’ ... OK
* checking examples ... OK
* checking for unstated dependencies in vignettes ... OK
* checking package vignettes ... OK
* checking re-building of vignette outputs ... OK
* checking PDF version of manual ... OK
* DONE
Status: OK
depmap.Rcheck/00install.out
############################################################################## ############################################################################## ### ### Running command: ### ### /home/biocbuild/bbs-3.20-bioc/R/bin/R CMD INSTALL depmap ### ############################################################################## ############################################################################## * installing to library ‘/home/biocbuild/bbs-3.20-bioc/R/site-library’ * installing *source* package ‘depmap’ ... ** using staged installation ** R ** inst ** byte-compile and prepare package for lazy loading ** help *** installing help indices ** building package indices ** installing vignettes ** testing if installed package can be loaded from temporary location ** testing if installed package can be loaded from final location ** testing if installed package keeps a record of temporary installation path * DONE (depmap)
depmap.Rcheck/depmap-Ex.timings
| name | user | system | elapsed | |
| DepMapFiles | 0.318 | 0.005 | 1.978 | |
| RPPA | 0.000 | 0.000 | 0.001 | |
| TPM | 0 | 0 | 0 | |
| achilles | 0 | 0 | 0 | |
| cache | 0.207 | 0.005 | 0.212 | |
| copyNumber | 0.000 | 0.000 | 0.001 | |
| crispr | 0 | 0 | 0 | |
| gene_summary | 0 | 0 | 0 | |
| metadata | 0 | 0 | 0 | |
| mutationCalls | 0 | 0 | 0 | |
| proteomic | 0 | 0 | 0 | |
| rnai | 0 | 0 | 0 | |