| name | user | system | elapsed
|
| anoCar1.ensGene.LENGTH | 0.081 | 0.005 | 0.087 |
|
| anoCar1.genscan.LENGTH | 0.050 | 0.002 | 0.051 |
|
| anoCar1.xenoRefGene.LENGTH | 0.897 | 0.009 | 0.907 |
|
| anoGam1.ensGene.LENGTH | 0.059 | 0.002 | 0.062 |
|
| anoGam1.geneid.LENGTH | 0.045 | 0.000 | 0.046 |
|
| anoGam1.genscan.LENGTH | 0.042 | 0.001 | 0.042 |
|
| apiMel1.genscan.LENGTH | 0.037 | 0.000 | 0.037 |
|
| apiMel2.ensGene.LENGTH | 0.093 | 0.003 | 0.096 |
|
| apiMel2.geneid.LENGTH | 0.132 | 0.003 | 0.134 |
|
| apiMel2.genscan.LENGTH | 0.033 | 0.000 | 0.032 |
|
| aplCal1.xenoRefGene.LENGTH | 0.415 | 0.001 | 0.417 |
|
| bosTau2.geneSymbol.LENGTH | 0.040 | 0.008 | 0.047 |
|
| bosTau2.geneid.LENGTH | 0.241 | 0.008 | 0.250 |
|
| bosTau2.genscan.LENGTH | 0.085 | 0.002 | 0.089 |
|
| bosTau2.refGene.LENGTH | 0.041 | 0.001 | 0.042 |
|
| bosTau2.sgpGene.LENGTH | 0.102 | 0.000 | 0.102 |
|
| bosTau3.ensGene.LENGTH | 0.110 | 0.000 | 0.112 |
|
| bosTau3.geneSymbol.LENGTH | 0.036 | 0.001 | 0.037 |
|
| bosTau3.geneid.LENGTH | 0.118 | 0.001 | 0.120 |
|
| bosTau3.genscan.LENGTH | 0.119 | 0.008 | 0.127 |
|
| bosTau3.refGene.LENGTH | 0.031 | 0.000 | 0.032 |
|
| bosTau3.sgpGene.LENGTH | 0.087 | 0.001 | 0.089 |
|
| bosTau4.ensGene.LENGTH | 0.092 | 0.000 | 0.093 |
|
| bosTau4.geneSymbol.LENGTH | 0.032 | 0.001 | 0.032 |
|
| bosTau4.genscan.LENGTH | 0.064 | 0.001 | 0.066 |
|
| bosTau4.nscanGene.LENGTH | 0.028 | 0.000 | 0.027 |
|
| bosTau4.refGene.LENGTH | 0.031 | 0.000 | 0.030 |
|
| braFlo1.xenoRefGene.LENGTH | 0.385 | 0.000 | 0.386 |
|
| caeJap1.xenoRefGene.LENGTH | 0.332 | 0.008 | 0.340 |
|
| caePb1.xenoRefGene.LENGTH | 0.457 | 0.002 | 0.459 |
|
| caePb2.xenoRefGene.LENGTH | 0.422 | 0.000 | 0.423 |
|
| caeRem2.xenoRefGene.LENGTH | 0.384 | 0.001 | 0.385 |
|
| caeRem3.xenoRefGene.LENGTH | 0.351 | 0.000 | 0.352 |
|
| calJac1.genscan.LENGTH | 0.086 | 0.001 | 0.088 |
|
| calJac1.nscanGene.LENGTH | 0.114 | 0.007 | 0.122 |
|
| calJac1.xenoRefGene.LENGTH | 0.734 | 0.006 | 0.739 |
|
| canFam1.ensGene.LENGTH | 0.104 | 0.001 | 0.106 |
|
| canFam1.geneSymbol.LENGTH | 0.006 | 0.001 | 0.006 |
|
| canFam1.genscan.LENGTH | 0.064 | 0.002 | 0.066 |
|
| canFam1.nscanGene.LENGTH | 0.174 | 0.004 | 0.179 |
|
| canFam1.refGene.LENGTH | 0.005 | 0.000 | 0.005 |
|
| canFam1.xenoRefGene.LENGTH | 0.600 | 0.001 | 0.602 |
|
| canFam2.ensGene.LENGTH | 0.097 | 0.000 | 0.097 |
|
| canFam2.geneSymbol.LENGTH | 0.005 | 0.000 | 0.005 |
|
| canFam2.genscan.LENGTH | 0.058 | 0.001 | 0.060 |
|
| canFam2.nscanGene.LENGTH | 0.060 | 0.001 | 0.062 |
|
| canFam2.refGene.LENGTH | 0.004 | 0.000 | 0.004 |
|
| canFam2.xenoRefGene.LENGTH | 0.557 | 0.003 | 0.561 |
|
| cavPor3.ensGene.LENGTH | 0.089 | 0.002 | 0.091 |
|
| cavPor3.genscan.LENGTH | 0.205 | 0.004 | 0.209 |
|
| cavPor3.nscanGene.LENGTH | 0.063 | 0.001 | 0.064 |
|
| cavPor3.xenoRefGene.LENGTH | 0.572 | 0.004 | 0.577 |
|
| cb1.xenoRefGene.LENGTH | 0.485 | 0.000 | 0.486 |
|
| cb3.xenoRefGene.LENGTH | 0.336 | 0.002 | 0.339 |
|
| ce2.geneSymbol.LENGTH | 0.067 | 0.001 | 0.068 |
|
| ce2.geneid.LENGTH | 0.057 | 0.000 | 0.057 |
|
| ce2.refGene.LENGTH | 0.063 | 0.000 | 0.063 |
|
| ce4.geneSymbol.LENGTH | 0.065 | 0.001 | 0.066 |
|
| ce4.refGene.LENGTH | 0.059 | 0.000 | 0.060 |
|
| ce4.xenoRefGene.LENGTH | 0.080 | 0.001 | 0.081 |
|
| ce6.ensGene.LENGTH | 0.093 | 0.002 | 0.095 |
|
| ce6.geneSymbol.LENGTH | 0.068 | 0.001 | 0.069 |
|
| ce6.refGene.LENGTH | 0.065 | 0.000 | 0.065 |
|
| ce6.xenoRefGene.LENGTH | 0.085 | 0.000 | 0.085 |
|
| ci1.geneSymbol.LENGTH | 0.004 | 0.001 | 0.005 |
|
| ci1.refGene.LENGTH | 0.004 | 0.000 | 0.004 |
|
| ci1.xenoRefGene.LENGTH | 0.172 | 0.000 | 0.172 |
|
| ci2.ensGene.LENGTH | 0.065 | 0.000 | 0.065 |
|
| ci2.geneSymbol.LENGTH | 0.005 | 0.000 | 0.005 |
|
| ci2.refGene.LENGTH | 0.005 | 0.002 | 0.007 |
|
| ci2.xenoRefGene.LENGTH | 0.296 | 0.004 | 0.300 |
|
| danRer3.ensGene.LENGTH | 0.1 | 0.0 | 0.1 |
|
| danRer3.geneSymbol.LENGTH | 0.055 | 0.000 | 0.055 |
|
| danRer3.refGene.LENGTH | 0.051 | 0.002 | 0.052 |
|
| danRer4.ensGene.LENGTH | 0.312 | 0.010 | 0.322 |
|
| danRer4.geneSymbol.LENGTH | 0.051 | 0.001 | 0.052 |
|
| danRer4.genscan.LENGTH | 0.058 | 0.001 | 0.059 |
|
| danRer4.nscanGene.LENGTH | 0.085 | 0.000 | 0.085 |
|
| danRer4.refGene.LENGTH | 0.048 | 0.000 | 0.048 |
|
| danRer5.ensGene.LENGTH | 0.110 | 0.001 | 0.111 |
|
| danRer5.geneSymbol.LENGTH | 0.049 | 0.000 | 0.049 |
|
| danRer5.refGene.LENGTH | 0.043 | 0.000 | 0.043 |
|
| danRer5.vegaGene.LENGTH | 0.045 | 0.000 | 0.045 |
|
| danRer5.vegaPseudoGene.LENGTH | 0.001 | 0.001 | 0.002 |
|
| danRer6.ensGene.LENGTH | 0.103 | 0.000 | 0.103 |
|
| danRer6.geneSymbol.LENGTH | 0.048 | 0.000 | 0.048 |
|
| danRer6.refGene.LENGTH | 0.044 | 0.001 | 0.045 |
|
| danRer6.xenoRefGene.LENGTH | 0.476 | 0.001 | 0.477 |
|
| dm1.geneSymbol.LENGTH | 0.062 | 0.000 | 0.062 |
|
| dm1.genscan.LENGTH | 0.021 | 0.001 | 0.022 |
|
| dm1.refGene.LENGTH | 0.056 | 0.000 | 0.056 |
|
| dm2.geneSymbol.LENGTH | 0.061 | 0.000 | 0.061 |
|
| dm2.geneid.LENGTH | 0.034 | 0.001 | 0.035 |
|
| dm2.genscan.LENGTH | 0.021 | 0.001 | 0.022 |
|
| dm2.nscanGene.LENGTH | 0.048 | 0.001 | 0.049 |
|
| dm2.refGene.LENGTH | 0.056 | 0.000 | 0.056 |
|
| dm3.geneSymbol.LENGTH | 0.071 | 0.000 | 0.071 |
|
| dm3.nscanPasaGene.LENGTH | 0.049 | 0.000 | 0.049 |
|
| dm3.refGene.LENGTH | 0.063 | 0.001 | 0.064 |
|
| downloadLengthFromUCSC | 0 | 0 | 0 |
|
| dp2.genscan.LENGTH | 0.033 | 0.000 | 0.033 |
|
| dp2.xenoRefGene.LENGTH | 0.205 | 0.002 | 0.207 |
|
| dp3.geneid.LENGTH | 0.038 | 0.000 | 0.038 |
|
| dp3.genscan.LENGTH | 0.024 | 0.001 | 0.025 |
|
| dp3.xenoRefGene.LENGTH | 0.102 | 0.001 | 0.103 |
|
| droAna1.geneid.LENGTH | 0.067 | 0.000 | 0.067 |
|
| droAna1.genscan.LENGTH | 0.021 | 0.000 | 0.021 |
|
| droAna1.xenoRefGene.LENGTH | 0.189 | 0.000 | 0.190 |
|
| droAna2.genscan.LENGTH | 0.048 | 0.000 | 0.048 |
|
| droAna2.xenoRefGene.LENGTH | 0.259 | 0.000 | 0.259 |
|
| droEre1.genscan.LENGTH | 0.028 | 0.001 | 0.029 |
|
| droEre1.xenoRefGene.LENGTH | 0.369 | 0.004 | 0.373 |
|
| droGri1.genscan.LENGTH | 0.039 | 0.000 | 0.039 |
|
| droGri1.xenoRefGene.LENGTH | 0.244 | 0.002 | 0.246 |
|
| droMoj1.geneid.LENGTH | 0.12 | 0.00 | 0.12 |
|
| droMoj1.genscan.LENGTH | 0.052 | 0.001 | 0.053 |
|
| droMoj1.xenoRefGene.LENGTH | 0.202 | 0.005 | 0.207 |
|
| droMoj2.genscan.LENGTH | 0.034 | 0.002 | 0.036 |
|
| droMoj2.xenoRefGene.LENGTH | 0.237 | 0.000 | 0.237 |
|
| droPer1.genscan.LENGTH | 0.038 | 0.001 | 0.039 |
|
| droPer1.xenoRefGene.LENGTH | 0.237 | 0.001 | 0.238 |
|
| droSec1.genscan.LENGTH | 0.027 | 0.001 | 0.028 |
|
| droSec1.xenoRefGene.LENGTH | 0.243 | 0.000 | 0.243 |
|
| droSim1.geneid.LENGTH | 0.035 | 0.000 | 0.035 |
|
| droSim1.genscan.LENGTH | 0.023 | 0.001 | 0.024 |
|
| droSim1.xenoRefGene.LENGTH | 0.208 | 0.001 | 0.209 |
|
| droVir1.geneid.LENGTH | 0.098 | 0.003 | 0.101 |
|
| droVir1.genscan.LENGTH | 0.264 | 0.004 | 0.268 |
|
| droVir1.xenoRefGene.LENGTH | 0.212 | 0.001 | 0.214 |
|
| droVir2.genscan.LENGTH | 0.037 | 0.000 | 0.037 |
|
| droVir2.xenoRefGene.LENGTH | 0.234 | 0.001 | 0.235 |
|
| droYak1.geneid.LENGTH | 0.041 | 0.001 | 0.042 |
|
| droYak1.genscan.LENGTH | 0.028 | 0.000 | 0.028 |
|
| droYak1.xenoRefGene.LENGTH | 0.203 | 0.009 | 0.212 |
|
| droYak2.genscan.LENGTH | 0.027 | 0.001 | 0.028 |
|
| droYak2.xenoRefGene.LENGTH | 0.237 | 0.000 | 0.237 |
|
| equCab1.geneSymbol.LENGTH | 0.006 | 0.000 | 0.006 |
|
| equCab1.geneid.LENGTH | 0.087 | 0.003 | 0.090 |
|
| equCab1.nscanGene.LENGTH | 0.039 | 0.000 | 0.039 |
|
| equCab1.refGene.LENGTH | 0.004 | 0.001 | 0.005 |
|
| equCab1.sgpGene.LENGTH | 0.067 | 0.000 | 0.066 |
|
| equCab2.ensGene.LENGTH | 0.091 | 0.001 | 0.092 |
|
| equCab2.geneSymbol.LENGTH | 0.006 | 0.001 | 0.007 |
|
| equCab2.nscanGene.LENGTH | 0.048 | 0.001 | 0.049 |
|
| equCab2.refGene.LENGTH | 0.006 | 0.001 | 0.006 |
|
| equCab2.xenoRefGene.LENGTH | 0.507 | 0.003 | 0.510 |
|
| felCat3.ensGene.LENGTH | 0.095 | 0.003 | 0.097 |
|
| felCat3.geneSymbol.LENGTH | 1.018 | 0.124 | 1.142 |
|
| felCat3.geneid.LENGTH | 0.453 | 0.001 | 0.454 |
|
| felCat3.genscan.LENGTH | 0.104 | 0.000 | 0.104 |
|
| felCat3.nscanGene.LENGTH | 0.077 | 0.001 | 0.079 |
|
| felCat3.refGene.LENGTH | 0.003 | 0.000 | 0.003 |
|
| felCat3.sgpGene.LENGTH | 0.128 | 0.000 | 0.128 |
|
| felCat3.xenoRefGene.LENGTH | 0.956 | 0.002 | 0.957 |
|
| fr1.ensGene.LENGTH | 0.068 | 0.000 | 0.069 |
|
| fr1.genscan.LENGTH | 0.053 | 0.001 | 0.054 |
|
| fr2.ensGene.LENGTH | 0.119 | 0.001 | 0.120 |
|
| galGal2.ensGene.LENGTH | 0.052 | 0.001 | 0.053 |
|
| galGal2.geneSymbol.LENGTH | 0.016 | 0.000 | 0.016 |
|
| galGal2.geneid.LENGTH | 0.037 | 0.000 | 0.037 |
|
| galGal2.genscan.LENGTH | 0.047 | 0.001 | 0.048 |
|
| galGal2.refGene.LENGTH | 0.014 | 0.000 | 0.014 |
|
| galGal2.sgpGene.LENGTH | 0.041 | 0.000 | 0.042 |
|
| galGal3.ensGene.LENGTH | 0.072 | 0.001 | 0.073 |
|
| galGal3.geneSymbol.LENGTH | 0.016 | 0.001 | 0.017 |
|
| galGal3.genscan.LENGTH | 0.043 | 0.003 | 0.046 |
|
| galGal3.nscanGene.LENGTH | 0.066 | 0.002 | 0.068 |
|
| galGal3.refGene.LENGTH | 0.014 | 0.000 | 0.014 |
|
| galGal3.xenoRefGene.LENGTH | 0.437 | 0.003 | 0.439 |
|
| gasAcu1.ensGene.LENGTH | 0.085 | 0.002 | 0.087 |
|
| gasAcu1.nscanGene.LENGTH | 0.084 | 0.007 | 0.091 |
|
| hg16.acembly.LENGTH | 0.344 | 0.006 | 0.351 |
|
| hg16.ensGene.LENGTH | 0.068 | 0.004 | 0.072 |
|
| hg16.exoniphy.LENGTH | 0.246 | 0.006 | 0.252 |
|
| hg16.geneSymbol.LENGTH | 0.103 | 0.003 | 0.106 |
|
| hg16.geneid.LENGTH | 0.046 | 0.001 | 0.047 |
|
| hg16.genscan.LENGTH | 0.064 | 0.001 | 0.065 |
|
| hg16.knownGene.LENGTH | 0.118 | 0.003 | 0.122 |
|
| hg16.refGene.LENGTH | 0.092 | 0.000 | 0.093 |
|
| hg16.sgpGene.LENGTH | 0.052 | 0.002 | 0.054 |
|
| hg17.acembly.LENGTH | 0.805 | 0.008 | 0.813 |
|
| hg17.acescan.LENGTH | 0.009 | 0.001 | 0.009 |
|
| hg17.ccdsGene.LENGTH | 0.021 | 0.000 | 0.021 |
|
| hg17.ensGene.LENGTH | 0.099 | 0.002 | 0.101 |
|
| hg17.exoniphy.LENGTH | 0.368 | 0.002 | 0.370 |
|
| hg17.geneSymbol.LENGTH | 0.094 | 0.000 | 0.094 |
|
| hg17.geneid.LENGTH | 0.066 | 0.000 | 0.066 |
|
| hg17.genscan.LENGTH | 0.055 | 0.000 | 0.054 |
|
| hg17.knownGene.LENGTH | 0.100 | 0.000 | 0.099 |
|
| hg17.refGene.LENGTH | 0.09 | 0.00 | 0.09 |
|
| hg17.sgpGene.LENGTH | 0.066 | 0.000 | 0.066 |
|
| hg17.vegaGene.LENGTH | 0.038 | 0.000 | 0.039 |
|
| hg17.vegaPseudoGene.LENGTH | 0.015 | 0.001 | 0.017 |
|
| hg17.xenoRefGene.LENGTH | 0.184 | 0.000 | 0.185 |
|
| hg18.acembly.LENGTH | 0.424 | 0.001 | 0.425 |
|
| hg18.acescan.LENGTH | 0.008 | 0.001 | 0.009 |
|
| hg18.ccdsGene.LENGTH | 0.031 | 0.000 | 0.031 |
|
| hg18.ensGene.LENGTH | 0.176 | 0.001 | 0.177 |
|
| hg18.exoniphy.LENGTH | 0.527 | 0.003 | 0.529 |
|
| hg18.geneSymbol.LENGTH | 0.096 | 0.000 | 0.096 |
|
| hg18.geneid.LENGTH | 0.068 | 0.000 | 0.067 |
|
| hg18.genscan.LENGTH | 0.055 | 0.000 | 0.054 |
|
| hg18.knownGene.LENGTH | 0.145 | 0.001 | 0.145 |
|
| hg18.knownGeneOld3.LENGTH | 0.067 | 0.000 | 0.067 |
|
| hg18.refGene.LENGTH | 0.091 | 0.000 | 0.091 |
|
| hg18.sgpGene.LENGTH | 0.068 | 0.002 | 0.070 |
|
| hg18.sibGene.LENGTH | 0.314 | 0.001 | 0.315 |
|
| hg18.xenoRefGene.LENGTH | 0.328 | 0.000 | 0.327 |
|
| hg19.ccdsGene.LENGTH | 0.039 | 0.000 | 0.039 |
|
| hg19.ensGene.LENGTH | 0.284 | 0.002 | 0.286 |
|
| hg19.exoniphy.LENGTH | 0.906 | 0.001 | 0.907 |
|
| hg19.geneSymbol.LENGTH | 0.099 | 0.000 | 0.099 |
|
| hg19.knownGene.LENGTH | 0.162 | 0.000 | 0.161 |
|
| hg19.nscanGene.LENGTH | 0.14 | 0.00 | 0.14 |
|
| hg19.refGene.LENGTH | 0.093 | 0.000 | 0.092 |
|
| hg19.xenoRefGene.LENGTH | 0.343 | 0.000 | 0.343 |
|
| loxAfr3.xenoRefGene.LENGTH | 0.704 | 0.002 | 0.707 |
|
| mm7.ensGene.LENGTH | 0.106 | 0.001 | 0.107 |
|
| mm7.geneSymbol.LENGTH | 0.085 | 0.000 | 0.084 |
|
| mm7.geneid.LENGTH | 0.077 | 0.001 | 0.077 |
|
| mm7.genscan.LENGTH | 0.063 | 0.000 | 0.064 |
|
| mm7.knownGene.LENGTH | 0.090 | 0.000 | 0.091 |
|
| mm7.refGene.LENGTH | 0.079 | 0.001 | 0.081 |
|
| mm7.sgpGene.LENGTH | 0.074 | 0.001 | 0.075 |
|
| mm7.xenoRefGene.LENGTH | 0.288 | 0.000 | 0.287 |
|
| mm8.ccdsGene.LENGTH | 0.022 | 0.000 | 0.021 |
|
| mm8.ensGene.LENGTH | 0.073 | 0.001 | 0.075 |
|
| mm8.geneSymbol.LENGTH | 0.084 | 0.000 | 0.084 |
|
| mm8.geneid.LENGTH | 0.069 | 0.003 | 0.073 |
|
| mm8.genscan.LENGTH | 0.058 | 0.001 | 0.059 |
|
| mm8.knownGene.LENGTH | 0.084 | 0.001 | 0.085 |
|
| mm8.nscanGene.LENGTH | 0.060 | 0.000 | 0.059 |
|
| mm8.refGene.LENGTH | 0.076 | 0.001 | 0.076 |
|
| mm8.sgpGene.LENGTH | 0.069 | 0.001 | 0.070 |
|
| mm8.sibGene.LENGTH | 1.327 | 0.001 | 1.328 |
|
| mm8.xenoRefGene.LENGTH | 0.319 | 0.000 | 0.319 |
|
| mm9.acembly.LENGTH | 0.269 | 0.000 | 0.268 |
|
| mm9.ccdsGene.LENGTH | 0.026 | 0.001 | 0.026 |
|
| mm9.ensGene.LENGTH | 0.130 | 0.001 | 0.131 |
|
| mm9.exoniphy.LENGTH | 0.381 | 0.000 | 0.382 |
|
| mm9.geneSymbol.LENGTH | 0.081 | 0.000 | 0.081 |
|
| mm9.geneid.LENGTH | 0.077 | 0.000 | 0.077 |
|
| mm9.genscan.LENGTH | 0.058 | 0.000 | 0.059 |
|
| mm9.knownGene.LENGTH | 0.100 | 0.000 | 0.101 |
|
| mm9.nscanGene.LENGTH | 0.055 | 0.001 | 0.056 |
|
| mm9.refGene.LENGTH | 0.076 | 0.000 | 0.076 |
|
| mm9.sgpGene.LENGTH | 0.072 | 0.000 | 0.072 |
|
| mm9.xenoRefGene.LENGTH | 0.329 | 0.000 | 0.328 |
|
| monDom1.genscan.LENGTH | 0.059 | 0.000 | 0.058 |
|
| monDom4.ensGene.LENGTH | 0.066 | 0.000 | 0.065 |
|
| monDom4.geneSymbol.LENGTH | 0.002 | 0.001 | 0.004 |
|
| monDom4.genscan.LENGTH | 0.047 | 0.000 | 0.048 |
|
| monDom4.nscanGene.LENGTH | 0.046 | 0.000 | 0.047 |
|
| monDom4.refGene.LENGTH | 0.003 | 0.000 | 0.003 |
|
| monDom4.xenoRefGene.LENGTH | 0.298 | 0.000 | 0.298 |
|
| monDom5.ensGene.LENGTH | 0.102 | 0.000 | 0.102 |
|
| monDom5.geneSymbol.LENGTH | 0.003 | 0.000 | 0.003 |
|
| monDom5.genscan.LENGTH | 0.049 | 0.000 | 0.048 |
|
| monDom5.nscanGene.LENGTH | 0.099 | 0.000 | 0.099 |
|
| monDom5.refGene.LENGTH | 0.003 | 0.000 | 0.003 |
|
| monDom5.xenoRefGene.LENGTH | 0.538 | 0.001 | 0.539 |
|
| ornAna1.ensGene.LENGTH | 0.086 | 0.001 | 0.088 |
|
| ornAna1.geneSymbol.LENGTH | 0.002 | 0.001 | 0.002 |
|
| ornAna1.refGene.LENGTH | 0.002 | 0.000 | 0.002 |
|
| ornAna1.xenoRefGene.LENGTH | 0.522 | 0.000 | 0.521 |
|
| oryLat2.ensGene.LENGTH | 0.074 | 0.000 | 0.074 |
|
| oryLat2.geneSymbol.LENGTH | 0.003 | 0.000 | 0.003 |
|
| oryLat2.refGene.LENGTH | 0.003 | 0.000 | 0.003 |
|
| oryLat2.xenoRefGene.LENGTH | 0.48 | 0.00 | 0.48 |
|
| panTro1.ensGene.LENGTH | 0.096 | 0.000 | 0.096 |
|
| panTro1.geneid.LENGTH | 0.045 | 0.000 | 0.044 |
|
| panTro1.genscan.LENGTH | 0.058 | 0.000 | 0.058 |
|
| panTro1.xenoRefGene.LENGTH | 0.11 | 0.00 | 0.11 |
|
| panTro2.ensGene.LENGTH | 0.104 | 0.000 | 0.104 |
|
| panTro2.geneSymbol.LENGTH | 0.097 | 0.001 | 0.098 |
|
| panTro2.genscan.LENGTH | 0.058 | 0.001 | 0.059 |
|
| panTro2.nscanGene.LENGTH | 0.063 | 0.000 | 0.063 |
|
| panTro2.refGene.LENGTH | 0.098 | 0.000 | 0.098 |
|
| panTro2.xenoRefGene.LENGTH | 0.465 | 0.001 | 0.466 |
|
| petMar1.xenoRefGene.LENGTH | 0.253 | 0.000 | 0.253 |
|
| ponAbe2.ensGene.LENGTH | 0.078 | 0.003 | 0.081 |
|
| ponAbe2.geneSymbol.LENGTH | 0.011 | 0.001 | 0.012 |
|
| ponAbe2.genscan.LENGTH | 0.058 | 0.002 | 0.060 |
|
| ponAbe2.nscanGene.LENGTH | 0.057 | 0.000 | 0.057 |
|
| ponAbe2.refGene.LENGTH | 0.011 | 0.000 | 0.011 |
|
| ponAbe2.xenoRefGene.LENGTH | 0.584 | 0.005 | 0.589 |
|
| priPac1.xenoRefGene.LENGTH | 0.338 | 0.001 | 0.339 |
|
| rheMac2.ensGene.LENGTH | 0.118 | 0.004 | 0.123 |
|
| rheMac2.geneSymbol.LENGTH | 0.005 | 0.000 | 0.005 |
|
| rheMac2.geneid.LENGTH | 0.066 | 0.003 | 0.069 |
|
| rheMac2.nscanGene.LENGTH | 0.057 | 0.000 | 0.057 |
|
| rheMac2.refGene.LENGTH | 0.003 | 0.001 | 0.004 |
|
| rheMac2.sgpGene.LENGTH | 0.067 | 0.000 | 0.067 |
|
| rheMac2.xenoRefGene.LENGTH | 0.700 | 0.003 | 0.703 |
|
| rn3.ensGene.LENGTH | 0.091 | 0.000 | 0.091 |
|
| rn3.geneSymbol.LENGTH | 0.05 | 0.00 | 0.05 |
|
| rn3.geneid.LENGTH | 0.049 | 0.000 | 0.049 |
|
| rn3.genscan.LENGTH | 0.058 | 0.000 | 0.059 |
|
| rn3.knownGene.LENGTH | 0.022 | 0.000 | 0.022 |
|
| rn3.nscanGene.LENGTH | 0.056 | 0.000 | 0.056 |
|
| rn3.refGene.LENGTH | 0.046 | 0.001 | 0.047 |
|
| rn3.sgpGene.LENGTH | 0.051 | 0.001 | 0.052 |
|
| rn3.xenoRefGene.LENGTH | 0.477 | 0.002 | 0.479 |
|
| rn4.ensGene.LENGTH | 0.119 | 0.001 | 0.120 |
|
| rn4.geneSymbol.LENGTH | 0.048 | 0.000 | 0.048 |
|
| rn4.geneid.LENGTH | 0.081 | 0.000 | 0.081 |
|
| rn4.genscan.LENGTH | 0.055 | 0.000 | 0.055 |
|
| rn4.knownGene.LENGTH | 0.023 | 0.000 | 0.023 |
|
| rn4.nscanGene.LENGTH | 0.049 | 0.000 | 0.049 |
|
| rn4.refGene.LENGTH | 0.045 | 0.000 | 0.045 |
|
| rn4.sgpGene.LENGTH | 0.071 | 0.001 | 0.072 |
|
| rn4.xenoRefGene.LENGTH | 0.296 | 0.001 | 0.297 |
|
| sacCer1.ensGene.LENGTH | 0.017 | 0.000 | 0.017 |
|
| sacCer2.ensGene.LENGTH | 0.016 | 0.000 | 0.016 |
|
| strPur1.geneSymbol.LENGTH | 0.004 | 0.000 | 0.004 |
|
| strPur1.genscan.LENGTH | 0.060 | 0.001 | 0.061 |
|
| strPur1.refGene.LENGTH | 0.003 | 0.001 | 0.004 |
|
| strPur1.xenoRefGene.LENGTH | 0.421 | 0.000 | 0.422 |
|
| strPur2.geneSymbol.LENGTH | 0.003 | 0.001 | 0.004 |
|
| strPur2.genscan.LENGTH | 0.1 | 0.0 | 0.1 |
|
| strPur2.refGene.LENGTH | 0.003 | 0.001 | 0.004 |
|
| strPur2.xenoRefGene.LENGTH | 0.591 | 0.000 | 0.591 |
|
| supportedGeneIDs | 4.383 | 0.504 | 7.259 |
|
| supportedGenomes | 0.262 | 0.013 | 1.111 |
|
| taeGut1.ensGene.LENGTH | 0.061 | 0.003 | 0.064 |
|
| taeGut1.geneSymbol.LENGTH | 0.002 | 0.001 | 0.002 |
|
| taeGut1.genscan.LENGTH | 0.031 | 0.000 | 0.030 |
|
| taeGut1.nscanGene.LENGTH | 0.026 | 0.000 | 0.025 |
|
| taeGut1.refGene.LENGTH | 0.003 | 0.000 | 0.003 |
|
| taeGut1.xenoRefGene.LENGTH | 0.433 | 0.010 | 0.442 |
|
| tetNig1.ensGene.LENGTH | 0.086 | 0.001 | 0.086 |
|
| tetNig1.geneid.LENGTH | 0.066 | 0.001 | 0.067 |
|
| tetNig1.genscan.LENGTH | 0.046 | 0.001 | 0.048 |
|
| tetNig1.nscanGene.LENGTH | 0.065 | 0.016 | 0.081 |
|
| tetNig2.ensGene.LENGTH | 0.069 | 0.002 | 0.071 |
|
| unfactor | 0.003 | 0.000 | 0.004 |
|
| xenTro1.genscan.LENGTH | 0.081 | 0.004 | 0.086 |
|
| xenTro2.ensGene.LENGTH | 0.084 | 0.002 | 0.086 |
|
| xenTro2.geneSymbol.LENGTH | 0.030 | 0.000 | 0.031 |
|
| xenTro2.genscan.LENGTH | 0.066 | 0.003 | 0.070 |
|
| xenTro2.refGene.LENGTH | 0.027 | 0.001 | 0.027 |
|