| Back to Build/check report for BioC 3.20 experimental data |
|
This page was generated on 2025-03-27 15:42 -0400 (Thu, 27 Mar 2025).
| Hostname | OS | Arch (*) | R version | Installed pkgs |
|---|---|---|---|---|
| nebbiolo2 | Linux (Ubuntu 24.04.1 LTS) | x86_64 | 4.4.3 (2025-02-28) -- "Trophy Case" | 4764 |
| Click on any hostname to see more info about the system (e.g. compilers) (*) as reported by 'uname -p', except on Windows and Mac OS X | ||||
| Package 177/431 | Hostname | OS / Arch | INSTALL | BUILD | CHECK | ||||||||
| healthyControlsPresenceChecker 1.10.0 (landing page) Davide Chicco
| nebbiolo2 | Linux (Ubuntu 24.04.1 LTS) / x86_64 | OK | OK | ERROR | ||||||||
|
To the developers/maintainers of the healthyControlsPresenceChecker package: - Use the following Renviron settings to reproduce errors and warnings. - If 'R CMD check' started to fail recently on the Linux builder(s) over a missing dependency, add the missing dependency to 'Suggests:' in your DESCRIPTION file. See Renviron.bioc for more information. |
| Package: healthyControlsPresenceChecker |
| Version: 1.10.0 |
| Command: /home/biocbuild/bbs-3.20-bioc/R/bin/R CMD check --install=check:healthyControlsPresenceChecker.install-out.txt --library=/home/biocbuild/bbs-3.20-bioc/R/site-library --timings healthyControlsPresenceChecker_1.10.0.tar.gz |
| StartedAt: 2025-03-27 12:08:10 -0400 (Thu, 27 Mar 2025) |
| EndedAt: 2025-03-27 12:11:10 -0400 (Thu, 27 Mar 2025) |
| EllapsedTime: 179.2 seconds |
| RetCode: 1 |
| Status: ERROR |
| CheckDir: healthyControlsPresenceChecker.Rcheck |
| Warnings: NA |
##############################################################################
##############################################################################
###
### Running command:
###
### /home/biocbuild/bbs-3.20-bioc/R/bin/R CMD check --install=check:healthyControlsPresenceChecker.install-out.txt --library=/home/biocbuild/bbs-3.20-bioc/R/site-library --timings healthyControlsPresenceChecker_1.10.0.tar.gz
###
##############################################################################
##############################################################################
* using log directory ‘/home/biocbuild/bbs-3.20-data-experiment/meat/healthyControlsPresenceChecker.Rcheck’
* using R version 4.4.3 (2025-02-28)
* using platform: x86_64-pc-linux-gnu
* R was compiled by
gcc (Ubuntu 13.3.0-6ubuntu2~24.04) 13.3.0
GNU Fortran (Ubuntu 13.3.0-6ubuntu2~24.04) 13.3.0
* running under: Ubuntu 24.04.2 LTS
* using session charset: UTF-8
* checking for file ‘healthyControlsPresenceChecker/DESCRIPTION’ ... OK
* this is package ‘healthyControlsPresenceChecker’ version ‘1.10.0’
* package encoding: UTF-8
* checking package namespace information ... OK
* checking package dependencies ... OK
* checking if this is a source package ... OK
* checking if there is a namespace ... OK
* checking for hidden files and directories ... OK
* checking for portable file names ... OK
* checking for sufficient/correct file permissions ... OK
* checking whether package ‘healthyControlsPresenceChecker’ can be installed ... OK
* checking installed package size ... OK
* checking package directory ... OK
* checking ‘build’ directory ... OK
* checking DESCRIPTION meta-information ... OK
* checking top-level files ... OK
* checking for left-over files ... OK
* checking index information ... OK
* checking package subdirectories ... OK
* checking code files for non-ASCII characters ... OK
* checking R files for syntax errors ... OK
* checking whether the package can be loaded ... OK
* checking whether the package can be loaded with stated dependencies ... OK
* checking whether the package can be unloaded cleanly ... OK
* checking whether the namespace can be loaded with stated dependencies ... OK
* checking whether the namespace can be unloaded cleanly ... OK
* checking loading without being on the library search path ... OK
* checking dependencies in R code ... OK
* checking S3 generic/method consistency ... OK
* checking replacement functions ... OK
* checking foreign function calls ... OK
* checking R code for possible problems ... OK
* checking Rd files ... OK
* checking Rd metadata ... OK
* checking Rd cross-references ... OK
* checking for missing documentation entries ... OK
* checking for code/documentation mismatches ... OK
* checking Rd \usage sections ... OK
* checking Rd contents ... OK
* checking for unstated dependencies in examples ... OK
* checking files in ‘vignettes’ ... OK
* checking examples ... OK
* checking for unstated dependencies in ‘tests’ ... OK
* checking tests ...
Running ‘runTests.R’
ERROR
Running the tests in ‘tests/runTests.R’ failed.
Last 13 lines of output:
1 Test Suite :
healthyControlsPresenceChecker RUnit Tests - 1 test function, 1 error, 0 failures
ERROR in test_healthyControlsCheck: Error in httr2::req_perform(req) : HTTP 404 Not Found.
Test files with failing tests
test_healthyControlsPresenceChecker.R
test_healthyControlsCheck
Error in BiocGenerics:::testPackage("healthyControlsPresenceChecker") :
unit tests failed for package healthyControlsPresenceChecker
Execution halted
* checking for unstated dependencies in vignettes ... OK
* checking package vignettes ... OK
* checking re-building of vignette outputs ... OK
* checking PDF version of manual ... OK
* DONE
Status: 1 ERROR
See
‘/home/biocbuild/bbs-3.20-data-experiment/meat/healthyControlsPresenceChecker.Rcheck/00check.log’
for details.
healthyControlsPresenceChecker.Rcheck/00install.out
############################################################################## ############################################################################## ### ### Running command: ### ### /home/biocbuild/bbs-3.20-bioc/R/bin/R CMD INSTALL healthyControlsPresenceChecker ### ############################################################################## ############################################################################## * installing to library ‘/home/biocbuild/bbs-3.20-bioc/R/site-library’ * installing *source* package ‘healthyControlsPresenceChecker’ ... ** using staged installation ** R ** inst ** byte-compile and prepare package for lazy loading ** help *** installing help indices ** building package indices ** installing vignettes ** testing if installed package can be loaded from temporary location ** testing if installed package can be loaded from final location ** testing if installed package keeps a record of temporary installation path * DONE (healthyControlsPresenceChecker)
healthyControlsPresenceChecker.Rcheck/tests/runTests.Rout.fail
R version 4.4.3 (2025-02-28) -- "Trophy Case"
Copyright (C) 2025 The R Foundation for Statistical Computing
Platform: x86_64-pc-linux-gnu
R is free software and comes with ABSOLUTELY NO WARRANTY.
You are welcome to redistribute it under certain conditions.
Type 'license()' or 'licence()' for distribution details.
R is a collaborative project with many contributors.
Type 'contributors()' for more information and
'citation()' on how to cite R or R packages in publications.
Type 'demo()' for some demos, 'help()' for on-line help, or
'help.start()' for an HTML browser interface to help.
Type 'q()' to quit R.
> BiocGenerics:::testPackage("healthyControlsPresenceChecker")
Setting options('download.file.method.GEOquery'='auto')
Setting options('GEOquery.inmemory.gpl'=FALSE)
Processed URL: https://ftp.ncbi.nlm.nih.gov/geo/series/GSE19nnn/GSE19429
Found 1 file(s)
GSE19429_series_matrix.txt.gz
Healthy control 1:
Healthy control 10:
Healthy control 11:
Healthy control 12:
Healthy control 13:
Healthy control 14:
Healthy control 15:
Healthy control 16:
Healthy control 17:
Healthy control 2:
Healthy control 3:
Healthy control 4:
Healthy control 5:
Healthy control 6:
Healthy control 7:
Healthy control 8:
Healthy control 9:
MDS patient 1:
MDS patient 10:
MDS patient 100:
MDS patient 101:
MDS patient 102:
MDS patient 103:
MDS patient 104:
MDS patient 105:
MDS patient 106:
MDS patient 107:
MDS patient 108:
MDS patient 109:
MDS patient 11:
MDS patient 110:
MDS patient 111:
MDS patient 112:
MDS patient 113:
MDS patient 114:
MDS patient 115:
MDS patient 116:
MDS patient 117:
MDS patient 118:
MDS patient 119:
MDS patient 12:
MDS patient 120:
MDS patient 121:
MDS patient 122:
MDS patient 123:
MDS patient 124:
MDS patient 125:
MDS patient 126:
MDS patient 127:
MDS patient 128:
MDS patient 129:
MDS patient 13:
MDS patient 130:
MDS patient 131:
MDS patient 132:
MDS patient 133:
MDS patient 134:
MDS patient 135:
MDS patient 136:
MDS patient 137:
MDS patient 138:
MDS patient 139:
MDS patient 14:
MDS patient 140:
MDS patient 141:
MDS patient 142:
MDS patient 143:
MDS patient 144:
MDS patient 145:
MDS patient 146:
MDS patient 147:
MDS patient 148:
MDS patient 149:
MDS patient 15:
MDS patient 150:
MDS patient 151:
MDS patient 152:
MDS patient 153:
MDS patient 154:
MDS patient 155:
MDS patient 156:
MDS patient 157:
MDS patient 158:
MDS patient 159:
MDS patient 16:
MDS patient 160:
MDS patient 161:
MDS patient 162:
MDS patient 163:
MDS patient 164:
MDS patient 165:
MDS patient 166:
MDS patient 167:
MDS patient 168:
MDS patient 169:
MDS patient 17:
MDS patient 170:
MDS patient 171:
MDS patient 172:
MDS patient 173:
MDS patient 174:
MDS patient 175:
MDS patient 176:
MDS patient 177:
MDS patient 178:
MDS patient 179:
MDS patient 18:
MDS patient 180:
MDS patient 181:
MDS patient 182:
MDS patient 183:
MDS patient 19:
MDS patient 2:
MDS patient 20:
MDS patient 21:
MDS patient 22:
MDS patient 23:
MDS patient 24:
MDS patient 25:
MDS patient 26:
MDS patient 27:
MDS patient 28:
MDS patient 29:
MDS patient 3:
MDS patient 30:
MDS patient 31:
MDS patient 32:
MDS patient 33:
MDS patient 34:
MDS patient 35:
MDS patient 36:
MDS patient 37:
MDS patient 38:
MDS patient 39:
MDS patient 4:
MDS patient 40:
MDS patient 41:
MDS patient 42:
MDS patient 43:
MDS patient 44:
MDS patient 45:
MDS patient 46:
MDS patient 47:
MDS patient 48:
MDS patient 49:
MDS patient 5:
MDS patient 50:
MDS patient 51:
MDS patient 52:
MDS patient 53:
MDS patient 54:
MDS patient 55:
MDS patient 56:
MDS patient 57:
MDS patient 58:
MDS patient 59:
MDS patient 6:
MDS patient 60:
MDS patient 61:
MDS patient 62:
MDS patient 63:
MDS patient 64:
MDS patient 65:
MDS patient 66:
MDS patient 67:
MDS patient 68:
MDS patient 69:
MDS patient 7:
MDS patient 70:
MDS patient 71:
MDS patient 72:
MDS patient 73:
MDS patient 74:
MDS patient 75:
MDS patient 76:
MDS patient 77:
MDS patient 78:
MDS patient 79:
MDS patient 8:
MDS patient 80:
MDS patient 81:
MDS patient 82:
MDS patient 83:
MDS patient 84:
MDS patient 85:
MDS patient 86:
MDS patient 87:
MDS patient 88:
MDS patient 89:
MDS patient 9:
MDS patient 90:
MDS patient 91:
MDS patient 92:
MDS patient 93:
MDS patient 94:
MDS patient 95:
MDS patient 96:
MDS patient 97:
MDS patient 98:
MDS patient 99:
disease status: healthy control:
disease status: myelodysplastic syndromes (MDS):
50 ng of total RNA were amplified and biotin-labelled with the Two-Cycle cDNA Synthesis and the Two-Cycle Target Labelling and Control Reagent packages according to the standard Affymetrix protocol.:
healthy control:
myelodysplastic syndromes (MDS):
Processed URL: https://ftp.ncbi.nlm.nih.gov/geo/series/GSE58nnn/GSE58831
Found 0 file(s)
NA
Timing stopped at: 13.92 1.65 21.49
Error in httr2::req_perform(req) : HTTP 404 Not Found.
RUNIT TEST PROTOCOL -- Thu Mar 27 12:10:55 2025
***********************************************
Number of test functions: 1
Number of errors: 1
Number of failures: 0
1 Test Suite :
healthyControlsPresenceChecker RUnit Tests - 1 test function, 1 error, 0 failures
ERROR in test_healthyControlsCheck: Error in httr2::req_perform(req) : HTTP 404 Not Found.
Test files with failing tests
test_healthyControlsPresenceChecker.R
test_healthyControlsCheck
Error in BiocGenerics:::testPackage("healthyControlsPresenceChecker") :
unit tests failed for package healthyControlsPresenceChecker
Execution halted
healthyControlsPresenceChecker.Rcheck/healthyControlsPresenceChecker-Ex.timings
| name | user | system | elapsed | |
| healthyControlsCheck | 1.310 | 0.029 | 2.073 | |