| Back to Build/check report for BioC 3.20 experimental data |
|
This page was generated on 2025-04-01 15:41 -0400 (Tue, 01 Apr 2025).
| Hostname | OS | Arch (*) | R version | Installed pkgs |
|---|---|---|---|---|
| nebbiolo2 | Linux (Ubuntu 24.04.1 LTS) | x86_64 | 4.4.3 (2025-02-28) -- "Trophy Case" | 4764 |
| Click on any hostname to see more info about the system (e.g. compilers) (*) as reported by 'uname -p', except on Windows and Mac OS X | ||||
| Package 356/431 | Hostname | OS / Arch | INSTALL | BUILD | CHECK | ||||||||
| scRNAseq 2.20.0 (landing page) Aaron Lun
| nebbiolo2 | Linux (Ubuntu 24.04.1 LTS) / x86_64 | OK | OK | OK | ||||||||
|
To the developers/maintainers of the scRNAseq package: - Use the following Renviron settings to reproduce errors and warnings. - If 'R CMD check' started to fail recently on the Linux builder(s) over a missing dependency, add the missing dependency to 'Suggests:' in your DESCRIPTION file. See Renviron.bioc for more information. |
| Package: scRNAseq |
| Version: 2.20.0 |
| Command: /home/biocbuild/bbs-3.20-bioc/R/bin/R CMD check --install=check:scRNAseq.install-out.txt --library=/home/biocbuild/bbs-3.20-bioc/R/site-library --timings scRNAseq_2.20.0.tar.gz |
| StartedAt: 2025-04-01 12:34:58 -0400 (Tue, 01 Apr 2025) |
| EndedAt: 2025-04-01 12:49:14 -0400 (Tue, 01 Apr 2025) |
| EllapsedTime: 855.9 seconds |
| RetCode: 0 |
| Status: OK |
| CheckDir: scRNAseq.Rcheck |
| Warnings: 0 |
##############################################################################
##############################################################################
###
### Running command:
###
### /home/biocbuild/bbs-3.20-bioc/R/bin/R CMD check --install=check:scRNAseq.install-out.txt --library=/home/biocbuild/bbs-3.20-bioc/R/site-library --timings scRNAseq_2.20.0.tar.gz
###
##############################################################################
##############################################################################
* using log directory ‘/home/biocbuild/bbs-3.20-data-experiment/meat/scRNAseq.Rcheck’
* using R version 4.4.3 (2025-02-28)
* using platform: x86_64-pc-linux-gnu
* R was compiled by
gcc (Ubuntu 13.3.0-6ubuntu2~24.04) 13.3.0
GNU Fortran (Ubuntu 13.3.0-6ubuntu2~24.04) 13.3.0
* running under: Ubuntu 24.04.2 LTS
* using session charset: UTF-8
* checking for file ‘scRNAseq/DESCRIPTION’ ... OK
* this is package ‘scRNAseq’ version ‘2.20.0’
* package encoding: UTF-8
* checking package namespace information ... OK
* checking package dependencies ... OK
* checking if this is a source package ... OK
* checking if there is a namespace ... OK
* checking for hidden files and directories ... NOTE
Found the following hidden files and directories:
.BBSoptions
These were most likely included in error. See section ‘Package
structure’ in the ‘Writing R Extensions’ manual.
* checking for portable file names ... OK
* checking for sufficient/correct file permissions ... OK
* checking whether package ‘scRNAseq’ can be installed ... OK
* checking installed package size ... OK
* checking package directory ... OK
* checking ‘build’ directory ... OK
* checking DESCRIPTION meta-information ... OK
* checking top-level files ... OK
* checking for left-over files ... OK
* checking index information ... OK
* checking package subdirectories ... OK
* checking code files for non-ASCII characters ... OK
* checking R files for syntax errors ... OK
* checking whether the package can be loaded ... OK
* checking whether the package can be loaded with stated dependencies ... OK
* checking whether the package can be unloaded cleanly ... OK
* checking whether the namespace can be loaded with stated dependencies ... OK
* checking whether the namespace can be unloaded cleanly ... OK
* checking loading without being on the library search path ... OK
* checking dependencies in R code ... OK
* checking S3 generic/method consistency ... OK
* checking replacement functions ... OK
* checking foreign function calls ... OK
* checking R code for possible problems ... OK
* checking Rd files ... OK
* checking Rd metadata ... OK
* checking Rd cross-references ... OK
* checking for missing documentation entries ... OK
* checking for code/documentation mismatches ... OK
* checking Rd \usage sections ... OK
* checking Rd contents ... OK
* checking for unstated dependencies in examples ... OK
* checking files in ‘vignettes’ ... OK
* checking examples ... OK
Examples with CPU (user + system) or elapsed time > 5s
user system elapsed
BhaduriOrganoidData 23.166 7.743 31.036
BacherTCellData 16.523 4.980 21.710
ZeiselNervousData 13.862 5.764 20.094
HeOrganAtlasData 11.983 7.068 19.442
JessaBrainData 9.513 4.000 13.902
ErnstSpermatogenesisData 9.806 2.639 12.781
StoeckiusHashingData 8.249 1.332 10.332
ZhaoImmuneLiverData 6.328 2.846 9.267
BachMammaryData 6.821 0.718 8.563
AztekinTailData 6.474 0.716 7.218
GiladiHSCData 4.685 2.217 7.146
LunSpikeInData 5.827 0.520 6.826
* checking for unstated dependencies in ‘tests’ ... OK
* checking tests ...
Running ‘testthat.R’
OK
* checking for unstated dependencies in vignettes ... OK
* checking package vignettes ... OK
* checking re-building of vignette outputs ... OK
* checking PDF version of manual ... OK
* DONE
Status: 1 NOTE
See
‘/home/biocbuild/bbs-3.20-data-experiment/meat/scRNAseq.Rcheck/00check.log’
for details.
scRNAseq.Rcheck/00install.out
############################################################################## ############################################################################## ### ### Running command: ### ### /home/biocbuild/bbs-3.20-bioc/R/bin/R CMD INSTALL scRNAseq ### ############################################################################## ############################################################################## * installing to library ‘/home/biocbuild/bbs-3.20-bioc/R/site-library’ * installing *source* package ‘scRNAseq’ ... ** using staged installation ** R ** inst ** byte-compile and prepare package for lazy loading ** help *** installing help indices ** building package indices ** installing vignettes ** testing if installed package can be loaded from temporary location ** testing if installed package can be loaded from final location ** testing if installed package keeps a record of temporary installation path * DONE (scRNAseq)
scRNAseq.Rcheck/tests/testthat.Rout
R version 4.4.3 (2025-02-28) -- "Trophy Case"
Copyright (C) 2025 The R Foundation for Statistical Computing
Platform: x86_64-pc-linux-gnu
R is free software and comes with ABSOLUTELY NO WARRANTY.
You are welcome to redistribute it under certain conditions.
Type 'license()' or 'licence()' for distribution details.
R is a collaborative project with many contributors.
Type 'contributors()' for more information and
'citation()' on how to cite R or R packages in publications.
Type 'demo()' for some demos, 'help()' for on-line help, or
'help.start()' for an HTML browser interface to help.
Type 'q()' to quit R.
> library(testthat)
> library(scRNAseq)
Loading required package: SingleCellExperiment
Loading required package: SummarizedExperiment
Loading required package: MatrixGenerics
Loading required package: matrixStats
Attaching package: 'MatrixGenerics'
The following objects are masked from 'package:matrixStats':
colAlls, colAnyNAs, colAnys, colAvgsPerRowSet, colCollapse,
colCounts, colCummaxs, colCummins, colCumprods, colCumsums,
colDiffs, colIQRDiffs, colIQRs, colLogSumExps, colMadDiffs,
colMads, colMaxs, colMeans2, colMedians, colMins, colOrderStats,
colProds, colQuantiles, colRanges, colRanks, colSdDiffs, colSds,
colSums2, colTabulates, colVarDiffs, colVars, colWeightedMads,
colWeightedMeans, colWeightedMedians, colWeightedSds,
colWeightedVars, rowAlls, rowAnyNAs, rowAnys, rowAvgsPerColSet,
rowCollapse, rowCounts, rowCummaxs, rowCummins, rowCumprods,
rowCumsums, rowDiffs, rowIQRDiffs, rowIQRs, rowLogSumExps,
rowMadDiffs, rowMads, rowMaxs, rowMeans2, rowMedians, rowMins,
rowOrderStats, rowProds, rowQuantiles, rowRanges, rowRanks,
rowSdDiffs, rowSds, rowSums2, rowTabulates, rowVarDiffs, rowVars,
rowWeightedMads, rowWeightedMeans, rowWeightedMedians,
rowWeightedSds, rowWeightedVars
Loading required package: GenomicRanges
Loading required package: stats4
Loading required package: BiocGenerics
Attaching package: 'BiocGenerics'
The following objects are masked from 'package:stats':
IQR, mad, sd, var, xtabs
The following objects are masked from 'package:base':
Filter, Find, Map, Position, Reduce, anyDuplicated, aperm, append,
as.data.frame, basename, cbind, colnames, dirname, do.call,
duplicated, eval, evalq, get, grep, grepl, intersect, is.unsorted,
lapply, mapply, match, mget, order, paste, pmax, pmax.int, pmin,
pmin.int, rank, rbind, rownames, sapply, saveRDS, setdiff, table,
tapply, union, unique, unsplit, which.max, which.min
Loading required package: S4Vectors
Attaching package: 'S4Vectors'
The following object is masked from 'package:utils':
findMatches
The following objects are masked from 'package:base':
I, expand.grid, unname
Loading required package: IRanges
Loading required package: GenomeInfoDb
Loading required package: Biobase
Welcome to Bioconductor
Vignettes contain introductory material; view with
'browseVignettes()'. To cite Bioconductor, see
'citation("Biobase")', and for packages 'citation("pkgname")'.
Attaching package: 'Biobase'
The following object is masked from 'package:MatrixGenerics':
rowMedians
The following objects are masked from 'package:matrixStats':
anyMissing, rowMedians
> test_check("scRNAseq")
[ FAIL 0 | WARN 35 | SKIP 1 | PASS 176 ]
══ Skipped tests (1) ═══════════════════════════════════════════════════════════
• is.null(gh_token) is TRUE (1): 'test-uploadDirectory.R:59:5'
[ FAIL 0 | WARN 35 | SKIP 1 | PASS 176 ]
Warning message:
call dbDisconnect() when finished working with a connection
>
> proc.time()
user system elapsed
280.381 36.635 333.618
scRNAseq.Rcheck/scRNAseq-Ex.timings
| name | user | system | elapsed | |
| AztekinTailData | 6.474 | 0.716 | 7.218 | |
| BachMammaryData | 6.821 | 0.718 | 8.563 | |
| BacherTCellData | 16.523 | 4.980 | 21.710 | |
| BaronPancreasData | 0.979 | 0.135 | 1.132 | |
| BhaduriOrganoidData | 23.166 | 7.743 | 31.036 | |
| BuettnerESCData | 2.996 | 0.246 | 3.484 | |
| BunisHSPCData | 0.964 | 0.367 | 1.356 | |
| CampbellBrainData | 1.759 | 0.894 | 2.708 | |
| ChenBrainData | 0.908 | 0.342 | 1.270 | |
| DarmanisBrainData | 0.244 | 0.023 | 0.270 | |
| ERCCSpikeInConcentrations | 0.019 | 0.000 | 0.021 | |
| ErnstSpermatogenesisData | 9.806 | 2.639 | 12.781 | |
| FletcherOlfactoryData | 0.763 | 0.216 | 1.797 | |
| GiladiHSCData | 4.685 | 2.217 | 7.146 | |
| GrunHSCData | 0.221 | 0.040 | 0.270 | |
| GrunPancreasData | 0.496 | 0.084 | 0.595 | |
| HeOrganAtlasData | 11.983 | 7.068 | 19.442 | |
| HermannSpermatogenesisData | 0.839 | 0.199 | 1.041 | |
| HuCortexData | 0.476 | 0.132 | 0.619 | |
| JessaBrainData | 9.513 | 4.000 | 13.902 | |
| KolodziejczykESCData | 3.124 | 0.378 | 3.772 | |
| KotliarovPBMCData | 2.274 | 0.552 | 2.892 | |
| LaMannoBrainData | 2.613 | 0.841 | 3.478 | |
| LawlorPancreasData | 0.766 | 0.079 | 0.882 | |
| LedergorMyelomaData | 1.343 | 0.223 | 1.642 | |
| LengESCData | 0.497 | 0.061 | 0.612 | |
| LunSpikeInData | 5.827 | 0.520 | 6.826 | |
| MacoskoRetinaData | 1.612 | 0.427 | 2.077 | |
| MairPBMCData | 0.479 | 0.059 | 0.547 | |
| MarquesBrainData | 0.755 | 0.076 | 0.842 | |
| MessmerESCData | 3.598 | 0.480 | 4.371 | |
| MuraroPancreasData | 0.891 | 0.194 | 1.091 | |
| NestorowaHSCData | 4.095 | 0.599 | 4.946 | |
| NowakowskiCortexData | 1.439 | 0.319 | 1.769 | |
| PaulHSCData | 2.767 | 0.333 | 3.118 | |
| PollenGliaData | 0.211 | 0.030 | 0.246 | |
| ReprocessedData | 1.925 | 0.242 | 2.241 | |
| RichardTCellData | 2.845 | 0.259 | 3.336 | |
| RomanovBrainData | 0.475 | 0.081 | 0.565 | |
| SegerstolpePancreasData | 1.131 | 0.279 | 1.418 | |
| ShekharRetinaData | 2.096 | 0.582 | 2.751 | |
| StoeckiusHashingData | 8.249 | 1.332 | 10.332 | |
| TasicBrainData | 1.650 | 0.354 | 2.094 | |
| UsoskinBrainData | 0.589 | 0.105 | 0.702 | |
| WuKidneyData | 0.361 | 0.040 | 0.409 | |
| XinPancreasData | 1.159 | 0.237 | 1.403 | |
| ZeiselBrainData | 1.004 | 0.258 | 1.283 | |
| ZeiselNervousData | 13.862 | 5.764 | 20.094 | |
| ZhaoImmuneLiverData | 6.328 | 2.846 | 9.267 | |
| ZhongPrefrontalData | 0.603 | 0.094 | 0.706 | |
| ZilionisLungData | 3.837 | 1.024 | 4.898 | |
| countErccMolecules | 0.032 | 0.004 | 0.036 | |
| fetchDataset | 0.409 | 0.025 | 0.434 | |
| listDatasets | 0.01 | 0.00 | 0.01 | |
| listVersions | 0.073 | 0.007 | 0.567 | |
| polishDataset | 0.169 | 0.016 | 0.186 | |
| saveDataset | 0.842 | 0.038 | 0.759 | |
| searchDatasets | 1.203 | 0.050 | 1.397 | |
| surveyDatasets | 1.030 | 0.176 | 1.206 | |