| Back to Multiple platform build/check report for BioC 3.21: simplified long |
|
This page was generated on 2025-04-22 13:16 -0400 (Tue, 22 Apr 2025).
| Hostname | OS | Arch (*) | R version | Installed pkgs |
|---|---|---|---|---|
| nebbiolo1 | Linux (Ubuntu 24.04.1 LTS) | x86_64 | 4.5.0 RC (2025-04-04 r88126) -- "How About a Twenty-Six" | 4831 |
| palomino7 | Windows Server 2022 Datacenter | x64 | 4.5.0 RC (2025-04-04 r88126 ucrt) -- "How About a Twenty-Six" | 4573 |
| lconway | macOS 12.7.1 Monterey | x86_64 | 4.5.0 RC (2025-04-04 r88126) -- "How About a Twenty-Six" | 4599 |
| kjohnson3 | macOS 13.7.1 Ventura | arm64 | 4.5.0 RC (2025-04-04 r88126) -- "How About a Twenty-Six" | 4553 |
| kunpeng2 | Linux (openEuler 24.03 LTS) | aarch64 | R Under development (unstable) (2025-02-19 r87757) -- "Unsuffered Consequences" | 4570 |
| Click on any hostname to see more info about the system (e.g. compilers) (*) as reported by 'uname -p', except on Windows and Mac OS X | ||||
| Package 822/2341 | Hostname | OS / Arch | INSTALL | BUILD | CHECK | BUILD BIN | ||||||||
| GeneStructureTools 1.28.0 (landing page) Beth Signal
| nebbiolo1 | Linux (Ubuntu 24.04.1 LTS) / x86_64 | OK | OK | OK | |||||||||
| palomino7 | Windows Server 2022 Datacenter / x64 | OK | OK | OK | OK | |||||||||
| lconway | macOS 12.7.1 Monterey / x86_64 | OK | OK | OK | OK | |||||||||
| kjohnson3 | macOS 13.7.1 Ventura / arm64 | OK | OK | OK | OK | |||||||||
| kunpeng2 | Linux (openEuler 24.03 LTS) / aarch64 | OK | OK | OK | ||||||||||
|
To the developers/maintainers of the GeneStructureTools package: - Allow up to 24 hours (and sometimes 48 hours) for your latest push to git@git.bioconductor.org:packages/GeneStructureTools.git to reflect on this report. See Troubleshooting Build Report for more information. - Use the following Renviron settings to reproduce errors and warnings. - If 'R CMD check' started to fail recently on the Linux builder(s) over a missing dependency, add the missing dependency to 'Suggests:' in your DESCRIPTION file. See Renviron.bioc for more information. |
| Package: GeneStructureTools |
| Version: 1.28.0 |
| Command: /Library/Frameworks/R.framework/Resources/bin/R CMD check --install=check:GeneStructureTools.install-out.txt --library=/Library/Frameworks/R.framework/Resources/library --no-vignettes --timings GeneStructureTools_1.28.0.tar.gz |
| StartedAt: 2025-04-21 20:53:47 -0400 (Mon, 21 Apr 2025) |
| EndedAt: 2025-04-21 21:01:03 -0400 (Mon, 21 Apr 2025) |
| EllapsedTime: 436.0 seconds |
| RetCode: 0 |
| Status: OK |
| CheckDir: GeneStructureTools.Rcheck |
| Warnings: 0 |
##############################################################################
##############################################################################
###
### Running command:
###
### /Library/Frameworks/R.framework/Resources/bin/R CMD check --install=check:GeneStructureTools.install-out.txt --library=/Library/Frameworks/R.framework/Resources/library --no-vignettes --timings GeneStructureTools_1.28.0.tar.gz
###
##############################################################################
##############################################################################
* using log directory ‘/Users/biocbuild/bbs-3.21-bioc/meat/GeneStructureTools.Rcheck’
* using R version 4.5.0 RC (2025-04-04 r88126)
* using platform: x86_64-apple-darwin20
* R was compiled by
Apple clang version 14.0.0 (clang-1400.0.29.202)
GNU Fortran (GCC) 14.2.0
* running under: macOS Monterey 12.7.6
* using session charset: UTF-8
* using option ‘--no-vignettes’
* checking for file ‘GeneStructureTools/DESCRIPTION’ ... OK
* checking extension type ... Package
* this is package ‘GeneStructureTools’ version ‘1.28.0’
* package encoding: UTF-8
* checking package namespace information ... OK
* checking package dependencies ... OK
* checking if this is a source package ... OK
* checking if there is a namespace ... OK
* checking for hidden files and directories ... OK
* checking for portable file names ... OK
* checking for sufficient/correct file permissions ... OK
* checking whether package ‘GeneStructureTools’ can be installed ... OK
* checking installed package size ... OK
* checking package directory ... OK
* checking ‘build’ directory ... OK
* checking DESCRIPTION meta-information ... OK
* checking top-level files ... OK
* checking for left-over files ... OK
* checking index information ... OK
* checking package subdirectories ... OK
* checking code files for non-ASCII characters ... OK
* checking R files for syntax errors ... OK
* checking whether the package can be loaded ... OK
* checking whether the package can be loaded with stated dependencies ... OK
* checking whether the package can be unloaded cleanly ... OK
* checking whether the namespace can be loaded with stated dependencies ... OK
* checking whether the namespace can be unloaded cleanly ... OK
* checking dependencies in R code ... OK
* checking S3 generic/method consistency ... OK
* checking replacement functions ... OK
* checking foreign function calls ... OK
* checking R code for possible problems ... OK
* checking Rd files ... OK
* checking Rd metadata ... OK
* checking Rd cross-references ... OK
* checking for missing documentation entries ... OK
* checking for code/documentation mismatches ... OK
* checking Rd \usage sections ... OK
* checking Rd contents ... OK
* checking for unstated dependencies in examples ... OK
* checking files in ‘vignettes’ ... OK
* checking examples ... OK
Examples with CPU (user + system) or elapsed time > 5s
user system elapsed
leafcutterTranscriptChangeSummary 25.180 1.211 26.571
whippetTranscriptChangeSummary 13.815 0.234 14.295
replaceJunction 5.559 0.149 5.843
* checking for unstated dependencies in vignettes ... OK
* checking package vignettes ... OK
* checking running R code from vignettes ... SKIPPED
* checking re-building of vignette outputs ... SKIPPED
* checking PDF version of manual ... OK
* DONE
Status: OK
GeneStructureTools.Rcheck/00install.out
############################################################################## ############################################################################## ### ### Running command: ### ### /Library/Frameworks/R.framework/Resources/bin/R CMD INSTALL GeneStructureTools ### ############################################################################## ############################################################################## * installing to library ‘/Library/Frameworks/R.framework/Versions/4.5-x86_64/Resources/library’ * installing *source* package ‘GeneStructureTools’ ... ** this is package ‘GeneStructureTools’ version ‘1.28.0’ ** using staged installation ** R ** inst ** byte-compile and prepare package for lazy loading ** help *** installing help indices ** building package indices ** installing vignettes ** testing if installed package can be loaded from temporary location ** testing if installed package can be loaded from final location ** testing if installed package keeps a record of temporary installation path * DONE (GeneStructureTools)
GeneStructureTools.Rcheck/GeneStructureTools-Ex.timings
| name | user | system | elapsed | |
| DEXSeqIdsToGeneIds | 0.002 | 0.001 | 0.003 | |
| UTR2UTR53 | 2.567 | 0.155 | 2.738 | |
| addBroadTypes | 0.211 | 0.006 | 0.220 | |
| addIntronInTranscript | 2.969 | 0.128 | 3.242 | |
| alternativeIntronUsage | 4.438 | 0.034 | 4.507 | |
| annotateGeneModel | 0.953 | 0.015 | 0.974 | |
| attrChangeAltSpliced | 1.302 | 0.097 | 1.509 | |
| coordinates-methods | 0.073 | 0.071 | 0.255 | |
| diffSplicingResults-methods | 0.074 | 0.068 | 0.256 | |
| exonsToTranscripts | 0.274 | 0.007 | 0.284 | |
| filterGtfOverlap | 0.255 | 0.007 | 0.264 | |
| filterWhippetEvents | 0.084 | 0.076 | 0.258 | |
| findDEXexonType | 2.627 | 0.025 | 2.667 | |
| findExonContainingTranscripts | 0.453 | 0.069 | 0.623 | |
| findIntronContainingTranscripts | 0.707 | 0.083 | 0.898 | |
| findJunctionPairs | 1.592 | 0.099 | 1.804 | |
| formatWhippetEvents | 0.020 | 0.009 | 0.045 | |
| getOrfs | 0.824 | 0.017 | 0.850 | |
| getUOrfs | 0.612 | 0.011 | 0.627 | |
| junctions-methods | 0.074 | 0.071 | 0.251 | |
| leafcutterTranscriptChangeSummary | 25.180 | 1.211 | 26.571 | |
| makeGeneModel | 0.188 | 0.006 | 0.197 | |
| maxLocation | 0.003 | 0.000 | 0.004 | |
| orfDiff | 1.885 | 0.111 | 2.113 | |
| orfSimilarity | 0.001 | 0.001 | 0.002 | |
| overlapTypes | 2.651 | 0.025 | 2.698 | |
| readCounts-methods | 0.075 | 0.072 | 0.252 | |
| readWhippetDIFFfiles | 0.007 | 0.008 | 0.025 | |
| readWhippetDataSet | 0.075 | 0.070 | 0.255 | |
| readWhippetJNCfiles | 0.036 | 0.034 | 0.120 | |
| readWhippetPSIfiles | 0.021 | 0.031 | 0.098 | |
| removeDuplicateTranscripts | 0.313 | 0.009 | 0.326 | |
| removeSameExon | 0.246 | 0.006 | 0.254 | |
| removeVersion | 0.000 | 0.000 | 0.001 | |
| reorderExonNumbers | 0.194 | 0.006 | 0.201 | |
| replaceJunction | 5.559 | 0.149 | 5.843 | |
| skipExonInTranscript | 1.598 | 0.078 | 1.790 | |
| summariseExonTypes | 2.703 | 0.021 | 2.742 | |
| transcriptChangeSummary | 1.671 | 0.104 | 1.925 | |
| whippetTranscriptChangeSummary | 13.815 | 0.234 | 14.295 | |