| Back to Multiple platform build/check report for BioC 3.21: simplified long |
|
This page was generated on 2025-08-18 11:42 -0400 (Mon, 18 Aug 2025).
| Hostname | OS | Arch (*) | R version | Installed pkgs |
|---|---|---|---|---|
| nebbiolo1 | Linux (Ubuntu 24.04.3 LTS) | x86_64 | 4.5.1 (2025-06-13) -- "Great Square Root" | 4824 |
| palomino7 | Windows Server 2022 Datacenter | x64 | 4.5.1 (2025-06-13 ucrt) -- "Great Square Root" | 4566 |
| merida1 | macOS 12.7.5 Monterey | x86_64 | 4.5.1 RC (2025-06-05 r88288) -- "Great Square Root" | 4604 |
| kjohnson1 | macOS 13.6.6 Ventura | arm64 | 4.5.1 Patched (2025-06-14 r88325) -- "Great Square Root" | 4545 |
| kunpeng2 | Linux (openEuler 24.03 LTS) | aarch64 | R Under development (unstable) (2025-02-19 r87757) -- "Unsuffered Consequences" | 4579 |
| Click on any hostname to see more info about the system (e.g. compilers) (*) as reported by 'uname -p', except on Windows and Mac OS X | ||||
| Package 1361/2341 | Hostname | OS / Arch | INSTALL | BUILD | CHECK | BUILD BIN | ||||||||
| MsBackendRawFileReader 1.14.0 (landing page) Christian Panse
| nebbiolo1 | Linux (Ubuntu 24.04.3 LTS) / x86_64 | OK | OK | OK | |||||||||
| palomino7 | Windows Server 2022 Datacenter / x64 | OK | OK | OK | OK | |||||||||
| merida1 | macOS 12.7.5 Monterey / x86_64 | OK | OK | OK | OK | |||||||||
| kjohnson1 | macOS 13.6.6 Ventura / arm64 | OK | ERROR | skipped | skipped | |||||||||
| kunpeng2 | Linux (openEuler 24.03 LTS) / aarch64 | OK | ERROR | skipped | ||||||||||
|
To the developers/maintainers of the MsBackendRawFileReader package: - Allow up to 24 hours (and sometimes 48 hours) for your latest push to git@git.bioconductor.org:packages/MsBackendRawFileReader.git to reflect on this report. See Troubleshooting Build Report for more information. - Use the following Renviron settings to reproduce errors and warnings. - If 'R CMD check' started to fail recently on the Linux builder(s) over a missing dependency, add the missing dependency to 'Suggests:' in your DESCRIPTION file. See Renviron.bioc for more information. |
| Package: MsBackendRawFileReader |
| Version: 1.14.0 |
| Command: E:\biocbuild\bbs-3.21-bioc\R\bin\R.exe CMD check --no-multiarch --install=check:MsBackendRawFileReader.install-out.txt --library=E:\biocbuild\bbs-3.21-bioc\R\library --no-vignettes --timings MsBackendRawFileReader_1.14.0.tar.gz |
| StartedAt: 2025-08-15 04:30:52 -0400 (Fri, 15 Aug 2025) |
| EndedAt: 2025-08-15 04:36:50 -0400 (Fri, 15 Aug 2025) |
| EllapsedTime: 357.5 seconds |
| RetCode: 0 |
| Status: OK |
| CheckDir: MsBackendRawFileReader.Rcheck |
| Warnings: 0 |
##############################################################################
##############################################################################
###
### Running command:
###
### E:\biocbuild\bbs-3.21-bioc\R\bin\R.exe CMD check --no-multiarch --install=check:MsBackendRawFileReader.install-out.txt --library=E:\biocbuild\bbs-3.21-bioc\R\library --no-vignettes --timings MsBackendRawFileReader_1.14.0.tar.gz
###
##############################################################################
##############################################################################
* using log directory 'E:/biocbuild/bbs-3.21-bioc/meat/MsBackendRawFileReader.Rcheck'
* using R version 4.5.1 (2025-06-13 ucrt)
* using platform: x86_64-w64-mingw32
* R was compiled by
gcc.exe (GCC) 14.2.0
GNU Fortran (GCC) 14.2.0
* running under: Windows Server 2022 x64 (build 20348)
* using session charset: UTF-8
* using option '--no-vignettes'
* checking for file 'MsBackendRawFileReader/DESCRIPTION' ... OK
* checking extension type ... Package
* this is package 'MsBackendRawFileReader' version '1.14.0'
* package encoding: UTF-8
* checking package namespace information ... OK
* checking package dependencies ... OK
* checking if this is a source package ... OK
* checking if there is a namespace ... OK
* checking for hidden files and directories ... OK
* checking for portable file names ... OK
* checking whether package 'MsBackendRawFileReader' can be installed ... OK
* checking installed package size ... OK
* checking package directory ... OK
* checking 'build' directory ... OK
* checking DESCRIPTION meta-information ... OK
* checking top-level files ... OK
* checking for left-over files ... OK
* checking index information ... OK
* checking package subdirectories ... OK
* checking code files for non-ASCII characters ... OK
* checking R files for syntax errors ... OK
* checking whether the package can be loaded ... OK
* checking whether the package can be loaded with stated dependencies ... OK
* checking whether the package can be unloaded cleanly ... OK
* checking whether the namespace can be loaded with stated dependencies ... OK
* checking whether the namespace can be unloaded cleanly ... OK
* checking whether startup messages can be suppressed ... OK
* checking dependencies in R code ... OK
* checking S3 generic/method consistency ... OK
* checking replacement functions ... OK
* checking foreign function calls ... OK
* checking R code for possible problems ... OK
* checking Rd files ... OK
* checking Rd metadata ... OK
* checking Rd cross-references ... OK
* checking for missing documentation entries ... OK
* checking for code/documentation mismatches ... OK
* checking Rd \usage sections ... OK
* checking Rd contents ... OK
* checking for unstated dependencies in examples ... OK
* checking files in 'vignettes' ... OK
* checking examples ... OK
Examples with CPU (user + system) or elapsed time > 5s
user system elapsed
ioBenchmark 9.44 2.00 55.83
MsBackendRawFileReader 1.12 0.08 40.03
MsBackendRawFileReader-class 0.99 0.03 12.78
hidden_aliases 0.30 0.01 11.81
* checking for unstated dependencies in 'tests' ... OK
* checking tests ...
Running 'testthat.R'
OK
* checking for unstated dependencies in vignettes ... OK
* checking package vignettes ... OK
* checking running R code from vignettes ... SKIPPED
* checking re-building of vignette outputs ... SKIPPED
* checking PDF version of manual ... OK
* DONE
Status: OK
MsBackendRawFileReader.Rcheck/00install.out
############################################################################## ############################################################################## ### ### Running command: ### ### E:\biocbuild\bbs-3.21-bioc\R\bin\R.exe CMD INSTALL MsBackendRawFileReader ### ############################################################################## ############################################################################## * installing to library 'E:/biocbuild/bbs-3.21-bioc/R/library' * installing *source* package 'MsBackendRawFileReader' ... ** this is package 'MsBackendRawFileReader' version '1.14.0' ** using staged installation ** R ** inst ** byte-compile and prepare package for lazy loading ** help *** installing help indices ** building package indices ** installing vignettes ** testing if installed package can be loaded from temporary location ** testing if installed package can be loaded from final location ** testing if installed package keeps a record of temporary installation path * DONE (MsBackendRawFileReader)
MsBackendRawFileReader.Rcheck/tests/testthat.Rout
R version 4.5.1 (2025-06-13 ucrt) -- "Great Square Root"
Copyright (C) 2025 The R Foundation for Statistical Computing
Platform: x86_64-w64-mingw32/x64
R is free software and comes with ABSOLUTELY NO WARRANTY.
You are welcome to redistribute it under certain conditions.
Type 'license()' or 'licence()' for distribution details.
R is a collaborative project with many contributors.
Type 'contributors()' for more information and
'citation()' on how to cite R or R packages in publications.
Type 'demo()' for some demos, 'help()' for on-line help, or
'help.start()' for an HTML browser interface to help.
Type 'q()' to quit R.
> library("testthat")
> library("MsBackendRawFileReader")
Loading required package: Spectra
Loading required package: S4Vectors
Loading required package: stats4
Loading required package: BiocGenerics
Loading required package: generics
Attaching package: 'generics'
The following objects are masked from 'package:base':
as.difftime, as.factor, as.ordered, intersect, is.element, setdiff,
setequal, union
Attaching package: 'BiocGenerics'
The following objects are masked from 'package:stats':
IQR, mad, sd, var, xtabs
The following objects are masked from 'package:base':
Filter, Find, Map, Position, Reduce, anyDuplicated, aperm, append,
as.data.frame, basename, cbind, colnames, dirname, do.call,
duplicated, eval, evalq, get, grep, grepl, is.unsorted, lapply,
mapply, match, mget, order, paste, pmax, pmax.int, pmin, pmin.int,
rank, rbind, rownames, sapply, saveRDS, table, tapply, unique,
unsplit, which.max, which.min
Attaching package: 'S4Vectors'
The following object is masked from 'package:utils':
findMatches
The following objects are masked from 'package:base':
I, expand.grid, unname
Loading required package: BiocParallel
> library("Spectra")
>
>
> sample_raw_file <- file.path(system.file(package = "rawrr"),
+ 'extdata', 'sample.raw')
>
> sample_mzXML_file <- file.path(path.package(package = 'MsBackendRawFileReader'),
+ 'extdata', 'sample.mzXML')
>
>
> sample_raw <- backendInitialize(MsBackendRawFileReader::MsBackendRawFileReader(), files = sample_raw_file)
>
>
> #sample_mzr <- backendInitialize(MsBackendMzR(), files = sample_mzXML_file)
>
>
> mgf_file <- file.path(system.file(package = "MsBackendRawFileReader"),
+ 'extdata', '3159619b11ed_4590_9594.mgf')
>
>
> rv <- lapply(1:2, function(x){
+ file.copy(from = sample_raw_file, to = tempfile(fileext='.raw'))})
>
>
> register(SnowParam(workers = 1, type = "SOCK") , default = TRUE);
> sample_raw_2 <- backendInitialize(MsBackendRawFileReader(),
+ files = file.path(tempdir(),
+ list.files(path = tempdir(), pattern = 'raw$')))
>
>
> test_check("MsBackendRawFileReader")
[ FAIL 0 | WARN 1 | SKIP 2 | PASS 21 ]
══ Skipped tests (2) ═══════════════════════════════════════════════════════════
• isFALSE(file.exists(sample_mzXML_file)) is TRUE (1):
'test_MsBackendMzR_MsBackendRawFileReader.R:1:1'
• isFALSE(require(MsBackendRawMgf)) is TRUE (1): 'test_top_n_mgf.R:1:1'
[ FAIL 0 | WARN 1 | SKIP 2 | PASS 21 ]
>
>
> be <- Spectra::backendInitialize(MsBackendRawFileReader::MsBackendRawFileReader(),
+ files = c(sample_raw_file))
>
> ## Run the MsBackend spectra variable test suite
>
> test_suite <- system.file("test_backends", "test_MsBackend",
+ package = "Spectra")
>
> #res <- test_file(paste0(test_suite, "/test_spectra_variables.R"),
> # reporter = check_reporter(), stop_on_failure = TRUE)
>
>
> ## Run the whole suite.
> res <- test_dir(test_suite, stop_on_failure = TRUE)
✔ | F W S OK | Context
⠏ | 0 | peaks_variables
⠙ | 2 | peaks_variables
⠸ | 4 | peaks_variables
✔ | 4 | peaks_variables [6.1s]
⠏ | 0 | spectra_subsetting
⠋ | 1 | spectra_subsetting
⠏ | 10 | spectra_subsetting
⠇ | 19 | spectra_subsetting
⠼ | 25 | spectra_subsetting
⠦ | 37 | spectra_subsetting
⠦ | 47 | spectra_subsetting
⠼ | 55 | spectra_subsetting
⠸ | 64 | spectra_subsetting
⠴ | 76 | spectra_subsetting
⠴ | 86 | spectra_subsetting
⠸ | 94 | spectra_subsetting
⠹ | 103 | spectra_subsetting
⠼ | 115 | spectra_subsetting
⠸ | 124 | spectra_subsetting
⠴ | 136 | spectra_subsetting
⠇ | 149 | spectra_subsetting
⠏ | 160 | spectra_subsetting
⠏ | 170 | spectra_subsetting
⠙ | 182 | spectra_subsetting
⠹ | 193 | spectra_subsetting
⠙ | 202 | spectra_subsetting
⠙ | 212 | spectra_subsetting
⠋ | 221 | spectra_subsetting
⠇ | 229 | spectra_subsetting
⠧ | 238 | spectra_subsetting
⠸ | 244 | spectra_subsetting
⠹ | 253 | spectra_subsetting
⠙ | 262 | spectra_subsetting
⠋ | 271 | spectra_subsetting
⠏ | 280 | spectra_subsetting
⠏ | 290 | spectra_subsetting
⠧ | 298 | spectra_subsetting
⠦ | 307 | spectra_subsetting
⠴ | 316 | spectra_subsetting
⠴ | 326 | spectra_subsetting
⠼ | 335 | spectra_subsetting
⠹ | 343 | spectra_subsetting
⠙ | 352 | spectra_subsetting
⠋ | 361 | spectra_subsetting
⠹ | 373 | spectra_subsetting
⠙ | 382 | spectra_subsetting
⠋ | 391 | spectra_subsetting
⠏ | 400 | spectra_subsetting
⠇ | 409 | spectra_subsetting
⠋ | 421 | spectra_subsetting
⠏ | 430 | spectra_subsetting
⠇ | 439 | spectra_subsetting
⠧ | 448 | spectra_subsetting
⠦ | 457 | spectra_subsetting
⠴ | 466 | spectra_subsetting
⠼ | 475 | spectra_subsetting
⠼ | 485 | spectra_subsetting
⠴ | 496 | spectra_subsetting
⠇ | 509 | spectra_subsetting
⠹ | 523 | spectra_subsetting
⠼ | 535 | spectra_subsetting
⠼ | 545 | spectra_subsetting
⠇ | 559 | spectra_subsetting
⠋ | 571 | spectra_subsetting
⠹ | 583 | spectra_subsetting
⠧ | 598 | spectra_subsetting
⠹ | 613 | spectra_subsetting
⠧ | 628 | spectra_subsetting
⠹ | 643 | spectra_subsetting
⠼ | 655 | spectra_subsetting
⠦ | 667 | spectra_subsetting
⠋ | 681 | spectra_subsetting
⠙ | 692 | spectra_subsetting
⠴ | 706 | spectra_subsetting
⠧ | 718 | spectra_subsetting
⠋ | 731 | spectra_subsetting
⠼ | 745 | spectra_subsetting
⠏ | 760 | spectra_subsetting
⠙ | 772 | spectra_subsetting
⠙ | 782 | spectra_subsetting
⠏ | 790 | spectra_subsetting
⠇ | 799 | spectra_subsetting
⠧ | 808 | spectra_subsetting
⠧ | 818 | spectra_subsetting
⠴ | 826 | spectra_subsetting
⠼ | 835 | spectra_subsetting
⠸ | 844 | spectra_subsetting
⠴ | 856 | spectra_subsetting
⠼ | 865 | spectra_subsetting
⠸ | 874 | spectra_subsetting
⠹ | 883 | spectra_subsetting
⠹ | 893 | spectra_subsetting
⠼ | 905 | spectra_subsetting
⠇ | 919 | spectra_subsetting
⠸ | 934 | spectra_subsetting
⠴ | 946 | spectra_subsetting
⠋ | 961 | spectra_subsetting
⠋ | 971 | spectra_subsetting
⠇ | 979 | spectra_subsetting
⠋ | 991 | spectra_subsetting
⠹ | 1003 | spectra_subsetting
⠙ | 1012 | spectra_subsetting
⠋ | 1021 | spectra_subsetting
⠏ | 1030 | spectra_subsetting
⠇ | 1039 | spectra_subsetting
⠧ | 1048 | spectra_subsetting
⠋ | 1061 | spectra_subsetting
⠼ | 1075 | spectra_subsetting
⠇ | 1089 | spectra_subsetting
⠙ | 1102 | spectra_subsetting
⠼ | 1115 | spectra_subsetting
⠦ | 1127 | spectra_subsetting
⠋ | 1141 | spectra_subsetting
⠏ | 1150 | spectra_subsetting
⠙ | 1162 | spectra_subsetting
⠋ | 1171 | spectra_subsetting
⠏ | 1180 | spectra_subsetting
⠇ | 1189 | spectra_subsetting
⠧ | 1198 | spectra_subsetting
⠧ | 1208 | spectra_subsetting
⠇ | 1219 | spectra_subsetting
⠧ | 1228 | spectra_subsetting
⠏ | 1240 | spectra_subsetting
⠙ | 1252 | spectra_subsetting
⠸ | 1264 | spectra_subsetting
⠹ | 1273 | spectra_subsetting
⠇ | 1279 | spectra_subsetting
⠧ | 1288 | spectra_subsetting
⠇ | 1289 | spectra_subsetting
⠦ | 1297 | spectra_subsetting
⠹ | 1303 | spectra_subsetting
⠙ | 1312 | spectra_subsetting
⠋ | 1321 | spectra_subsetting
⠋ | 1331 | spectra_subsetting
⠙ | 1342 | spectra_subsetting
⠸ | 1354 | spectra_subsetting
⠸ | 1364 | spectra_subsetting
⠼ | 1375 | spectra_subsetting
⠋ | 1391 | spectra_subsetting
⠙ | 1402 | spectra_subsetting
⠋ | 1411 | spectra_subsetting
⠏ | 1420 | spectra_subsetting
⠇ | 1429 | spectra_subsetting
⠧ | 1438 | spectra_subsetting
⠦ | 1447 | spectra_subsetting
⠴ | 1456 | spectra_subsetting
⠼ | 1465 | spectra_subsetting
⠸ | 1474 | spectra_subsetting
⠹ | 1483 | spectra_subsetting
⠙ | 1492 | spectra_subsetting
⠋ | 1501 | spectra_subsetting
⠋ | 1511 | spectra_subsetting
⠇ | 1519 | spectra_subsetting
⠏ | 1530 | spectra_subsetting
⠦ | 1537 | spectra_subsetting
⠴ | 1546 | spectra_subsetting
⠼ | 1555 | spectra_subsetting
⠹ | 1563 | spectra_subsetting
⠏ | 1570 | spectra_subsetting
⠏ | 1580 | spectra_subsetting
⠋ | 1591 | spectra_subsetting
⠏ | 1600 | spectra_subsetting
⠼ | 1615 | spectra_subsetting
⠸ | 1624 | spectra_subsetting
⠹ | 1633 | spectra_subsetting
⠼ | 1645 | spectra_subsetting
⠏ | 1660 | spectra_subsetting
⠙ | 1672 | spectra_subsetting
⠸ | 1684 | spectra_subsetting
⠧ | 1698 | spectra_subsetting
⠋ | 1711 | spectra_subsetting
⠹ | 1723 | spectra_subsetting
⠧ | 1728 | spectra_subsetting
⠏ | 1730 | spectra_subsetting
⠙ | 1732 | spectra_subsetting
⠼ | 1735 | spectra_subsetting
⠦ | 1737 | spectra_subsetting
⠇ | 1739 | spectra_subsetting
⠙ | 1742 | spectra_subsetting
⠼ | 1745 | spectra_subsetting
⠧ | 1748 | spectra_subsetting
⠋ | 1751 | spectra_subsetting
⠸ | 1754 | spectra_subsetting
⠴ | 1756 | spectra_subsetting
⠧ | 1758 | spectra_subsetting
⠏ | 1760 | spectra_subsetting
⠙ | 1762 | spectra_subsetting
⠸ | 1764 | spectra_subsetting
⠴ | 1766 | spectra_subsetting
⠦ | 1767 | spectra_subsetting
⠇ | 1769 | spectra_subsetting
⠋ | 1771 | spectra_subsetting
⠹ | 1773 | spectra_subsetting
⠴ | 1776 | spectra_subsetting
⠧ | 1778 | spectra_subsetting
⠋ | 1781 | spectra_subsetting
⠸ | 1784 | spectra_subsetting
⠴ | 1786 | spectra_subsetting
⠧ | 1788 | spectra_subsetting
⠏ | 1790 | spectra_subsetting
⠙ | 1792 | spectra_subsetting
⠸ | 1794 | spectra_subsetting
⠴ | 1796 | spectra_subsetting
⠧ | 1798 | spectra_subsetting
⠋ | 1801 | spectra_subsetting
⠹ | 1803 | spectra_subsetting
⠼ | 1805 | spectra_subsetting
⠦ | 1807 | spectra_subsetting
⠇ | 1809 | spectra_subsetting
⠋ | 1811 | spectra_subsetting
⠹ | 1813 | spectra_subsetting
⠼ | 1815 | spectra_subsetting
⠦ | 1817 | spectra_subsetting
⠇ | 1819 | spectra_subsetting
⠋ | 1821 | spectra_subsetting
⠹ | 1823 | spectra_subsetting
⠸ | 1824 | spectra_subsetting
⠴ | 1826 | spectra_subsetting
⠧ | 1828 | spectra_subsetting
⠏ | 1830 | spectra_subsetting
⠹ | 1833 | spectra_subsetting
⠴ | 1836 | spectra_subsetting
⠧ | 1838 | spectra_subsetting
⠋ | 1841 | spectra_subsetting
⠹ | 1843 | spectra_subsetting
⠴ | 1846 | spectra_subsetting
⠧ | 1848 | spectra_subsetting
⠏ | 1850 | spectra_subsetting
⠙ | 1852 | spectra_subsetting
⠸ | 1854 | spectra_subsetting
⠴ | 1856 | spectra_subsetting
⠦ | 1857 | spectra_subsetting
⠇ | 1859 | spectra_subsetting
⠏ | 1860 | spectra_subsetting
⠙ | 1862 | spectra_subsetting
⠸ | 1864 | spectra_subsetting
⠴ | 1866 | spectra_subsetting
⠧ | 1868 | spectra_subsetting
⠏ | 1870 | spectra_subsetting
⠙ | 1872 | spectra_subsetting
⠸ | 1874 | spectra_subsetting
⠴ | 1876 | spectra_subsetting
⠧ | 1878 | spectra_subsetting
⠏ | 1880 | spectra_subsetting
⠙ | 1882 | spectra_subsetting
⠸ | 1884 | spectra_subsetting
⠴ | 1886 | spectra_subsetting
⠧ | 1888 | spectra_subsetting
⠏ | 1890 | spectra_subsetting
⠙ | 1892 | spectra_subsetting
⠸ | 1894 | spectra_subsetting
⠴ | 1896 | spectra_subsetting
⠇ | 1899 | spectra_subsetting
⠋ | 1901 | spectra_subsetting
⠹ | 1903 | spectra_subsetting
⠼ | 1905 | spectra_subsetting
⠦ | 1907 | spectra_subsetting
⠇ | 1909 | spectra_subsetting
⠋ | 1911 | spectra_subsetting
⠹ | 1913 | spectra_subsetting
⠼ | 1915 | spectra_subsetting
⠦ | 1917 | spectra_subsetting
⠏ | 1920 | spectra_subsetting
⠙ | 1922 | spectra_subsetting
⠼ | 1925 | spectra_subsetting
⠧ | 1928 | spectra_subsetting
⠏ | 1930 | spectra_subsetting
⠙ | 1932 | spectra_subsetting
⠸ | 1934 | spectra_subsetting
⠴ | 1936 | spectra_subsetting
⠧ | 1938 | spectra_subsetting
⠏ | 1940 | spectra_subsetting
⠙ | 1942 | spectra_subsetting
⠸ | 1944 | spectra_subsetting
⠴ | 1946 | spectra_subsetting
⠧ | 1948 | spectra_subsetting
⠏ | 1950 | spectra_subsetting
⠙ | 1952 | spectra_subsetting
⠸ | 1954 | spectra_subsetting
⠴ | 1956 | spectra_subsetting
⠧ | 1958 | spectra_subsetting
⠋ | 1961 | spectra_subsetting
⠹ | 1963 | spectra_subsetting
⠼ | 1965 | spectra_subsetting
⠦ | 1967 | spectra_subsetting
⠇ | 1969 | spectra_subsetting
⠋ | 1971 | spectra_subsetting
⠹ | 1973 | spectra_subsetting
⠴ | 1976 | spectra_subsetting
⠧ | 1978 | spectra_subsetting
⠏ | 1980 | spectra_subsetting
⠙ | 1982 | spectra_subsetting
⠸ | 1984 | spectra_subsetting
⠴ | 1986 | spectra_subsetting
⠧ | 1988 | spectra_subsetting
⠏ | 1990 | spectra_subsetting
⠙ | 1992 | spectra_subsetting
⠼ | 1995 | spectra_subsetting
⠦ | 1997 | spectra_subsetting
⠇ | 1999 | spectra_subsetting
⠋ | 2001 | spectra_subsetting
⠹ | 2003 | spectra_subsetting
⠴ | 2006 | spectra_subsetting
⠧ | 2008 | spectra_subsetting
⠋ | 2011 | spectra_subsetting
⠹ | 2013 | spectra_subsetting
⠼ | 2015 | spectra_subsetting
⠦ | 2017 | spectra_subsetting
⠇ | 2019 | spectra_subsetting
⠋ | 2021 | spectra_subsetting
⠹ | 2023 | spectra_subsetting
⠼ | 2025 | spectra_subsetting
⠦ | 2027 | spectra_subsetting
⠇ | 2029 | spectra_subsetting
⠋ | 2031 | spectra_subsetting
⠹ | 2033 | spectra_subsetting
⠼ | 2035 | spectra_subsetting
⠧ | 2038 | spectra_subsetting
⠋ | 2041 | spectra_subsetting
⠹ | 2043 | spectra_subsetting
⠼ | 2045 | spectra_subsetting
⠦ | 2047 | spectra_subsetting
⠇ | 2049 | spectra_subsetting
⠙ | 2052 | spectra_subsetting
⠸ | 2054 | spectra_subsetting
⠴ | 2056 | spectra_subsetting
⠧ | 2058 | spectra_subsetting
⠏ | 2060 | spectra_subsetting
⠙ | 2062 | spectra_subsetting
⠸ | 2064 | spectra_subsetting
⠴ | 2066 | spectra_subsetting
⠧ | 2068 | spectra_subsetting
⠏ | 2070 | spectra_subsetting
⠙ | 2072 | spectra_subsetting
⠸ | 2074 | spectra_subsetting
⠦ | 2077 | spectra_subsetting
⠇ | 2079 | spectra_subsetting
⠙ | 2082 | spectra_subsetting
⠸ | 2084 | spectra_subsetting
⠴ | 2086 | spectra_subsetting
⠇ | 2089 | spectra_subsetting
⠋ | 2091 | spectra_subsetting
⠹ | 2093 | spectra_subsetting
⠼ | 2095 | spectra_subsetting
⠦ | 2097 | spectra_subsetting
⠏ | 2100 | spectra_subsetting
⠙ | 2102 | spectra_subsetting
⠸ | 2104 | spectra_subsetting
⠴ | 2106 | spectra_subsetting
⠇ | 2109 | spectra_subsetting
⠋ | 2111 | spectra_subsetting
⠸ | 2114 | spectra_subsetting
⠦ | 2117 | spectra_subsetting
⠇ | 2119 | spectra_subsetting
⠋ | 2121 | spectra_subsetting
⠸ | 2124 | spectra_subsetting
⠴ | 2126 | spectra_subsetting
⠇ | 2129 | spectra_subsetting
⠙ | 2132 | spectra_subsetting
⠼ | 2135 | spectra_subsetting
⠧ | 2138 | spectra_subsetting
⠋ | 2141 | spectra_subsetting
⠹ | 2143 | spectra_subsetting
⠴ | 2146 | spectra_subsetting
⠧ | 2148 | spectra_subsetting
⠏ | 2150 | spectra_subsetting
⠙ | 2152 | spectra_subsetting
⠸ | 2154 | spectra_subsetting
⠴ | 2156 | spectra_subsetting
⠧ | 2158 | spectra_subsetting
⠏ | 2160 | spectra_subsetting
⠙ | 2162 | spectra_subsetting
⠸ | 2164 | spectra_subsetting
⠦ | 2167 | spectra_subsetting
⠇ | 2169 | spectra_subsetting
⠋ | 2171 | spectra_subsetting
⠹ | 2173 | spectra_subsetting
⠼ | 2175 | spectra_subsetting
⠦ | 2177 | spectra_subsetting
⠇ | 2179 | spectra_subsetting
⠋ | 2181 | spectra_subsetting
⠹ | 2183 | spectra_subsetting
⠼ | 2185 | spectra_subsetting
⠦ | 2187 | spectra_subsetting
⠏ | 2190 | spectra_subsetting
⠙ | 2192 | spectra_subsetting
⠸ | 2194 | spectra_subsetting
⠴ | 2196 | spectra_subsetting
⠧ | 2198 | spectra_subsetting
⠏ | 2200 | spectra_subsetting
⠙ | 2202 | spectra_subsetting
⠸ | 2204 | spectra_subsetting
⠼ | 2205 | spectra_subsetting
⠦ | 2207 | spectra_subsetting
⠇ | 2209 | spectra_subsetting
⠋ | 2211 | spectra_subsetting
⠹ | 2213 | spectra_subsetting
⠼ | 2215 | spectra_subsetting
⠦ | 2217 | spectra_subsetting
⠇ | 2219 | spectra_subsetting
⠋ | 2221 | spectra_subsetting
⠹ | 2223 | spectra_subsetting
⠼ | 2225 | spectra_subsetting
⠦ | 2227 | spectra_subsetting
⠇ | 2229 | spectra_subsetting
⠋ | 2231 | spectra_subsetting
⠹ | 2233 | spectra_subsetting
⠴ | 2236 | spectra_subsetting
⠧ | 2238 | spectra_subsetting
⠏ | 2240 | spectra_subsetting
⠹ | 2243 | spectra_subsetting
⠴ | 2246 | spectra_subsetting
⠧ | 2248 | spectra_subsetting
⠋ | 2251 | spectra_subsetting
⠹ | 2253 | spectra_subsetting
⠼ | 2255 | spectra_subsetting
⠦ | 2257 | spectra_subsetting
⠇ | 2259 | spectra_subsetting
⠋ | 2261 | spectra_subsetting
⠹ | 2263 | spectra_subsetting
⠼ | 2265 | spectra_subsetting
⠦ | 2267 | spectra_subsetting
⠇ | 2269 | spectra_subsetting
⠋ | 2271 | spectra_subsetting
⠙ | 2272 | spectra_subsetting
⠸ | 2274 | spectra_subsetting
⠴ | 2276 | spectra_subsetting
⠧ | 2278 | spectra_subsetting
⠏ | 2280 | spectra_subsetting
⠙ | 2282 | spectra_subsetting
⠸ | 2284 | spectra_subsetting
⠦ | 2287 | spectra_subsetting
⠇ | 2289 | spectra_subsetting
⠋ | 2291 | spectra_subsetting
⠹ | 2293 | spectra_subsetting
⠼ | 2295 | spectra_subsetting
⠦ | 2297 | spectra_subsetting
⠇ | 2299 | spectra_subsetting
⠹ | 2303 | spectra_subsetting
⠴ | 2306 | spectra_subsetting
⠹ | 2313 | spectra_subsetting
⠋ | 2321 | spectra_subsetting
⠇ | 2329 | spectra_subsetting
⠸ | 2334 | spectra_subsetting
⠙ | 2342 | spectra_subsetting
✔ | 2342 | spectra_subsetting [58.4s]
⠏ | 0 | spectra_variables
⠙ | 12 | spectra_variables
⠸ | 14 | spectra_variables
⠴ | 16 | spectra_variables
⠦ | 27 | spectra_variables
⠇ | 29 | spectra_variables
⠋ | 31 | spectra_variables
⠹ | 43 | spectra_variables
⠴ | 1 55 | spectra_variables
✔ | 1 62 | spectra_variables [21.7s]
══ Results ═════════════════════════════════════════════════════════════════════
Duration: 86.2 s
── Skipped tests (1) ───────────────────────────────────────────────────────────
• empty test (1): 'test_spectra_variables.R:262:1'
[ FAIL 0 | WARN 0 | SKIP 1 | PASS 2408 ]
>
> proc.time()
user system elapsed
70.92 4.93 149.75
MsBackendRawFileReader.Rcheck/MsBackendRawFileReader-Ex.timings
| name | user | system | elapsed | |
| MsBackendRawFileReader-class | 0.99 | 0.03 | 12.78 | |
| MsBackendRawFileReader | 1.12 | 0.08 | 40.03 | |
| hidden_aliases | 0.30 | 0.01 | 11.81 | |
| ioBenchmark | 9.44 | 2.00 | 55.83 | |