Back to Multiple platform build/check report for BioC 3.21: simplified long |
|
This page was generated on 2025-10-09 11:38 -0400 (Thu, 09 Oct 2025).
Hostname | OS | Arch (*) | R version | Installed pkgs |
---|---|---|---|---|
nebbiolo1 | Linux (Ubuntu 24.04.3 LTS) | x86_64 | 4.5.1 (2025-06-13) -- "Great Square Root" | 4832 |
merida1 | macOS 12.7.5 Monterey | x86_64 | 4.5.1 RC (2025-06-05 r88288) -- "Great Square Root" | 4613 |
kjohnson1 | macOS 13.6.6 Ventura | arm64 | 4.5.1 Patched (2025-06-14 r88325) -- "Great Square Root" | 4554 |
kunpeng2 | Linux (openEuler 24.03 LTS) | aarch64 | R Under development (unstable) (2025-02-19 r87757) -- "Unsuffered Consequences" | 4585 |
Click on any hostname to see more info about the system (e.g. compilers) (*) as reported by 'uname -p', except on Windows and Mac OS X |
Package 1412/2341 | Hostname | OS / Arch | INSTALL | BUILD | CHECK | BUILD BIN | ||||||||
MutationalPatterns 3.18.0 (landing page) Mark van Roosmalen
| nebbiolo1 | Linux (Ubuntu 24.04.3 LTS) / x86_64 | OK | OK | OK | ![]() | ||||||||
merida1 | macOS 12.7.5 Monterey / x86_64 | OK | ERROR | skipped | skipped | |||||||||
kjohnson1 | macOS 13.6.6 Ventura / arm64 | OK | ERROR | skipped | skipped | |||||||||
kunpeng2 | Linux (openEuler 24.03 LTS) / aarch64 | OK | OK | OK | ||||||||||
To the developers/maintainers of the MutationalPatterns package: - Allow up to 24 hours (and sometimes 48 hours) for your latest push to git@git.bioconductor.org:packages/MutationalPatterns.git to reflect on this report. See Troubleshooting Build Report for more information. - Use the following Renviron settings to reproduce errors and warnings. - If 'R CMD check' started to fail recently on the Linux builder(s) over a missing dependency, add the missing dependency to 'Suggests:' in your DESCRIPTION file. See Renviron.bioc for more information. |
Package: MutationalPatterns |
Version: 3.18.0 |
Command: /home/biocbuild/bbs-3.21-bioc/R/bin/R CMD check --install=check:MutationalPatterns.install-out.txt --library=/home/biocbuild/bbs-3.21-bioc/R/site-library --timings MutationalPatterns_3.18.0.tar.gz |
StartedAt: 2025-10-09 01:27:23 -0400 (Thu, 09 Oct 2025) |
EndedAt: 2025-10-09 01:47:31 -0400 (Thu, 09 Oct 2025) |
EllapsedTime: 1208.0 seconds |
RetCode: 0 |
Status: OK |
CheckDir: MutationalPatterns.Rcheck |
Warnings: 0 |
############################################################################## ############################################################################## ### ### Running command: ### ### /home/biocbuild/bbs-3.21-bioc/R/bin/R CMD check --install=check:MutationalPatterns.install-out.txt --library=/home/biocbuild/bbs-3.21-bioc/R/site-library --timings MutationalPatterns_3.18.0.tar.gz ### ############################################################################## ############################################################################## * using log directory ‘/home/biocbuild/bbs-3.21-bioc/meat/MutationalPatterns.Rcheck’ * using R version 4.5.1 (2025-06-13) * using platform: x86_64-pc-linux-gnu * R was compiled by gcc (Ubuntu 13.3.0-6ubuntu2~24.04) 13.3.0 GNU Fortran (Ubuntu 13.3.0-6ubuntu2~24.04) 13.3.0 * running under: Ubuntu 24.04.3 LTS * using session charset: UTF-8 * checking for file ‘MutationalPatterns/DESCRIPTION’ ... OK * checking extension type ... Package * this is package ‘MutationalPatterns’ version ‘3.18.0’ * package encoding: UTF-8 * checking package namespace information ... OK * checking package dependencies ... OK * checking if this is a source package ... OK * checking if there is a namespace ... OK * checking for hidden files and directories ... OK * checking for portable file names ... OK * checking for sufficient/correct file permissions ... OK * checking whether package ‘MutationalPatterns’ can be installed ... OK * checking installed package size ... OK * checking package directory ... OK * checking ‘build’ directory ... OK * checking DESCRIPTION meta-information ... NOTE License stub is invalid DCF. * checking top-level files ... OK * checking for left-over files ... OK * checking index information ... OK * checking package subdirectories ... OK * checking code files for non-ASCII characters ... OK * checking R files for syntax errors ... OK * checking whether the package can be loaded ... OK * checking whether the package can be loaded with stated dependencies ... OK * checking whether the package can be unloaded cleanly ... OK * checking whether the namespace can be loaded with stated dependencies ... OK * checking whether the namespace can be unloaded cleanly ... OK * checking loading without being on the library search path ... OK * checking dependencies in R code ... OK * checking S3 generic/method consistency ... OK * checking replacement functions ... OK * checking foreign function calls ... OK * checking R code for possible problems ... OK * checking Rd files ... OK * checking Rd metadata ... OK * checking Rd cross-references ... OK * checking for missing documentation entries ... OK * checking for code/documentation mismatches ... OK * checking Rd \usage sections ... OK * checking Rd contents ... OK * checking for unstated dependencies in examples ... OK * checking files in ‘vignettes’ ... OK * checking examples ... OK Examples with CPU (user + system) or elapsed time > 5s user system elapsed read_vcfs_as_granges 22.493 3.611 29.945 context_potential_damage_analysis 20.730 0.684 21.416 plot_lesion_segregation 16.128 0.061 16.189 plot_compare_indels 11.475 0.130 11.608 get_mut_type 11.105 0.036 11.143 bin_mutation_density 10.142 0.735 10.879 calculate_lesion_segregation 10.371 0.484 10.856 genomic_distribution 10.264 0.220 10.489 plot_indel_contexts 9.869 0.052 9.921 get_indel_context 6.296 0.873 7.169 plot_compare_dbs 7.122 0.019 7.141 fit_to_signatures_bootstrapped 7.004 0.113 7.118 plot_spectrum_region 6.103 0.206 6.312 plot_spectrum 5.968 0.207 6.175 split_muts_region 5.381 0.444 5.825 plot_profile_heatmap 5.765 0.010 5.776 plot_river 5.688 0.020 5.708 * checking for unstated dependencies in ‘tests’ ... OK * checking tests ... Running ‘testthat.R’ OK * checking for unstated dependencies in vignettes ... OK * checking package vignettes ... OK * checking re-building of vignette outputs ... OK * checking PDF version of manual ... OK * DONE Status: 1 NOTE See ‘/home/biocbuild/bbs-3.21-bioc/meat/MutationalPatterns.Rcheck/00check.log’ for details.
MutationalPatterns.Rcheck/00install.out
############################################################################## ############################################################################## ### ### Running command: ### ### /home/biocbuild/bbs-3.21-bioc/R/bin/R CMD INSTALL MutationalPatterns ### ############################################################################## ############################################################################## * installing to library ‘/home/biocbuild/bbs-3.21-bioc/R/site-library’ * installing *source* package ‘MutationalPatterns’ ... ** this is package ‘MutationalPatterns’ version ‘3.18.0’ ** using staged installation ** R ** inst ** byte-compile and prepare package for lazy loading ** help *** installing help indices ** building package indices ** installing vignettes ** testing if installed package can be loaded from temporary location ** testing if installed package can be loaded from final location ** testing if installed package keeps a record of temporary installation path * DONE (MutationalPatterns)
MutationalPatterns.Rcheck/tests/testthat.Rout
R version 4.5.1 (2025-06-13) -- "Great Square Root" Copyright (C) 2025 The R Foundation for Statistical Computing Platform: x86_64-pc-linux-gnu R is free software and comes with ABSOLUTELY NO WARRANTY. You are welcome to redistribute it under certain conditions. Type 'license()' or 'licence()' for distribution details. R is a collaborative project with many contributors. Type 'contributors()' for more information and 'citation()' on how to cite R or R packages in publications. Type 'demo()' for some demos, 'help()' for on-line help, or 'help.start()' for an HTML browser interface to help. Type 'q()' to quit R. > library(testthat) > library(MutationalPatterns) Loading required package: GenomicRanges Loading required package: stats4 Loading required package: BiocGenerics Loading required package: generics Attaching package: 'generics' The following objects are masked from 'package:base': as.difftime, as.factor, as.ordered, intersect, is.element, setdiff, setequal, union Attaching package: 'BiocGenerics' The following objects are masked from 'package:stats': IQR, mad, sd, var, xtabs The following objects are masked from 'package:base': Filter, Find, Map, Position, Reduce, anyDuplicated, aperm, append, as.data.frame, basename, cbind, colnames, dirname, do.call, duplicated, eval, evalq, get, grep, grepl, is.unsorted, lapply, mapply, match, mget, order, paste, pmax, pmax.int, pmin, pmin.int, rank, rbind, rownames, sapply, saveRDS, table, tapply, unique, unsplit, which.max, which.min Loading required package: S4Vectors Attaching package: 'S4Vectors' The following object is masked from 'package:utils': findMatches The following objects are masked from 'package:base': I, expand.grid, unname Loading required package: IRanges Loading required package: GenomeInfoDb Loading required package: NMF Loading required package: registry Loading required package: rngtools Loading required package: cluster NMF - BioConductor layer [OK] | Shared memory capabilities [NO: bigmemory] | Cores 2/2 To enable shared memory capabilities, try: install.extras(' NMF ') Attaching package: 'NMF' The following object is masked from 'package:S4Vectors': nrun The following object is masked from 'package:generics': fit The following object is masked from 'package:testthat': compare > > test_check("MutationalPatterns") [ FAIL 0 | WARN 39 | SKIP 0 | PASS 474 ] [ FAIL 0 | WARN 39 | SKIP 0 | PASS 474 ] > > proc.time() user system elapsed 220.068 16.139 245.987
MutationalPatterns.Rcheck/MutationalPatterns-Ex.timings
name | user | system | elapsed | |
bin_mutation_density | 10.142 | 0.735 | 10.879 | |
binomial_test | 0.009 | 0.001 | 0.010 | |
calculate_lesion_segregation | 10.371 | 0.484 | 10.856 | |
cluster_signatures | 0.042 | 0.002 | 0.047 | |
context_potential_damage_analysis | 20.730 | 0.684 | 21.416 | |
convert_sigs_to_ref | 0.035 | 0.002 | 0.039 | |
cos_sim | 0.000 | 0.000 | 0.001 | |
cos_sim_matrix | 0.018 | 0.004 | 0.021 | |
count_dbs_contexts | 0.079 | 0.003 | 0.082 | |
count_indel_contexts | 0.095 | 0.002 | 0.097 | |
count_mbs_contexts | 0.070 | 0.000 | 0.071 | |
determine_regional_similarity | 2.815 | 0.398 | 3.222 | |
enrichment_depletion_test | 0.136 | 0.000 | 0.137 | |
extract_signatures | 0.000 | 0.001 | 0.002 | |
fit_to_signatures | 0.087 | 0.013 | 0.100 | |
fit_to_signatures_bootstrapped | 7.004 | 0.113 | 7.118 | |
fit_to_signatures_strict | 3.826 | 0.010 | 3.838 | |
genomic_distribution | 10.264 | 0.220 | 10.489 | |
get_dbs_context | 0.228 | 0.004 | 0.232 | |
get_indel_context | 6.296 | 0.873 | 7.169 | |
get_known_signatures | 0.223 | 0.441 | 0.668 | |
get_mut_type | 11.105 | 0.036 | 11.143 | |
lengthen_mut_matrix | 0.011 | 0.007 | 0.018 | |
merge_signatures | 1.065 | 0.117 | 1.182 | |
mut_context | 1.041 | 0.188 | 1.229 | |
mut_matrix | 1.912 | 0.285 | 2.198 | |
mut_matrix_stranded | 4.087 | 0.468 | 4.556 | |
mut_strand | 0.903 | 0.007 | 0.910 | |
mut_type | 0.028 | 0.000 | 0.028 | |
mut_type_occurrences | 0.903 | 0.186 | 1.089 | |
mutations_from_vcf | 0.031 | 0.000 | 0.031 | |
plot_192_profile | 3.45 | 0.02 | 3.47 | |
plot_96_profile | 2.824 | 0.061 | 2.886 | |
plot_bootstrapped_contribution | 2.502 | 0.001 | 2.503 | |
plot_compare_dbs | 7.122 | 0.019 | 7.141 | |
plot_compare_indels | 11.475 | 0.130 | 11.608 | |
plot_compare_mbs | 1.346 | 0.002 | 1.349 | |
plot_compare_profiles | 2.495 | 0.020 | 2.516 | |
plot_contribution | 2.099 | 0.004 | 2.103 | |
plot_contribution_heatmap | 2.175 | 0.009 | 2.184 | |
plot_correlation_bootstrap | 1.598 | 0.004 | 1.603 | |
plot_cosine_heatmap | 2.650 | 0.035 | 2.685 | |
plot_dbs_contexts | 4.705 | 0.002 | 4.708 | |
plot_enrichment_depletion | 4.806 | 0.064 | 4.871 | |
plot_indel_contexts | 9.869 | 0.052 | 9.921 | |
plot_lesion_segregation | 16.128 | 0.061 | 16.189 | |
plot_main_dbs_contexts | 0.791 | 0.013 | 0.804 | |
plot_main_indel_contexts | 0.845 | 0.008 | 0.854 | |
plot_mbs_contexts | 0.783 | 0.002 | 0.786 | |
plot_original_vs_reconstructed | 0.890 | 0.002 | 0.892 | |
plot_profile_heatmap | 5.765 | 0.010 | 5.776 | |
plot_profile_region | 1.160 | 0.018 | 1.179 | |
plot_rainfall | 1.935 | 0.020 | 1.956 | |
plot_regional_similarity | 2.358 | 0.003 | 2.362 | |
plot_river | 5.688 | 0.020 | 5.708 | |
plot_signature_strand_bias | 1.056 | 0.010 | 1.067 | |
plot_spectrum | 5.968 | 0.207 | 6.175 | |
plot_spectrum_region | 6.103 | 0.206 | 6.312 | |
plot_strand | 0.373 | 0.008 | 0.381 | |
plot_strand_bias | 1.053 | 0.001 | 1.055 | |
pool_mut_mat | 0.047 | 0.004 | 0.050 | |
read_vcfs_as_granges | 22.493 | 3.611 | 29.945 | |
rename_nmf_signatures | 0.037 | 0.026 | 0.064 | |
signature_potential_damage_analysis | 0.098 | 0.011 | 0.109 | |
split_muts_region | 5.381 | 0.444 | 5.825 | |
strand_bias_test | 0.113 | 0.004 | 0.117 | |
strand_occurrences | 0.17 | 0.01 | 0.18 | |
type_context | 1.261 | 0.297 | 1.558 | |