Back to Multiple platform build/check report for BioC 3.21:   simplified   long
ABCDEFGHIJKLMNOPQ[R]STUVWXYZ

This page was generated on 2025-10-06 11:38 -0400 (Mon, 06 Oct 2025).

HostnameOSArch (*)R versionInstalled pkgs
nebbiolo1Linux (Ubuntu 24.04.3 LTS)x86_644.5.1 (2025-06-13) -- "Great Square Root" 4832
merida1macOS 12.7.5 Montereyx86_644.5.1 RC (2025-06-05 r88288) -- "Great Square Root" 4613
kjohnson1macOS 13.6.6 Venturaarm644.5.1 Patched (2025-06-14 r88325) -- "Great Square Root" 4554
kunpeng2Linux (openEuler 24.03 LTS)aarch64R Under development (unstable) (2025-02-19 r87757) -- "Unsuffered Consequences" 4585
Click on any hostname to see more info about the system (e.g. compilers)      (*) as reported by 'uname -p', except on Windows and Mac OS X

Package 1728/2341HostnameOS / ArchINSTALLBUILDCHECKBUILD BIN
ReactomeGSA 1.22.0  (landing page)
Johannes Griss
Snapshot Date: 2025-10-02 13:40 -0400 (Thu, 02 Oct 2025)
git_url: https://git.bioconductor.org/packages/ReactomeGSA
git_branch: RELEASE_3_21
git_last_commit: 6e8adbb
git_last_commit_date: 2025-04-15 11:49:59 -0400 (Tue, 15 Apr 2025)
nebbiolo1Linux (Ubuntu 24.04.3 LTS) / x86_64  OK    OK    OK  UNNEEDED, same version is already published
merida1macOS 12.7.5 Monterey / x86_64  OK    OK    OK    OK  UNNEEDED, same version is already published
kjohnson1macOS 13.6.6 Ventura / arm64  OK    OK    OK    OK  UNNEEDED, same version is already published
kunpeng2Linux (openEuler 24.03 LTS) / aarch64  OK    OK    OK  


CHECK results for ReactomeGSA on nebbiolo1

To the developers/maintainers of the ReactomeGSA package:
- Allow up to 24 hours (and sometimes 48 hours) for your latest push to git@git.bioconductor.org:packages/ReactomeGSA.git to reflect on this report. See Troubleshooting Build Report for more information.
- Use the following Renviron settings to reproduce errors and warnings.
- If 'R CMD check' started to fail recently on the Linux builder(s) over a missing dependency, add the missing dependency to 'Suggests:' in your DESCRIPTION file. See Renviron.bioc for more information.

raw results


Summary

Package: ReactomeGSA
Version: 1.22.0
Command: /home/biocbuild/bbs-3.21-bioc/R/bin/R CMD check --install=check:ReactomeGSA.install-out.txt --library=/home/biocbuild/bbs-3.21-bioc/R/site-library --timings ReactomeGSA_1.22.0.tar.gz
StartedAt: 2025-10-06 02:37:58 -0400 (Mon, 06 Oct 2025)
EndedAt: 2025-10-06 02:57:07 -0400 (Mon, 06 Oct 2025)
EllapsedTime: 1149.0 seconds
RetCode: 0
Status:   OK  
CheckDir: ReactomeGSA.Rcheck
Warnings: 0

Command output

##############################################################################
##############################################################################
###
### Running command:
###
###   /home/biocbuild/bbs-3.21-bioc/R/bin/R CMD check --install=check:ReactomeGSA.install-out.txt --library=/home/biocbuild/bbs-3.21-bioc/R/site-library --timings ReactomeGSA_1.22.0.tar.gz
###
##############################################################################
##############################################################################


* using log directory ‘/home/biocbuild/bbs-3.21-bioc/meat/ReactomeGSA.Rcheck’
* using R version 4.5.1 (2025-06-13)
* using platform: x86_64-pc-linux-gnu
* R was compiled by
    gcc (Ubuntu 13.3.0-6ubuntu2~24.04) 13.3.0
    GNU Fortran (Ubuntu 13.3.0-6ubuntu2~24.04) 13.3.0
* running under: Ubuntu 24.04.3 LTS
* using session charset: UTF-8
* checking for file ‘ReactomeGSA/DESCRIPTION’ ... OK
* checking extension type ... Package
* this is package ‘ReactomeGSA’ version ‘1.22.0’
* package encoding: UTF-8
* checking package namespace information ... OK
* checking package dependencies ... OK
* checking if this is a source package ... OK
* checking if there is a namespace ... OK
* checking for hidden files and directories ... OK
* checking for portable file names ... OK
* checking for sufficient/correct file permissions ... OK
* checking whether package ‘ReactomeGSA’ can be installed ... OK
* checking installed package size ... OK
* checking package directory ... OK
* checking ‘build’ directory ... OK
* checking DESCRIPTION meta-information ... OK
* checking top-level files ... OK
* checking for left-over files ... OK
* checking index information ... OK
* checking package subdirectories ... OK
* checking code files for non-ASCII characters ... OK
* checking R files for syntax errors ... OK
* checking whether the package can be loaded ... OK
* checking whether the package can be loaded with stated dependencies ... OK
* checking whether the package can be unloaded cleanly ... OK
* checking whether the namespace can be loaded with stated dependencies ... OK
* checking whether the namespace can be unloaded cleanly ... OK
* checking loading without being on the library search path ... OK
* checking whether startup messages can be suppressed ... OK
* checking dependencies in R code ... OK
* checking S3 generic/method consistency ... OK
* checking replacement functions ... OK
* checking foreign function calls ... OK
* checking R code for possible problems ... NOTE
plot_correlations,ReactomeAnalysisResult: no visible binding for global
  variable ‘combined_sig’
plot_correlations,ReactomeAnalysisResult: no visible binding for global
  variable ‘alpha’
plot_gsva_pathway,ReactomeAnalysisResult: no visible binding for global
  variable ‘cluster_id’
plot_gsva_pathway,ReactomeAnalysisResult: no visible binding for global
  variable ‘expr’
plot_gsva_pca,ReactomeAnalysisResult: no visible binding for global
  variable ‘gsva_result’
plot_gsva_pca,ReactomeAnalysisResult: no visible binding for global
  variable ‘PC1’
plot_gsva_pca,ReactomeAnalysisResult: no visible binding for global
  variable ‘PC2’
plot_heatmap,ReactomeAnalysisResult: no visible global function
  definition for ‘desc’
plot_heatmap,ReactomeAnalysisResult: no visible binding for global
  variable ‘n_sig’
plot_heatmap,ReactomeAnalysisResult: no visible binding for global
  variable ‘dataset’
plot_heatmap,ReactomeAnalysisResult: no visible binding for global
  variable ‘Name’
plot_volcano,ReactomeAnalysisResult: no visible binding for global
  variable ‘av_foldchange’
plot_volcano,ReactomeAnalysisResult: no visible binding for global
  variable ‘FDR’
Undefined global functions or variables:
  FDR Name PC1 PC2 alpha av_foldchange cluster_id combined_sig dataset
  desc expr gsva_result n_sig
* checking Rd files ... OK
* checking Rd metadata ... OK
* checking Rd cross-references ... OK
* checking for missing documentation entries ... OK
* checking for code/documentation mismatches ... OK
* checking Rd \usage sections ... OK
* checking Rd contents ... OK
* checking for unstated dependencies in examples ... OK
* checking files in ‘vignettes’ ... OK
* checking examples ... OK
Examples with CPU (user + system) or elapsed time > 5s
                                                  user system elapsed
plot_gsva_pathway-ReactomeAnalysisResult-method 36.764  2.185 110.874
analyse_sc_clusters-SingleCellExperiment-method 35.895  1.440 112.719
plot_gsva_pca                                   34.120  1.971  76.010
plot_gsva_heatmap-ReactomeAnalysisResult-method 33.980  1.988  73.999
plot_gsva_heatmap                               32.544  1.895  70.228
analyse_sc_clusters-Seurat-method               33.208  1.159  79.815
plot_gsva_pca-ReactomeAnalysisResult-method     32.117  1.750  70.889
plot_gsva_pathway                               31.701  1.915  67.202
analyse_sc_clusters                             30.433  1.323  66.374
generate_pseudo_bulk_data                       13.535  1.582  15.171
ReactomeAnalysisRequest                          4.874  0.217   5.093
load_public_dataset                              3.635  0.357  30.313
perform_reactome_analysis                        2.906  0.528  16.443
* checking for unstated dependencies in ‘tests’ ... OK
* checking tests ...
  Running ‘testthat.R’
 OK
* checking for unstated dependencies in vignettes ... OK
* checking package vignettes ... OK
* checking re-building of vignette outputs ... OK
* checking PDF version of manual ... OK
* DONE

Status: 1 NOTE
See
  ‘/home/biocbuild/bbs-3.21-bioc/meat/ReactomeGSA.Rcheck/00check.log’
for details.


Installation output

ReactomeGSA.Rcheck/00install.out

##############################################################################
##############################################################################
###
### Running command:
###
###   /home/biocbuild/bbs-3.21-bioc/R/bin/R CMD INSTALL ReactomeGSA
###
##############################################################################
##############################################################################


* installing to library ‘/home/biocbuild/bbs-3.21-bioc/R/site-library’
* installing *source* package ‘ReactomeGSA’ ...
** this is package ‘ReactomeGSA’ version ‘1.22.0’
** using staged installation
** R
** inst
** byte-compile and prepare package for lazy loading
in method for ‘analyse_sc_clusters’ with signature ‘object="Seurat"’: no definition for class “Seurat”
in method for ‘analyse_sc_clusters’ with signature ‘object="SingleCellExperiment"’: no definition for class “SingleCellExperiment”
in method for ‘add_dataset’ with signature ‘request="ReactomeAnalysisRequest",expression_values="EList"’: no definition for class “EList”
in method for ‘add_dataset’ with signature ‘request="ReactomeAnalysisRequest",expression_values="DGEList"’: no definition for class “DGEList”
in method for ‘generate_pseudo_bulk_data’ with signature ‘object="Seurat"’: no definition for class “Seurat”
in method for ‘generate_pseudo_bulk_data’ with signature ‘object="SingleCellExperiment"’: no definition for class “SingleCellExperiment”
** help
*** installing help indices
** building package indices
** installing vignettes
** testing if installed package can be loaded from temporary location
** testing if installed package can be loaded from final location
** testing if installed package keeps a record of temporary installation path
* DONE (ReactomeGSA)

Tests output

ReactomeGSA.Rcheck/tests/testthat.Rout


R version 4.5.1 (2025-06-13) -- "Great Square Root"
Copyright (C) 2025 The R Foundation for Statistical Computing
Platform: x86_64-pc-linux-gnu

R is free software and comes with ABSOLUTELY NO WARRANTY.
You are welcome to redistribute it under certain conditions.
Type 'license()' or 'licence()' for distribution details.

R is a collaborative project with many contributors.
Type 'contributors()' for more information and
'citation()' on how to cite R or R packages in publications.

Type 'demo()' for some demos, 'help()' for on-line help, or
'help.start()' for an HTML browser interface to help.
Type 'q()' to quit R.

> library(testthat)
> library(ReactomeGSA)
> 
> test_check("ReactomeGSA")
[ FAIL 0 | WARN 0 | SKIP 0 | PASS 17 ]
> 
> proc.time()
   user  system elapsed 
  1.770   0.121   1.880 

Example timings

ReactomeGSA.Rcheck/ReactomeGSA-Ex.timings

nameusersystemelapsed
ReactomeAnalysisRequest4.8740.2175.093
ReactomeAnalysisResult-class0.1810.0020.184
add_dataset-ReactomeAnalysisRequest-DGEList-method0.8790.0080.886
add_dataset-ReactomeAnalysisRequest-EList-method0.5230.0030.526
add_dataset-ReactomeAnalysisRequest-ExpressionSet-method0.4990.0230.522
add_dataset-ReactomeAnalysisRequest-data.frame-method0.5070.0060.513
add_dataset-ReactomeAnalysisRequest-matrix-method0.5080.0040.512
add_dataset0.5030.0030.507
analyse_sc_clusters-Seurat-method33.208 1.15979.815
analyse_sc_clusters-SingleCellExperiment-method 35.895 1.440112.719
analyse_sc_clusters30.433 1.32366.374
find_public_datasets0.4280.0493.992
generate_metadata0.0010.0000.001
generate_pseudo_bulk_data13.535 1.58215.171
get_public_species0.1430.0130.618
get_reactome_data_types0.2950.0071.186
get_reactome_methods0.5100.0261.881
get_result-ReactomeAnalysisResult-method0.5220.1100.631
get_result0.2010.0050.205
load_public_dataset 3.635 0.35730.313
names-ReactomeAnalysisResult-method0.2070.0270.235
open_reactome-ReactomeAnalysisResult-method0.2260.0120.238
open_reactome0.2640.0220.287
pathways-ReactomeAnalysisResult-method0.2670.0320.299
pathways0.2350.0130.248
perform_reactome_analysis 2.906 0.52816.443
plot_correlations-ReactomeAnalysisResult-method0.2910.0410.332
plot_correlations0.2740.0270.301
plot_gsva_heatmap-ReactomeAnalysisResult-method33.980 1.98873.999
plot_gsva_heatmap32.544 1.89570.228
plot_gsva_pathway-ReactomeAnalysisResult-method 36.764 2.185110.874
plot_gsva_pathway31.701 1.91567.202
plot_gsva_pca-ReactomeAnalysisResult-method32.117 1.75070.889
plot_gsva_pca34.120 1.97176.010
plot_heatmap-ReactomeAnalysisResult-method0.5270.0560.582
plot_heatmap0.6370.0700.707
plot_volcano-ReactomeAnalysisResult-method0.2240.0080.233
plot_volcano0.2530.0060.259
print-ReactomeAnalysisRequest-method0.0020.0000.002
print-ReactomeAnalysisResult-method0.2150.0040.219
reactome_links-ReactomeAnalysisResult-method0.2110.0150.227
reactome_links0.2100.0040.214
result_types-ReactomeAnalysisResult-method0.2210.0030.224
result_types0.2360.0090.245
set_method-ReactomeAnalysisRequest-method0.0010.0010.002
set_method0.0010.0010.001
set_parameters-ReactomeAnalysisRequest-method0.0010.0020.004
set_parameters0.0000.0010.002
show-ReactomeAnalysisRequest-method0.0000.0010.002
show-ReactomeAnalysisResult-method0.200.010.21