| Back to Multiple platform build/check report for BioC 3.21: simplified long |
|
This page was generated on 2025-04-22 13:15 -0400 (Tue, 22 Apr 2025).
| Hostname | OS | Arch (*) | R version | Installed pkgs |
|---|---|---|---|---|
| nebbiolo1 | Linux (Ubuntu 24.04.1 LTS) | x86_64 | 4.5.0 RC (2025-04-04 r88126) -- "How About a Twenty-Six" | 4831 |
| palomino7 | Windows Server 2022 Datacenter | x64 | 4.5.0 RC (2025-04-04 r88126 ucrt) -- "How About a Twenty-Six" | 4573 |
| lconway | macOS 12.7.1 Monterey | x86_64 | 4.5.0 RC (2025-04-04 r88126) -- "How About a Twenty-Six" | 4599 |
| kjohnson3 | macOS 13.7.1 Ventura | arm64 | 4.5.0 RC (2025-04-04 r88126) -- "How About a Twenty-Six" | 4553 |
| kunpeng2 | Linux (openEuler 24.03 LTS) | aarch64 | R Under development (unstable) (2025-02-19 r87757) -- "Unsuffered Consequences" | 4570 |
| Click on any hostname to see more info about the system (e.g. compilers) (*) as reported by 'uname -p', except on Windows and Mac OS X | ||||
| Package 71/2341 | Hostname | OS / Arch | INSTALL | BUILD | CHECK | BUILD BIN | ||||||||
| annotate 1.86.0 (landing page) Bioconductor Package Maintainer
| nebbiolo1 | Linux (Ubuntu 24.04.1 LTS) / x86_64 | OK | OK | OK | |||||||||
| palomino7 | Windows Server 2022 Datacenter / x64 | OK | OK | ERROR | OK | |||||||||
| lconway | macOS 12.7.1 Monterey / x86_64 | OK | OK | OK | OK | |||||||||
| kjohnson3 | macOS 13.7.1 Ventura / arm64 | OK | OK | OK | OK | |||||||||
| kunpeng2 | Linux (openEuler 24.03 LTS) / aarch64 | OK | OK | OK | ||||||||||
|
To the developers/maintainers of the annotate package: - Allow up to 24 hours (and sometimes 48 hours) for your latest push to git@git.bioconductor.org:packages/annotate.git to reflect on this report. See Troubleshooting Build Report for more information. - Use the following Renviron settings to reproduce errors and warnings. - If 'R CMD check' started to fail recently on the Linux builder(s) over a missing dependency, add the missing dependency to 'Suggests:' in your DESCRIPTION file. See Renviron.bioc for more information. |
| Package: annotate |
| Version: 1.86.0 |
| Command: /Library/Frameworks/R.framework/Resources/bin/R CMD check --install=check:annotate.install-out.txt --library=/Library/Frameworks/R.framework/Resources/library --no-vignettes --timings annotate_1.86.0.tar.gz |
| StartedAt: 2025-04-21 19:03:05 -0400 (Mon, 21 Apr 2025) |
| EndedAt: 2025-04-21 19:06:39 -0400 (Mon, 21 Apr 2025) |
| EllapsedTime: 213.3 seconds |
| RetCode: 0 |
| Status: OK |
| CheckDir: annotate.Rcheck |
| Warnings: 0 |
##############################################################################
##############################################################################
###
### Running command:
###
### /Library/Frameworks/R.framework/Resources/bin/R CMD check --install=check:annotate.install-out.txt --library=/Library/Frameworks/R.framework/Resources/library --no-vignettes --timings annotate_1.86.0.tar.gz
###
##############################################################################
##############################################################################
* using log directory ‘/Users/biocbuild/bbs-3.21-bioc/meat/annotate.Rcheck’
* using R version 4.5.0 RC (2025-04-04 r88126)
* using platform: x86_64-apple-darwin20
* R was compiled by
Apple clang version 14.0.0 (clang-1400.0.29.202)
GNU Fortran (GCC) 14.2.0
* running under: macOS Monterey 12.7.6
* using session charset: UTF-8
* using option ‘--no-vignettes’
* checking for file ‘annotate/DESCRIPTION’ ... OK
* this is package ‘annotate’ version ‘1.86.0’
* checking package namespace information ... OK
* checking package dependencies ... OK
* checking if this is a source package ... OK
* checking if there is a namespace ... OK
* checking for hidden files and directories ... OK
* checking for portable file names ... OK
* checking for sufficient/correct file permissions ... OK
* checking whether package ‘annotate’ can be installed ... OK
* checking installed package size ... OK
* checking package directory ... OK
* checking ‘build’ directory ... OK
* checking DESCRIPTION meta-information ... OK
* checking top-level files ... OK
* checking for left-over files ... OK
* checking index information ... OK
* checking package subdirectories ... OK
* checking code files for non-ASCII characters ... OK
* checking R files for syntax errors ... OK
* checking whether the package can be loaded ... OK
* checking whether the package can be loaded with stated dependencies ... OK
* checking whether the package can be unloaded cleanly ... OK
* checking whether the namespace can be loaded with stated dependencies ... OK
* checking whether the namespace can be unloaded cleanly ... OK
* checking whether startup messages can be suppressed ... OK
* checking dependencies in R code ... NOTE
Unexported object imported by a ':::' call: ‘BiocGenerics:::testPackage’
See the note in ?`:::` about the use of this operator.
* checking S3 generic/method consistency ... OK
* checking replacement functions ... OK
* checking foreign function calls ... OK
* checking R code for possible problems ... OK
* checking Rd files ... NOTE
checkRd: (-1) chrCats.Rd:13: Escaped LaTeX specials: \_
checkRd: (-1) chrCats.Rd:14: Escaped LaTeX specials: \_
checkRd: (-1) chrCats.Rd:47: Escaped LaTeX specials: \_
checkRd: (-1) chrCats.Rd:53: Escaped LaTeX specials: \_
checkRd: (-1) chrCats.Rd:60: Escaped LaTeX specials: \_
checkRd: (-1) chrCats.Rd:69: Escaped LaTeX specials: \_ \_
checkRd: (-1) chrCats.Rd:77: Escaped LaTeX specials: \_
checkRd: (-1) htmlpage.Rd:56: Escaped LaTeX specials: \_
checkRd: (-1) htmlpage.Rd:57: Escaped LaTeX specials: \_
* checking Rd metadata ... OK
* checking Rd cross-references ... NOTE
Non-topic package-anchored link(s) in Rd file 'pmid2MIAME.Rd':
‘[Biobase:class.MIAME]{MIAME}’
See section 'Cross-references' in the 'Writing R Extensions' manual.
* checking for missing documentation entries ... OK
* checking for code/documentation mismatches ... OK
* checking Rd \usage sections ... OK
* checking Rd contents ... OK
* checking for unstated dependencies in examples ... OK
* checking contents of ‘data’ directory ... OK
* checking data for non-ASCII characters ... OK
* checking data for ASCII and uncompressed saves ... OK
* checking sizes of PDF files under ‘inst/doc’ ... OK
* checking files in ‘vignettes’ ... OK
* checking examples ... OK
Examples with CPU (user + system) or elapsed time > 5s
user system elapsed
chrCats 11.198 0.115 11.452
blastSequences 0.126 0.010 37.598
* checking for unstated dependencies in ‘tests’ ... OK
* checking tests ...
Running ‘annotate_unit_tests.R’
OK
* checking for unstated dependencies in vignettes ... OK
* checking package vignettes ... OK
* checking running R code from vignettes ... SKIPPED
* checking re-building of vignette outputs ... SKIPPED
* checking PDF version of manual ... OK
* DONE
Status: 3 NOTEs
See
‘/Users/biocbuild/bbs-3.21-bioc/meat/annotate.Rcheck/00check.log’
for details.
annotate.Rcheck/00install.out
############################################################################## ############################################################################## ### ### Running command: ### ### /Library/Frameworks/R.framework/Resources/bin/R CMD INSTALL annotate ### ############################################################################## ############################################################################## * installing to library ‘/Library/Frameworks/R.framework/Versions/4.5-x86_64/Resources/library’ * installing *source* package ‘annotate’ ... ** this is package ‘annotate’ version ‘1.86.0’ ** using staged installation ** R ** data ** inst ** byte-compile and prepare package for lazy loading ** help *** installing help indices ** building package indices ** installing vignettes ** testing if installed package can be loaded from temporary location ** testing if installed package can be loaded from final location ** testing if installed package keeps a record of temporary installation path * DONE (annotate)
annotate.Rcheck/tests/annotate_unit_tests.Rout
R version 4.5.0 RC (2025-04-04 r88126) -- "How About a Twenty-Six"
Copyright (C) 2025 The R Foundation for Statistical Computing
Platform: x86_64-apple-darwin20
R is free software and comes with ABSOLUTELY NO WARRANTY.
You are welcome to redistribute it under certain conditions.
Type 'license()' or 'licence()' for distribution details.
R is a collaborative project with many contributors.
Type 'contributors()' for more information and
'citation()' on how to cite R or R packages in publications.
Type 'demo()' for some demos, 'help()' for on-line help, or
'help.start()' for an HTML browser interface to help.
Type 'q()' to quit R.
> BiocGenerics:::testPackage("annotate")
Attaching package: 'generics'
The following objects are masked from 'package:base':
as.difftime, as.factor, as.ordered, intersect, is.element, setdiff,
setequal, union
Attaching package: 'BiocGenerics'
The following objects are masked from 'package:stats':
IQR, mad, sd, var, xtabs
The following objects are masked from 'package:base':
Filter, Find, Map, Position, Reduce, anyDuplicated, aperm, append,
as.data.frame, basename, cbind, colnames, dirname, do.call,
duplicated, eval, evalq, get, grep, grepl, is.unsorted, lapply,
mapply, match, mget, order, paste, pmax, pmax.int, pmin, pmin.int,
rank, rbind, rownames, sapply, saveRDS, table, tapply, unique,
unsplit, which.max, which.min
Welcome to Bioconductor
Vignettes contain introductory material; view with
'browseVignettes()'. To cite Bioconductor, see
'citation("Biobase")', and for packages 'citation("pkgname")'.
Attaching package: 'S4Vectors'
The following object is masked from 'package:utils':
findMatches
The following objects are masked from 'package:base':
I, expand.grid, unname
Loading required package: org.Hs.eg.db
'select()' returned 1:many mapping between keys and columns
RUNIT TEST PROTOCOL -- Mon Apr 21 19:06:27 2025
***********************************************
Number of test functions: 1
Number of errors: 0
Number of failures: 0
1 Test Suite :
annotate RUnit Tests - 1 test function, 0 errors, 0 failures
Number of test functions: 1
Number of errors: 0
Number of failures: 0
>
> proc.time()
user system elapsed
9.947 0.838 10.881
annotate.Rcheck/annotate-Ex.timings
| name | user | system | elapsed | |
| ACCNUMStats | 1.798 | 0.054 | 1.865 | |
| GO2heatmap | 0.184 | 0.010 | 0.196 | |
| GOmnplot | 0.053 | 0.006 | 0.061 | |
| HTMLPage-class | 0.000 | 0.000 | 0.001 | |
| LL2homology | 0 | 0 | 0 | |
| PMIDAmat | 0.109 | 0.006 | 0.120 | |
| PWAmat | 1.913 | 0.059 | 1.986 | |
| UniGeneQuery | 0.001 | 0.000 | 0.002 | |
| accessionToUID | 0.669 | 0.034 | 2.676 | |
| annPkgName | 0.001 | 0.001 | 0.001 | |
| aqListGOIDs | 0.126 | 0.012 | 0.140 | |
| blastSequences | 0.126 | 0.010 | 37.598 | |
| buildChromLocation | 0.863 | 0.044 | 0.939 | |
| buildPubMedAbst | 0.037 | 0.002 | 0.590 | |
| chrCats | 11.198 | 0.115 | 11.452 | |
| chromLocation-class | 0.798 | 0.054 | 0.862 | |
| compatibleVersions | 0.047 | 0.005 | 0.053 | |
| dropECode | 0.046 | 0.003 | 0.050 | |
| entrezGeneByID | 0.001 | 0.000 | 0.001 | |
| entrezGeneQuery | 0.001 | 0.000 | 0.000 | |
| filterGOByOntology | 0.053 | 0.003 | 0.056 | |
| findNeighbors | 0.023 | 0.004 | 0.030 | |
| genbank | 0.241 | 0.015 | 1.167 | |
| getAnnMap | 0.052 | 0.011 | 0.067 | |
| getEvidence | 0.061 | 0.003 | 0.064 | |
| getGOTerm | 0.218 | 0.006 | 0.229 | |
| getOntology | 0.053 | 0.005 | 0.062 | |
| getPMInfo | 0.389 | 0.007 | 0.952 | |
| getSYMBOL | 0.123 | 0.016 | 0.143 | |
| getSeq4Acc | 0.010 | 0.001 | 0.360 | |
| hasGOannote | 0.033 | 0.003 | 0.037 | |
| hgByChroms | 0.016 | 0.003 | 0.018 | |
| hgCLengths | 0.001 | 0.002 | 0.003 | |
| hgu95Achroloc | 0.117 | 0.009 | 0.130 | |
| hgu95Achrom | 0.061 | 0.005 | 0.068 | |
| hgu95All | 0.065 | 0.005 | 0.070 | |
| hgu95Asym | 0.063 | 0.005 | 0.068 | |
| homoData-class | 0.002 | 0.001 | 0.002 | |
| htmlpage | 0.016 | 0.002 | 0.019 | |
| isValidkey | 0 | 0 | 0 | |
| makeAnchor | 0.000 | 0.001 | 0.001 | |
| organism | 0.849 | 0.038 | 0.898 | |
| p2LL | 0.000 | 0.001 | 0.000 | |
| pm.abstGrep | 0.986 | 0.035 | 2.152 | |
| pm.getabst | 1.464 | 0.040 | 2.438 | |
| pm.titles | 1.009 | 0.029 | 2.002 | |
| pmAbst2HTML | 0.043 | 0.006 | 0.389 | |
| pmid2MIAME | 0.001 | 0.000 | 0.000 | |
| pmidQuery | 0.021 | 0.000 | 0.022 | |
| pubMedAbst-class | 0.035 | 0.002 | 0.429 | |
| pubmed | 0.021 | 0.003 | 0.765 | |
| readGEOAnn | 0.000 | 0.001 | 0.000 | |
| serializeEnv | 0.002 | 0.001 | 0.002 | |
| setRepository | 0.001 | 0.000 | 0.002 | |
| updateSymbolsToValidKeys | 0 | 0 | 0 | |
| usedChromGenes | 0.077 | 0.005 | 0.084 | |