| Back to Multiple platform build/check report for BioC 3.21: simplified long |
|
This page was generated on 2025-10-16 11:37 -0400 (Thu, 16 Oct 2025).
| Hostname | OS | Arch (*) | R version | Installed pkgs |
|---|---|---|---|---|
| nebbiolo1 | Linux (Ubuntu 24.04.3 LTS) | x86_64 | 4.5.1 (2025-06-13) -- "Great Square Root" | 4833 |
| merida1 | macOS 12.7.6 Monterey | x86_64 | 4.5.1 RC (2025-06-05 r88288) -- "Great Square Root" | 4614 |
| kjohnson1 | macOS 13.7.5 Ventura | arm64 | 4.5.1 Patched (2025-06-14 r88325) -- "Great Square Root" | 4555 |
| kunpeng2 | Linux (openEuler 24.03 LTS) | aarch64 | R Under development (unstable) (2025-02-19 r87757) -- "Unsuffered Consequences" | 4586 |
| Click on any hostname to see more info about the system (e.g. compilers) (*) as reported by 'uname -p', except on Windows and Mac OS X | ||||
| Package 387/2341 | Hostname | OS / Arch | INSTALL | BUILD | CHECK | BUILD BIN | ||||||||
| clustifyr 1.20.0 (landing page) Rui Fu
| nebbiolo1 | Linux (Ubuntu 24.04.3 LTS) / x86_64 | OK | OK | OK | |||||||||
| merida1 | macOS 12.7.6 Monterey / x86_64 | OK | OK | OK | OK | |||||||||
| kjohnson1 | macOS 13.7.5 Ventura / arm64 | OK | OK | OK | OK | |||||||||
| kunpeng2 | Linux (openEuler 24.03 LTS) / aarch64 | OK | OK | OK | ||||||||||
|
To the developers/maintainers of the clustifyr package: - Allow up to 24 hours (and sometimes 48 hours) for your latest push to git@git.bioconductor.org:packages/clustifyr.git to reflect on this report. See Troubleshooting Build Report for more information. - Use the following Renviron settings to reproduce errors and warnings. - If 'R CMD check' started to fail recently on the Linux builder(s) over a missing dependency, add the missing dependency to 'Suggests:' in your DESCRIPTION file. See Renviron.bioc for more information. |
| Package: clustifyr |
| Version: 1.20.0 |
| Command: /home/biocbuild/bbs-3.21-bioc/R/bin/R CMD check --install=check:clustifyr.install-out.txt --library=/home/biocbuild/bbs-3.21-bioc/R/site-library --timings clustifyr_1.20.0.tar.gz |
| StartedAt: 2025-10-15 21:51:15 -0400 (Wed, 15 Oct 2025) |
| EndedAt: 2025-10-15 22:03:18 -0400 (Wed, 15 Oct 2025) |
| EllapsedTime: 722.9 seconds |
| RetCode: 0 |
| Status: OK |
| CheckDir: clustifyr.Rcheck |
| Warnings: 0 |
##############################################################################
##############################################################################
###
### Running command:
###
### /home/biocbuild/bbs-3.21-bioc/R/bin/R CMD check --install=check:clustifyr.install-out.txt --library=/home/biocbuild/bbs-3.21-bioc/R/site-library --timings clustifyr_1.20.0.tar.gz
###
##############################################################################
##############################################################################
* using log directory ‘/home/biocbuild/bbs-3.21-bioc/meat/clustifyr.Rcheck’
* using R version 4.5.1 (2025-06-13)
* using platform: x86_64-pc-linux-gnu
* R was compiled by
gcc (Ubuntu 13.3.0-6ubuntu2~24.04) 13.3.0
GNU Fortran (Ubuntu 13.3.0-6ubuntu2~24.04) 13.3.0
* running under: Ubuntu 24.04.3 LTS
* using session charset: UTF-8
* checking for file ‘clustifyr/DESCRIPTION’ ... OK
* this is package ‘clustifyr’ version ‘1.20.0’
* package encoding: UTF-8
* checking package namespace information ... OK
* checking package dependencies ... OK
* checking if this is a source package ... OK
* checking if there is a namespace ... OK
* checking for hidden files and directories ... OK
* checking for portable file names ... OK
* checking for sufficient/correct file permissions ... OK
* checking whether package ‘clustifyr’ can be installed ... OK
* checking installed package size ... OK
* checking package directory ... OK
* checking ‘build’ directory ... OK
* checking DESCRIPTION meta-information ... NOTE
License stub is invalid DCF.
* checking top-level files ... OK
* checking for left-over files ... OK
* checking index information ... OK
* checking package subdirectories ... OK
* checking code files for non-ASCII characters ... OK
* checking R files for syntax errors ... OK
* checking whether the package can be loaded ... OK
* checking whether the package can be loaded with stated dependencies ... OK
* checking whether the package can be unloaded cleanly ... OK
* checking whether the namespace can be loaded with stated dependencies ... OK
* checking whether the namespace can be unloaded cleanly ... OK
* checking loading without being on the library search path ... OK
* checking dependencies in R code ... OK
* checking S3 generic/method consistency ... OK
* checking replacement functions ... OK
* checking foreign function calls ... OK
* checking R code for possible problems ... OK
* checking Rd files ... OK
* checking Rd metadata ... OK
* checking Rd cross-references ... OK
* checking for missing documentation entries ... OK
* checking for code/documentation mismatches ... OK
* checking Rd \usage sections ... OK
* checking Rd contents ... OK
* checking for unstated dependencies in examples ... OK
* checking contents of ‘data’ directory ... OK
* checking data for non-ASCII characters ... OK
* checking LazyData ... OK
* checking data for ASCII and uncompressed saves ... OK
* checking files in ‘vignettes’ ... OK
* checking examples ... OK
Examples with CPU (user + system) or elapsed time > 5s
user system elapsed
plot_pathway_gsea 17.464 0.167 17.631
calculate_pathway_gsea 15.810 0.250 16.064
* checking for unstated dependencies in ‘tests’ ... OK
* checking tests ...
Running ‘testthat.R’
OK
* checking for unstated dependencies in vignettes ... OK
* checking package vignettes ... OK
* checking re-building of vignette outputs ... OK
* checking PDF version of manual ... OK
* DONE
Status: 1 NOTE
See
‘/home/biocbuild/bbs-3.21-bioc/meat/clustifyr.Rcheck/00check.log’
for details.
clustifyr.Rcheck/00install.out
############################################################################## ############################################################################## ### ### Running command: ### ### /home/biocbuild/bbs-3.21-bioc/R/bin/R CMD INSTALL clustifyr ### ############################################################################## ############################################################################## * installing to library ‘/home/biocbuild/bbs-3.21-bioc/R/site-library’ * installing *source* package ‘clustifyr’ ... ** this is package ‘clustifyr’ version ‘1.20.0’ ** using staged installation ** R ** data *** moving datasets to lazyload DB ** inst ** byte-compile and prepare package for lazy loading ** help *** installing help indices *** copying figures ** building package indices ** installing vignettes ** testing if installed package can be loaded from temporary location ** testing if installed package can be loaded from final location ** testing if installed package keeps a record of temporary installation path * DONE (clustifyr)
clustifyr.Rcheck/tests/testthat.Rout
R version 4.5.1 (2025-06-13) -- "Great Square Root"
Copyright (C) 2025 The R Foundation for Statistical Computing
Platform: x86_64-pc-linux-gnu
R is free software and comes with ABSOLUTELY NO WARRANTY.
You are welcome to redistribute it under certain conditions.
Type 'license()' or 'licence()' for distribution details.
R is a collaborative project with many contributors.
Type 'contributors()' for more information and
'citation()' on how to cite R or R packages in publications.
Type 'demo()' for some demos, 'help()' for on-line help, or
'help.start()' for an HTML browser interface to help.
Type 'q()' to quit R.
> library(testthat)
> library(clustifyr)
>
> test_check("clustifyr")
[ FAIL 0 | WARN 1 | SKIP 0 | PASS 183 ]
[ FAIL 0 | WARN 1 | SKIP 0 | PASS 183 ]
>
> proc.time()
user system elapsed
429.797 6.289 436.114
clustifyr.Rcheck/clustifyr-Ex.timings
| name | user | system | elapsed | |
| append_genes | 0.022 | 0.004 | 0.026 | |
| assess_rank_bias | 0.001 | 0.000 | 0.000 | |
| average_clusters | 0.060 | 0.003 | 0.064 | |
| binarize_expr | 0.105 | 0.014 | 0.119 | |
| build_atlas | 0.662 | 0.047 | 0.709 | |
| calc_distance | 0.002 | 0.002 | 0.005 | |
| calculate_pathway_gsea | 15.810 | 0.250 | 16.064 | |
| call_consensus | 0.187 | 0.008 | 0.195 | |
| call_to_metadata | 0.117 | 0.191 | 0.308 | |
| check_raw_counts | 0.734 | 0.050 | 0.784 | |
| clustify | 1.833 | 0.043 | 1.876 | |
| clustify_lists | 0.054 | 0.008 | 0.061 | |
| clustify_nudge | 0.936 | 0.057 | 0.993 | |
| clustifyr_methods | 0.000 | 0.001 | 0.001 | |
| collapse_to_cluster | 1.207 | 0.038 | 1.245 | |
| compare_lists | 0.110 | 0.002 | 0.111 | |
| cor_to_call | 0.069 | 0.000 | 0.069 | |
| cor_to_call_rank | 0.058 | 0.000 | 0.059 | |
| cor_to_call_topn | 0.060 | 0.000 | 0.061 | |
| downsample_matrix | 0.011 | 0.001 | 0.012 | |
| feature_select_PCA | 0.009 | 0.001 | 0.010 | |
| file_marker_parse | 0.002 | 0.000 | 0.002 | |
| find_rank_bias | 0.031 | 0.000 | 0.031 | |
| gene_pct_markerm | 0.290 | 0.001 | 0.291 | |
| get_ucsc_reference | 0.001 | 0.000 | 0.000 | |
| get_vargenes | 0.001 | 0.000 | 0.001 | |
| gmt_to_list | 0.037 | 0.001 | 0.038 | |
| insert_meta_object | 0.204 | 0.011 | 0.216 | |
| make_comb_ref | 0.012 | 0.000 | 0.013 | |
| marker_select | 0.023 | 0.001 | 0.024 | |
| matrixize_markers | 0.024 | 0.005 | 0.029 | |
| object_data | 0.277 | 0.008 | 0.285 | |
| object_ref | 0.933 | 0.171 | 1.105 | |
| overcluster | 0.841 | 0.022 | 0.864 | |
| overcluster_test | 2.481 | 0.106 | 2.588 | |
| parse_loc_object | 0.195 | 0.019 | 0.214 | |
| plot_best_call | 0.588 | 0.010 | 0.598 | |
| plot_cor | 0.799 | 0.009 | 0.808 | |
| plot_cor_heatmap | 0.869 | 0.035 | 0.904 | |
| plot_dims | 0.349 | 0.003 | 0.352 | |
| plot_gene | 0.678 | 0.004 | 0.683 | |
| plot_pathway_gsea | 17.464 | 0.167 | 17.631 | |
| plot_rank_bias | 0 | 0 | 0 | |
| pos_neg_marker | 0.007 | 0.000 | 0.007 | |
| pos_neg_select | 0.058 | 0.001 | 0.058 | |
| query_rank_bias | 0.032 | 0.003 | 0.035 | |
| ref_feature_select | 0.027 | 0.001 | 0.028 | |
| ref_marker_select | 0.147 | 0.002 | 0.150 | |
| reverse_marker_matrix | 0.003 | 0.003 | 0.006 | |
| run_clustifyr_app | 0 | 0 | 0 | |
| seurat_meta | 0.242 | 0.011 | 0.252 | |
| seurat_ref | 0.242 | 0.000 | 0.242 | |
| write_meta | 0.258 | 0.019 | 0.277 | |