Back to Multiple platform build/check report for BioC 3.21:   simplified   long
ABC[D]EFGHIJKLMNOPQRSTUVWXYZ

This page was generated on 2025-07-10 11:43 -0400 (Thu, 10 Jul 2025).

HostnameOSArch (*)R versionInstalled pkgs
nebbiolo1Linux (Ubuntu 24.04.2 LTS)x86_644.5.1 (2025-06-13) -- "Great Square Root" 4818
palomino7Windows Server 2022 Datacenterx644.5.1 (2025-06-13 ucrt) -- "Great Square Root" 4561
merida1macOS 12.7.5 Montereyx86_644.5.1 RC (2025-06-05 r88288) -- "Great Square Root" 4600
kjohnson1macOS 13.6.6 Venturaarm644.5.1 Patched (2025-06-14 r88325) -- "Great Square Root" 4541
Click on any hostname to see more info about the system (e.g. compilers)      (*) as reported by 'uname -p', except on Windows and Mac OS X

Package 581/2341HostnameOS / ArchINSTALLBUILDCHECKBUILD BIN
diffGeneAnalysis 1.90.0  (landing page)
Choudary Jagarlamudi
Snapshot Date: 2025-07-07 13:40 -0400 (Mon, 07 Jul 2025)
git_url: https://git.bioconductor.org/packages/diffGeneAnalysis
git_branch: RELEASE_3_21
git_last_commit: 3b65b8b
git_last_commit_date: 2025-04-15 09:36:55 -0400 (Tue, 15 Apr 2025)
nebbiolo1Linux (Ubuntu 24.04.2 LTS) / x86_64  OK    OK    OK  UNNEEDED, same version is already published
palomino7Windows Server 2022 Datacenter / x64  OK    OK    OK    OK  UNNEEDED, same version is already published
merida1macOS 12.7.5 Monterey / x86_64  OK    OK    OK    OK  UNNEEDED, same version is already published
kjohnson1macOS 13.6.6 Ventura / arm64  OK    OK    OK    OK  UNNEEDED, same version is already published


BUILD BIN results for diffGeneAnalysis on kjohnson1

To the developers/maintainers of the diffGeneAnalysis package:
- Allow up to 24 hours (and sometimes 48 hours) for your latest push to git@git.bioconductor.org:packages/diffGeneAnalysis.git to reflect on this report. See Troubleshooting Build Report for more information.
- Use the following Renviron settings to reproduce errors and warnings.
- If 'R CMD check' started to fail recently on the Linux builder(s) over a missing dependency, add the missing dependency to 'Suggests:' in your DESCRIPTION file. See Renviron.bioc for more information.

raw results


Summary

Package: diffGeneAnalysis
Version: 1.90.0
Command: rm -rf diffGeneAnalysis.buildbin-libdir && mkdir diffGeneAnalysis.buildbin-libdir && /Users/biocbuild/BBS/utils/build-universal.sh diffGeneAnalysis_1.90.0.tar.gz /Library/Frameworks/R.framework/Resources/bin/R diffGeneAnalysis.buildbin-libdir
StartedAt: 2025-07-09 15:27:39 -0400 (Wed, 09 Jul 2025)
EndedAt: 2025-07-09 15:27:42 -0400 (Wed, 09 Jul 2025)
EllapsedTime: 3.4 seconds
RetCode: 0
Status:   OK  
PackageFile: diffGeneAnalysis_1.90.0.tgz
PackageFileSize: 250.2 KiB

Command output

##############################################################################
##############################################################################
###
### Running command:
###
###   rm -rf diffGeneAnalysis.buildbin-libdir && mkdir diffGeneAnalysis.buildbin-libdir && /Users/biocbuild/BBS/utils/build-universal.sh diffGeneAnalysis_1.90.0.tar.gz /Library/Frameworks/R.framework/Resources/bin/R diffGeneAnalysis.buildbin-libdir
###
##############################################################################
##############################################################################


>>>>>>> 
>>>>>>> INSTALLATION WITH 'R CMD INSTALL --preclean --no-multiarch --library=diffGeneAnalysis.buildbin-libdir diffGeneAnalysis_1.90.0.tar.gz'
>>>>>>> 

* installing *source* package ‘diffGeneAnalysis’ ...
** this is package ‘diffGeneAnalysis’ version ‘1.90.0’
** using staged installation
** R
** data
** inst
** byte-compile and prepare package for lazy loading
** help
*** installing help indices
** building package indices
** installing vignettes
** testing if installed package can be loaded from temporary location
** testing if installed package can be loaded from final location
** testing if installed package keeps a record of temporary installation path
* DONE (diffGeneAnalysis)