Back to Multiple platform build/check report for BioC 3.21:   simplified   long
ABCDEF[G]HIJKLMNOPQRSTUVWXYZ

This page was generated on 2025-10-02 11:40 -0400 (Thu, 02 Oct 2025).

HostnameOSArch (*)R versionInstalled pkgs
nebbiolo1Linux (Ubuntu 24.04.3 LTS)x86_644.5.1 (2025-06-13) -- "Great Square Root" 4831
merida1macOS 12.7.5 Montereyx86_644.5.1 RC (2025-06-05 r88288) -- "Great Square Root" 4612
kjohnson1macOS 13.6.6 Venturaarm644.5.1 Patched (2025-06-14 r88325) -- "Great Square Root" 4553
kunpeng2Linux (openEuler 24.03 LTS)aarch64R Under development (unstable) (2025-02-19 r87757) -- "Unsuffered Consequences" 4584
Click on any hostname to see more info about the system (e.g. compilers)      (*) as reported by 'uname -p', except on Windows and Mac OS X

Package 875/2341HostnameOS / ArchINSTALLBUILDCHECKBUILD BIN
ggtree 3.16.3  (landing page)
Guangchuang Yu
Snapshot Date: 2025-09-29 13:40 -0400 (Mon, 29 Sep 2025)
git_url: https://git.bioconductor.org/packages/ggtree
git_branch: RELEASE_3_21
git_last_commit: 19798cf
git_last_commit_date: 2025-07-11 12:54:16 -0400 (Fri, 11 Jul 2025)
nebbiolo1Linux (Ubuntu 24.04.3 LTS) / x86_64  OK    OK    OK  UNNEEDED, same version is already published
merida1macOS 12.7.5 Monterey / x86_64  OK    OK    OK    OK  UNNEEDED, same version is already published
kjohnson1macOS 13.6.6 Ventura / arm64  OK    OK    OK    OK  UNNEEDED, same version is already published
kunpeng2Linux (openEuler 24.03 LTS) / aarch64  OK    OK    OK  


CHECK results for ggtree on kjohnson1

To the developers/maintainers of the ggtree package:
- Allow up to 24 hours (and sometimes 48 hours) for your latest push to git@git.bioconductor.org:packages/ggtree.git to reflect on this report. See Troubleshooting Build Report for more information.
- Use the following Renviron settings to reproduce errors and warnings.
- If 'R CMD check' started to fail recently on the Linux builder(s) over a missing dependency, add the missing dependency to 'Suggests:' in your DESCRIPTION file. See Renviron.bioc for more information.

raw results


Summary

Package: ggtree
Version: 3.16.3
Command: /Library/Frameworks/R.framework/Resources/bin/R CMD check --install=check:ggtree.install-out.txt --library=/Library/Frameworks/R.framework/Resources/library --no-vignettes --timings ggtree_3.16.3.tar.gz
StartedAt: 2025-09-30 23:09:44 -0400 (Tue, 30 Sep 2025)
EndedAt: 2025-09-30 23:11:28 -0400 (Tue, 30 Sep 2025)
EllapsedTime: 104.5 seconds
RetCode: 0
Status:   OK  
CheckDir: ggtree.Rcheck
Warnings: 0

Command output

##############################################################################
##############################################################################
###
### Running command:
###
###   /Library/Frameworks/R.framework/Resources/bin/R CMD check --install=check:ggtree.install-out.txt --library=/Library/Frameworks/R.framework/Resources/library --no-vignettes --timings ggtree_3.16.3.tar.gz
###
##############################################################################
##############################################################################


* using log directory ‘/Users/biocbuild/bbs-3.21-bioc/meat/ggtree.Rcheck’
* using R version 4.5.1 Patched (2025-06-14 r88325)
* using platform: aarch64-apple-darwin20
* R was compiled by
    Apple clang version 16.0.0 (clang-1600.0.26.6)
    GNU Fortran (GCC) 14.2.0
* running under: macOS Ventura 13.7.5
* using session charset: UTF-8
* using option ‘--no-vignettes’
* checking for file ‘ggtree/DESCRIPTION’ ... OK
* checking extension type ... Package
* this is package ‘ggtree’ version ‘3.16.3’
* package encoding: UTF-8
* checking package namespace information ... OK
* checking package dependencies ... OK
* checking if this is a source package ... OK
* checking if there is a namespace ... OK
* checking for hidden files and directories ... OK
* checking for portable file names ... OK
* checking for sufficient/correct file permissions ... OK
* checking whether package ‘ggtree’ can be installed ... OK
* checking installed package size ... OK
* checking package directory ... OK
* checking ‘build’ directory ... OK
* checking DESCRIPTION meta-information ... OK
* checking top-level files ... OK
* checking for left-over files ... OK
* checking index information ... OK
* checking package subdirectories ... OK
* checking code files for non-ASCII characters ... OK
* checking R files for syntax errors ... OK
* checking whether the package can be loaded ... OK
* checking whether the package can be loaded with stated dependencies ... OK
* checking whether the package can be unloaded cleanly ... OK
* checking whether the namespace can be loaded with stated dependencies ... OK
* checking whether the namespace can be unloaded cleanly ... OK
* checking whether startup messages can be suppressed ... OK
* checking dependencies in R code ... OK
* checking S3 generic/method consistency ... OK
* checking replacement functions ... OK
* checking foreign function calls ... OK
* checking R code for possible problems ... OK
* checking Rd files ... OK
* checking Rd metadata ... OK
* checking Rd cross-references ... NOTE
Non-topic package-anchored link(s) in Rd file 'reexports.Rd':
  ‘[ggfun:attacher]{%<+%}’ ‘[ggplot2:scale_manual]{scale_color_manual}’
  ‘[ggplot2:scale_manual]{scale_colour_manual}’
  ‘[ggplot2:scale_manual]{scale_fill_manual}’
  ‘[ggplot2:scale_continuous]{scale_x_continuous}’
  ‘[magrittr:pipe]{%>%}’

See section 'Cross-references' in the 'Writing R Extensions' manual.
* checking for missing documentation entries ... OK
* checking for code/documentation mismatches ... OK
* checking Rd \usage sections ... OK
* checking Rd contents ... OK
* checking for unstated dependencies in examples ... OK
* checking files in ‘vignettes’ ... OK
* checking examples ... OK
* checking for unstated dependencies in ‘tests’ ... OK
* checking tests ...
  Running ‘testthat.R’
 OK
* checking for unstated dependencies in vignettes ... OK
* checking package vignettes ... OK
* checking running R code from vignettes ... SKIPPED
* checking re-building of vignette outputs ... SKIPPED
* checking PDF version of manual ... OK
* DONE

Status: 1 NOTE
See
  ‘/Users/biocbuild/bbs-3.21-bioc/meat/ggtree.Rcheck/00check.log’
for details.


Installation output

ggtree.Rcheck/00install.out

##############################################################################
##############################################################################
###
### Running command:
###
###   /Library/Frameworks/R.framework/Resources/bin/R CMD INSTALL ggtree
###
##############################################################################
##############################################################################


* installing to library ‘/Library/Frameworks/R.framework/Versions/4.5-arm64/Resources/library’
* installing *source* package ‘ggtree’ ...
** this is package ‘ggtree’ version ‘3.16.3’
** using staged installation
** R
** inst
** byte-compile and prepare package for lazy loading
** help
*** installing help indices
** building package indices
** installing vignettes
** testing if installed package can be loaded from temporary location
** testing if installed package can be loaded from final location
** testing if installed package keeps a record of temporary installation path
* DONE (ggtree)

Tests output

ggtree.Rcheck/tests/testthat.Rout


R version 4.5.1 Patched (2025-06-14 r88325) -- "Great Square Root"
Copyright (C) 2025 The R Foundation for Statistical Computing
Platform: aarch64-apple-darwin20

R is free software and comes with ABSOLUTELY NO WARRANTY.
You are welcome to redistribute it under certain conditions.
Type 'license()' or 'licence()' for distribution details.

R is a collaborative project with many contributors.
Type 'contributors()' for more information and
'citation()' on how to cite R or R packages in publications.

Type 'demo()' for some demos, 'help()' for on-line help, or
'help.start()' for an HTML browser interface to help.
Type 'q()' to quit R.

> library(testthat)
> library(ggtree)
ggtree v3.16.3 Learn more at https://yulab-smu.top/contribution-tree-data/

Please cite:

Guangchuang Yu.  Data Integration, Manipulation and Visualization of
Phylogenetic Trees (1st edition). Chapman and Hall/CRC. 2022,
doi:10.1201/9781003279242, ISBN: 9781032233574
> 
> test_check("ggtree")
[ FAIL 0 | WARN 10 | SKIP 0 | PASS 14 ]

[ FAIL 0 | WARN 10 | SKIP 0 | PASS 14 ]
> 
> proc.time()
   user  system elapsed 
  3.955   0.275   4.270 

Example timings

ggtree.Rcheck/ggtree-Ex.timings

nameusersystemelapsed
collapse1.0050.0521.073
expand0.3130.0080.324
facet-plot0.3910.0050.403
flip0.3300.0040.335
geom-hilight2.4830.0242.537
geom_balance0.4440.0090.454
geom_cladelab0.7570.0190.783
geom_label20.3940.0040.398
geom_point21.7540.0181.780
geom_rootedge1.4370.0111.456
geom_rootpoint0.6550.0050.662
geom_strip0.3740.0030.378
geom_striplab0.6640.0050.672
geom_tiplab0.3010.0060.308
geom_tiplab20.3860.0040.392
geom_tippoint0.2940.0030.298
geom_tree0.1970.0030.206
get_taxa_name0.1460.0010.148
ggdensitree3.6230.0313.694
ggexpand0.4290.0030.448
ggtree-format-painter0.3640.0050.384
ggtree0.3410.0050.349
label_pad0.0010.0000.001
open_tree0.4110.0060.424
reexports0.4450.0050.460
revts0.3890.0040.403
rotate0.3280.0020.333
rotate_tree0.4460.0040.463
scaleClade0.3820.0040.392
theme_tree0.4230.0050.438
theme_tree20.4060.0040.415
tree-layout1.9150.0131.946
viewClade0.4520.0020.456
xlim_expand0.5080.0040.515
xlim_tree0.4970.0040.504
zoomClade0.0000.0010.000