| Back to Multiple platform build/check report for BioC 3.21: simplified long |
|
This page was generated on 2025-10-16 11:38 -0400 (Thu, 16 Oct 2025).
| Hostname | OS | Arch (*) | R version | Installed pkgs |
|---|---|---|---|---|
| nebbiolo1 | Linux (Ubuntu 24.04.3 LTS) | x86_64 | 4.5.1 (2025-06-13) -- "Great Square Root" | 4833 |
| merida1 | macOS 12.7.6 Monterey | x86_64 | 4.5.1 RC (2025-06-05 r88288) -- "Great Square Root" | 4614 |
| kjohnson1 | macOS 13.7.5 Ventura | arm64 | 4.5.1 Patched (2025-06-14 r88325) -- "Great Square Root" | 4555 |
| kunpeng2 | Linux (openEuler 24.03 LTS) | aarch64 | R Under development (unstable) (2025-02-19 r87757) -- "Unsuffered Consequences" | 4586 |
| Click on any hostname to see more info about the system (e.g. compilers) (*) as reported by 'uname -p', except on Windows and Mac OS X | ||||
| Package 1244/2341 | Hostname | OS / Arch | INSTALL | BUILD | CHECK | BUILD BIN | ||||||||
| methInheritSim 1.30.0 (landing page) Pascal Belleau
| nebbiolo1 | Linux (Ubuntu 24.04.3 LTS) / x86_64 | OK | OK | OK | |||||||||
| merida1 | macOS 12.7.6 Monterey / x86_64 | OK | OK | OK | OK | |||||||||
| kjohnson1 | macOS 13.7.5 Ventura / arm64 | OK | OK | OK | OK | |||||||||
| kunpeng2 | Linux (openEuler 24.03 LTS) / aarch64 | OK | OK | OK | ||||||||||
|
To the developers/maintainers of the methInheritSim package: - Allow up to 24 hours (and sometimes 48 hours) for your latest push to git@git.bioconductor.org:packages/methInheritSim.git to reflect on this report. See Troubleshooting Build Report for more information. - Use the following Renviron settings to reproduce errors and warnings. - If 'R CMD check' started to fail recently on the Linux builder(s) over a missing dependency, add the missing dependency to 'Suggests:' in your DESCRIPTION file. See Renviron.bioc for more information. |
| Package: methInheritSim |
| Version: 1.30.0 |
| Command: /home/biocbuild/bbs-3.21-bioc/R/bin/R CMD build --keep-empty-dirs --no-resave-data methInheritSim |
| StartedAt: 2025-10-15 18:24:51 -0400 (Wed, 15 Oct 2025) |
| EndedAt: 2025-10-15 18:25:57 -0400 (Wed, 15 Oct 2025) |
| EllapsedTime: 66.1 seconds |
| RetCode: 0 |
| Status: OK |
| PackageFile: methInheritSim_1.30.0.tar.gz |
| PackageFileSize: 1.117 MiB |
##############################################################################
##############################################################################
###
### Running command:
###
### /home/biocbuild/bbs-3.21-bioc/R/bin/R CMD build --keep-empty-dirs --no-resave-data methInheritSim
###
##############################################################################
##############################################################################
* checking for file ‘methInheritSim/DESCRIPTION’ ... OK
* preparing ‘methInheritSim’:
* checking DESCRIPTION meta-information ... OK
* installing the package to build vignettes
* creating vignettes ... OK
* checking for LF line-endings in source and make files and shell scripts
* checking for empty or unneeded directories
* looking to see if a ‘data/datalist’ file should be added
NB: this package now depends on R (>= 3.5.0)
WARNING: Added dependency on R >= 3.5.0 because serialized objects in
serialize/load version 3 cannot be read in older versions of R.
File(s) containing such objects:
‘methInheritSim/data/dataSimExample.RData’
‘methInheritSim/vignettes/demo_runSim/methylGR_S1_1_3_0.9_0.8_0.5_1.rds’
‘methInheritSim/vignettes/demo_runSim/methylGR_S1_1_3_0.9_0.8_0.5_2.rds’
‘methInheritSim/vignettes/demo_runSim/methylGR_S1_1_6_0.9_0.8_0.5_1.rds’
‘methInheritSim/vignettes/demo_runSim/methylGR_S1_1_6_0.9_0.8_0.5_2.rds’
‘methInheritSim/vignettes/demo_runSim/simData_S1_1_3_0.9_0.8_0.5_1.rds’
‘methInheritSim/vignettes/demo_runSim/simData_S1_1_3_0.9_0.8_0.5_2.rds’
‘methInheritSim/vignettes/demo_runSim/simData_S1_1_6_0.9_0.8_0.5_1.rds’
‘methInheritSim/vignettes/demo_runSim/simData_S1_1_6_0.9_0.8_0.5_2.rds’
‘methInheritSim/vignettes/demo_runSim/syntheticChr_S1_1.rds’
* building ‘methInheritSim_1.30.0.tar.gz’