Back to Multiple platform build/check report for BioC 3.21:   simplified   long
ABCDEFGHIJKLMNOPQR[S]TUVWXYZ

This page was generated on 2025-10-13 11:41 -0400 (Mon, 13 Oct 2025).

HostnameOSArch (*)R versionInstalled pkgs
nebbiolo1Linux (Ubuntu 24.04.3 LTS)x86_644.5.1 (2025-06-13) -- "Great Square Root" 4833
merida1macOS 12.7.5 Montereyx86_644.5.1 RC (2025-06-05 r88288) -- "Great Square Root" 4614
kjohnson1macOS 13.6.6 Venturaarm644.5.1 Patched (2025-06-14 r88325) -- "Great Square Root" 4555
kunpeng2Linux (openEuler 24.03 LTS)aarch64R Under development (unstable) (2025-02-19 r87757) -- "Unsuffered Consequences" 4586
Click on any hostname to see more info about the system (e.g. compilers)      (*) as reported by 'uname -p', except on Windows and Mac OS X

Package 2122/2341HostnameOS / ArchINSTALLBUILDCHECKBUILD BIN
structToolbox 1.20.0  (landing page)
Gavin Rhys Lloyd
Snapshot Date: 2025-10-09 13:40 -0400 (Thu, 09 Oct 2025)
git_url: https://git.bioconductor.org/packages/structToolbox
git_branch: RELEASE_3_21
git_last_commit: 1668438
git_last_commit_date: 2025-04-15 11:54:06 -0400 (Tue, 15 Apr 2025)
nebbiolo1Linux (Ubuntu 24.04.3 LTS) / x86_64  OK    OK    OK  UNNEEDED, same version is already published
merida1macOS 12.7.5 Monterey / x86_64  OK    OK    OK    OK  UNNEEDED, same version is already published
kjohnson1macOS 13.6.6 Ventura / arm64  OK    OK    OK    OK  UNNEEDED, same version is already published
kunpeng2Linux (openEuler 24.03 LTS) / aarch64  OK    OK    OK  


CHECK results for structToolbox on kjohnson1

To the developers/maintainers of the structToolbox package:
- Allow up to 24 hours (and sometimes 48 hours) for your latest push to git@git.bioconductor.org:packages/structToolbox.git to reflect on this report. See Troubleshooting Build Report for more information.
- Use the following Renviron settings to reproduce errors and warnings.
- If 'R CMD check' started to fail recently on the Linux builder(s) over a missing dependency, add the missing dependency to 'Suggests:' in your DESCRIPTION file. See Renviron.bioc for more information.

raw results


Summary

Package: structToolbox
Version: 1.20.0
Command: /Library/Frameworks/R.framework/Resources/bin/R CMD check --install=check:structToolbox.install-out.txt --library=/Library/Frameworks/R.framework/Resources/library --no-vignettes --timings structToolbox_1.20.0.tar.gz
StartedAt: 2025-10-11 16:06:08 -0400 (Sat, 11 Oct 2025)
EndedAt: 2025-10-11 16:15:47 -0400 (Sat, 11 Oct 2025)
EllapsedTime: 578.2 seconds
RetCode: 0
Status:   OK  
CheckDir: structToolbox.Rcheck
Warnings: 0

Command output

##############################################################################
##############################################################################
###
### Running command:
###
###   /Library/Frameworks/R.framework/Resources/bin/R CMD check --install=check:structToolbox.install-out.txt --library=/Library/Frameworks/R.framework/Resources/library --no-vignettes --timings structToolbox_1.20.0.tar.gz
###
##############################################################################
##############################################################################


* using log directory ‘/Users/biocbuild/bbs-3.21-bioc/meat/structToolbox.Rcheck’
* using R version 4.5.1 Patched (2025-06-14 r88325)
* using platform: aarch64-apple-darwin20
* R was compiled by
    Apple clang version 16.0.0 (clang-1600.0.26.6)
    GNU Fortran (GCC) 14.2.0
* running under: macOS Ventura 13.7.5
* using session charset: UTF-8
* using option ‘--no-vignettes’
* checking for file ‘structToolbox/DESCRIPTION’ ... OK
* checking extension type ... Package
* this is package ‘structToolbox’ version ‘1.20.0’
* package encoding: UTF-8
* checking package namespace information ... OK
* checking package dependencies ... OK
* checking if this is a source package ... OK
* checking if there is a namespace ... OK
* checking for hidden files and directories ... OK
* checking for portable file names ... OK
* checking for sufficient/correct file permissions ... OK
* checking whether package ‘structToolbox’ can be installed ... OK
* checking installed package size ... OK
* checking package directory ... OK
* checking ‘build’ directory ... OK
* checking DESCRIPTION meta-information ... OK
* checking top-level files ... OK
* checking for left-over files ... OK
* checking index information ... OK
* checking package subdirectories ... OK
* checking code files for non-ASCII characters ... OK
* checking R files for syntax errors ... OK
* checking whether the package can be loaded ... OK
* checking whether the package can be loaded with stated dependencies ... OK
* checking whether the package can be unloaded cleanly ... OK
* checking whether the namespace can be loaded with stated dependencies ... OK
* checking whether the namespace can be unloaded cleanly ... OK
* checking dependencies in R code ... OK
* checking S3 generic/method consistency ... OK
* checking replacement functions ... OK
* checking foreign function calls ... OK
* checking R code for possible problems ... OK
* checking Rd files ... OK
* checking Rd metadata ... OK
* checking Rd cross-references ... OK
* checking for missing documentation entries ... OK
* checking for code/documentation mismatches ... OK
* checking Rd \usage sections ... OK
* checking Rd contents ... OK
* checking for unstated dependencies in examples ... OK
* checking R/sysdata.rda ... OK
* checking files in ‘vignettes’ ... OK
* checking examples ... OK
Examples with CPU (user + system) or elapsed time > 5s
                            user system elapsed
fold_change_int           16.989  0.068  17.200
fold_change               10.701  0.067  11.082
fisher_exact              10.539  0.052  10.951
forward_selection_by_rank  7.411  0.116   7.647
fs_line                    5.948  0.152   6.307
compare_dist               4.958  0.291   5.338
* checking for unstated dependencies in ‘tests’ ... OK
* checking tests ...
  Running ‘testthat.R’
 OK
* checking for unstated dependencies in vignettes ... OK
* checking package vignettes ... OK
* checking running R code from vignettes ... SKIPPED
* checking re-building of vignette outputs ... SKIPPED
* checking PDF version of manual ... OK
* DONE

Status: OK


Installation output

structToolbox.Rcheck/00install.out

##############################################################################
##############################################################################
###
### Running command:
###
###   /Library/Frameworks/R.framework/Resources/bin/R CMD INSTALL structToolbox
###
##############################################################################
##############################################################################


* installing to library ‘/Library/Frameworks/R.framework/Versions/4.5-arm64/Resources/library’
* installing *source* package ‘structToolbox’ ...
** this is package ‘structToolbox’ version ‘1.20.0’
** using staged installation
** R
** inst
** byte-compile and prepare package for lazy loading
** help
*** installing help indices
** building package indices
** installing vignettes
** testing if installed package can be loaded from temporary location
** testing if installed package can be loaded from final location
** testing if installed package keeps a record of temporary installation path
* DONE (structToolbox)

Tests output

structToolbox.Rcheck/tests/testthat.Rout


R version 4.5.1 Patched (2025-06-14 r88325) -- "Great Square Root"
Copyright (C) 2025 The R Foundation for Statistical Computing
Platform: aarch64-apple-darwin20

R is free software and comes with ABSOLUTELY NO WARRANTY.
You are welcome to redistribute it under certain conditions.
Type 'license()' or 'licence()' for distribution details.

R is a collaborative project with many contributors.
Type 'contributors()' for more information and
'citation()' on how to cite R or R packages in publications.

Type 'demo()' for some demos, 'help()' for on-line help, or
'help.start()' for an HTML browser interface to help.
Type 'q()' to quit R.

> library(testthat)
> library(ggplot2)
> library(structToolbox)
Loading required package: struct
> 
> test_check("structToolbox")
[ FAIL 0 | WARN 6 | SKIP 0 | PASS 166 ]

[ FAIL 0 | WARN 6 | SKIP 0 | PASS 166 ]
> 
> proc.time()
   user  system elapsed 
205.238   2.620 211.396 

Example timings

structToolbox.Rcheck/structToolbox-Ex.timings

nameusersystemelapsed
ANOVA0.2360.0140.257
AUC2.1780.1052.316
DFA0.2070.0020.211
DatasetExperiment_boxplot2.1860.0382.263
DatasetExperiment_dist1.6830.0751.764
DatasetExperiment_factor_boxplot0.3580.0070.365
DatasetExperiment_heatmap0.6300.0230.655
HCA0.0660.0010.066
HSD0.3100.0170.374
HSDEM0.3750.0220.403
MTBLS79_DatasetExperiment0.0010.0000.002
OPLSDA0.0100.0000.011
OPLSR0.0090.0010.009
PCA0.0040.0000.005
PLSDA0.0110.0000.011
PLSR0.0090.0000.009
SVM0.0210.0010.023
as_data_frame0.1390.0020.142
autoscale0.0790.0010.083
balanced_accuracy1.9370.0251.975
blank_filter0.4000.0200.426
blank_filter_hist0.0010.0000.001
bootstrap0.0120.0010.014
calculate0.0050.0010.006
chart_plot0.0300.0020.032
classical_lsq0.3360.0060.350
compare_dist4.9580.2915.338
confounders_clsq3.0900.0313.186
confounders_lsq_barchart3.3080.0273.345
confounders_lsq_boxplot3.2970.0273.387
constant_sum_norm0.0080.0000.009
corr_coef0.2690.0030.305
dfa_scores_plot1.1340.0221.290
dratio_filter0.2850.0080.346
equal_split0.1410.0030.176
feature_boxplot0.0280.0010.036
feature_profile0.5510.0100.583
feature_profile_array0.6790.0060.687
filter_by_name0.0300.0000.031
filter_na_count1.0750.0371.114
filter_smeta0.0610.0000.061
fisher_exact10.539 0.05210.951
fold_change10.701 0.06711.082
fold_change_int16.989 0.06817.200
fold_change_plot0.0070.0010.007
forward_selection_by_rank7.4110.1167.647
fs_line5.9480.1526.307
glog_opt_plot0.5940.0070.604
glog_transform0.3050.0020.309
grid_search_1d4.7910.1624.992
gs_line0.0010.0000.001
hca_dendrogram0.0010.0000.000
kfold_xval3.5590.0393.624
kfoldxcv_grid4.1120.0394.176
kfoldxcv_metric0.0000.0000.001
knn_impute0.0110.0010.012
kw_p_hist0.0010.0000.001
kw_rank_sum0.0830.0010.085
linear_model0.0300.0010.031
log_transform0.0070.0000.007
mean_centre0.0030.0000.003
mean_of_medians0.1340.0050.139
mixed_effect0.1720.0020.175
model_apply0.0230.0010.025
model_predict0.0540.0010.054
model_reverse0.0250.0000.026
model_train0.0510.0010.051
mv_boxplot0.4510.0050.459
mv_feature_filter0.1200.0020.121
mv_feature_filter_hist0.0000.0000.001
mv_histogram0.3750.0060.383
mv_sample_filter0.0090.0000.009
mv_sample_filter_hist0.0010.0000.001
nroot_transform0.0070.0000.006
ontology_cache0.0010.0000.001
pairs_filter0.0100.0000.011
pareto_scale0.0860.0050.092
pca_biplot0.0160.0010.016
pca_correlation_plot0.0060.0000.007
pca_dstat_plot0.0080.0000.008
pca_loadings_plot0.0100.0000.011
pca_scores_plot0.7370.0060.744
pca_scree_plot0.0070.0000.007
permutation_test0.0110.0000.012
permutation_test_plot0.0030.0000.003
permute_sample_order0.0070.0010.006
pls_regcoeff_plot0.4870.0050.493
pls_scores_plot0.8890.0080.904
pls_vip_plot0.5110.0060.520
plsda_feature_importance_plot0.9170.0090.929
plsda_predicted_plot0.6440.0080.662
plsda_roc_plot1.3910.0111.439
plsr_cook_dist0.0090.0000.009
plsr_prediction_plot0.0060.0000.006
plsr_qq_plot0.0050.0000.006
plsr_residual_hist0.0080.0000.008
pqn_norm0.3870.0030.398
pqn_norm_hist0.0010.0000.001
prop_na0.0110.0000.011
r_squared0.0010.0000.001
resample0.0140.0010.014
resample_chart0.0030.0000.003
rsd_filter0.0120.0000.013
rsd_filter_hist0.0010.0000.001
run0.0350.0010.039
sb_corr0.0280.0010.029
scatter_chart0.5910.0060.618
split_data0.0070.0000.008
stratified_split0.1190.0010.125
svm_plot_2d0.9170.0270.986
tSNE0.0250.0010.027
tSNE_scatter0.0070.0010.007
tic_chart0.3910.0060.406
ttest0.0230.0010.024
vec_norm0.0020.0010.002
wilcox_p_hist0.0010.0000.001
wilcox_test0.0180.0010.019