| Back to Multiple platform build/check report for BioC 3.21: simplified long | 
 | 
This page was generated on 2025-10-13 11:42 -0400 (Mon, 13 Oct 2025).
| Hostname | OS | Arch (*) | R version | Installed pkgs | 
|---|---|---|---|---|
| nebbiolo1 | Linux (Ubuntu 24.04.3 LTS) | x86_64 | 4.5.1 (2025-06-13) -- "Great Square Root" | 4833 | 
| merida1 | macOS 12.7.5 Monterey | x86_64 | 4.5.1 RC (2025-06-05 r88288) -- "Great Square Root" | 4614 | 
| kjohnson1 | macOS 13.6.6 Ventura | arm64 | 4.5.1 Patched (2025-06-14 r88325) -- "Great Square Root" | 4555 | 
| kunpeng2 | Linux (openEuler 24.03 LTS) | aarch64 | R Under development (unstable) (2025-02-19 r87757) -- "Unsuffered Consequences" | 4586 | 
| Click on any hostname to see more info about the system (e.g. compilers) (*) as reported by 'uname -p', except on Windows and Mac OS X | ||||
| Package 2191/2341 | Hostname | OS / Arch | INSTALL | BUILD | CHECK | BUILD BIN | ||||||||
| tidySpatialExperiment 1.4.1  (landing page) William Hutchison 
 | nebbiolo1 | Linux (Ubuntu 24.04.3 LTS) / x86_64 | OK | OK | OK |  | ||||||||
| merida1 | macOS 12.7.5 Monterey / x86_64 | OK | OK | OK | OK |  | ||||||||
| kjohnson1 | macOS 13.6.6 Ventura / arm64 | OK | OK | OK | OK |  | ||||||||
| kunpeng2 | Linux (openEuler 24.03 LTS) / aarch64 | OK | OK | OK | ||||||||||
| To the developers/maintainers of the tidySpatialExperiment package: - Allow up to 24 hours (and sometimes 48 hours) for your latest push to git@git.bioconductor.org:packages/tidySpatialExperiment.git to reflect on this report. See Troubleshooting Build Report for more information. - Use the following Renviron settings to reproduce errors and warnings. - If 'R CMD check' started to fail recently on the Linux builder(s) over a missing dependency, add the missing dependency to 'Suggests:' in your DESCRIPTION file. See Renviron.bioc for more information. - See Martin Grigorov's blog post for how to debug Linux ARM64 related issues on a x86_64 host. | 
| Package: tidySpatialExperiment | 
| Version: 1.4.1 | 
| Command: /home/biocbuild/R/R/bin/R CMD check --install=check:tidySpatialExperiment.install-out.txt --library=/home/biocbuild/R/R/site-library --no-vignettes --timings tidySpatialExperiment_1.4.1.tar.gz | 
| StartedAt: 2025-10-10 14:51:19 -0000 (Fri, 10 Oct 2025) | 
| EndedAt: 2025-10-10 14:57:12 -0000 (Fri, 10 Oct 2025) | 
| EllapsedTime: 353.4 seconds | 
| RetCode: 0 | 
| Status: OK | 
| CheckDir: tidySpatialExperiment.Rcheck | 
| Warnings: 0 | 
##############################################################################
##############################################################################
###
### Running command:
###
###   /home/biocbuild/R/R/bin/R CMD check --install=check:tidySpatialExperiment.install-out.txt --library=/home/biocbuild/R/R/site-library --no-vignettes --timings tidySpatialExperiment_1.4.1.tar.gz
###
##############################################################################
##############################################################################
* using log directory ‘/home/biocbuild/bbs-3.21-bioc/meat/tidySpatialExperiment.Rcheck’
* using R Under development (unstable) (2025-02-19 r87757)
* using platform: aarch64-unknown-linux-gnu
* R was compiled by
    aarch64-unknown-linux-gnu-gcc (GCC) 14.2.0
    GNU Fortran (GCC) 14.2.0
* running under: openEuler 24.03 (LTS-SP1)
* using session charset: UTF-8
* using option ‘--no-vignettes’
* checking for file ‘tidySpatialExperiment/DESCRIPTION’ ... OK
* checking extension type ... Package
* this is package ‘tidySpatialExperiment’ version ‘1.4.1’
* package encoding: UTF-8
* checking package namespace information ... OK
* checking package dependencies ... INFO
Imports includes 24 non-default packages.
Importing from so many packages makes the package vulnerable to any of
them becoming unavailable.  Move as many as possible to Suggests and
use conditionally.
* checking if this is a source package ... OK
* checking if there is a namespace ... OK
* checking for hidden files and directories ... OK
* checking for portable file names ... OK
* checking for sufficient/correct file permissions ... OK
* checking whether package ‘tidySpatialExperiment’ can be installed ... OK
* checking installed package size ... OK
* checking package directory ... OK
* checking ‘build’ directory ... OK
* checking DESCRIPTION meta-information ... OK
* checking top-level files ... OK
* checking for left-over files ... OK
* checking index information ... OK
* checking package subdirectories ... OK
* checking code files for non-ASCII characters ... OK
* checking R files for syntax errors ... OK
* checking whether the package can be loaded ... OK
* checking whether the package can be loaded with stated dependencies ... OK
* checking whether the package can be unloaded cleanly ... OK
* checking whether the namespace can be loaded with stated dependencies ... OK
* checking whether the namespace can be unloaded cleanly ... OK
* checking loading without being on the library search path ... OK
* checking dependencies in R code ... OK
* checking S3 generic/method consistency ... OK
* checking replacement functions ... OK
* checking foreign function calls ... OK
* checking R code for possible problems ... OK
* checking Rd files ... OK
* checking Rd metadata ... OK
* checking Rd cross-references ... NOTE
Found the following Rd file(s) with Rd \link{} targets missing package
anchors:
  formatting.Rd: tbl_format_setup
Please provide package anchors for all Rd \link{} targets not in the
package itself and the base packages.
* checking for missing documentation entries ... OK
* checking for code/documentation mismatches ... OK
* checking Rd \usage sections ... OK
* checking Rd contents ... OK
* checking for unstated dependencies in examples ... OK
* checking contents of ‘data’ directory ... OK
* checking data for non-ASCII characters ... OK
* checking LazyData ... OK
* checking data for ASCII and uncompressed saves ... OK
* checking files in ‘vignettes’ ... OK
* checking examples ... OK
Examples with CPU (user + system) or elapsed time > 5s
                 user system elapsed
aggregate_cells 5.635  0.691   6.347
* checking for unstated dependencies in ‘tests’ ... OK
* checking tests ...
  Running ‘testthat.R’
 OK
* checking for unstated dependencies in vignettes ... OK
* checking package vignettes ... OK
* checking running R code from vignettes ... SKIPPED
* checking re-building of vignette outputs ... SKIPPED
* checking PDF version of manual ... OK
* DONE
Status: 1 NOTE
See
  ‘/home/biocbuild/bbs-3.21-bioc/meat/tidySpatialExperiment.Rcheck/00check.log’
for details.
tidySpatialExperiment.Rcheck/00install.out
############################################################################## ############################################################################## ### ### Running command: ### ### /home/biocbuild/R/R/bin/R CMD INSTALL tidySpatialExperiment ### ############################################################################## ############################################################################## * installing to library ‘/home/biocbuild/R/R-devel_2025-02-19/site-library’ * installing *source* package ‘tidySpatialExperiment’ ... ** this is package ‘tidySpatialExperiment’ version ‘1.4.1’ ** using staged installation ** R ** data *** moving datasets to lazyload DB ** inst ** byte-compile and prepare package for lazy loading ** help *** installing help indices *** copying figures ** building package indices ** installing vignettes ** testing if installed package can be loaded from temporary location ** testing if installed package can be loaded from final location ** testing if installed package keeps a record of temporary installation path * DONE (tidySpatialExperiment)
tidySpatialExperiment.Rcheck/tests/testthat.Rout
R Under development (unstable) (2025-02-19 r87757) -- "Unsuffered Consequences"
Copyright (C) 2025 The R Foundation for Statistical Computing
Platform: aarch64-unknown-linux-gnu
R is free software and comes with ABSOLUTELY NO WARRANTY.
You are welcome to redistribute it under certain conditions.
Type 'license()' or 'licence()' for distribution details.
R is a collaborative project with many contributors.
Type 'contributors()' for more information and
'citation()' on how to cite R or R packages in publications.
Type 'demo()' for some demos, 'help()' for on-line help, or
'help.start()' for an HTML browser interface to help.
Type 'q()' to quit R.
> library(testthat)
> library(tidySpatialExperiment)
Loading required package: SpatialExperiment
Loading required package: SingleCellExperiment
Loading required package: SummarizedExperiment
Loading required package: MatrixGenerics
Loading required package: matrixStats
Attaching package: 'MatrixGenerics'
The following objects are masked from 'package:matrixStats':
    colAlls, colAnyNAs, colAnys, colAvgsPerRowSet, colCollapse,
    colCounts, colCummaxs, colCummins, colCumprods, colCumsums,
    colDiffs, colIQRDiffs, colIQRs, colLogSumExps, colMadDiffs,
    colMads, colMaxs, colMeans2, colMedians, colMins, colOrderStats,
    colProds, colQuantiles, colRanges, colRanks, colSdDiffs, colSds,
    colSums2, colTabulates, colVarDiffs, colVars, colWeightedMads,
    colWeightedMeans, colWeightedMedians, colWeightedSds,
    colWeightedVars, rowAlls, rowAnyNAs, rowAnys, rowAvgsPerColSet,
    rowCollapse, rowCounts, rowCummaxs, rowCummins, rowCumprods,
    rowCumsums, rowDiffs, rowIQRDiffs, rowIQRs, rowLogSumExps,
    rowMadDiffs, rowMads, rowMaxs, rowMeans2, rowMedians, rowMins,
    rowOrderStats, rowProds, rowQuantiles, rowRanges, rowRanks,
    rowSdDiffs, rowSds, rowSums2, rowTabulates, rowVarDiffs, rowVars,
    rowWeightedMads, rowWeightedMeans, rowWeightedMedians,
    rowWeightedSds, rowWeightedVars
Loading required package: GenomicRanges
Loading required package: stats4
Loading required package: BiocGenerics
Loading required package: generics
Attaching package: 'generics'
The following objects are masked from 'package:base':
    as.difftime, as.factor, as.ordered, intersect, is.element, setdiff,
    setequal, union
Attaching package: 'BiocGenerics'
The following objects are masked from 'package:stats':
    IQR, mad, sd, var, xtabs
The following objects are masked from 'package:base':
    Filter, Find, Map, Position, Reduce, anyDuplicated, aperm, append,
    as.data.frame, basename, cbind, colnames, dirname, do.call,
    duplicated, eval, evalq, get, grep, grepl, is.unsorted, lapply,
    mapply, match, mget, order, paste, pmax, pmax.int, pmin, pmin.int,
    rank, rbind, rownames, sapply, saveRDS, table, tapply, unique,
    unsplit, which.max, which.min
Loading required package: S4Vectors
Attaching package: 'S4Vectors'
The following object is masked from 'package:utils':
    findMatches
The following objects are masked from 'package:base':
    I, expand.grid, unname
Loading required package: IRanges
Loading required package: GenomeInfoDb
Loading required package: Biobase
Welcome to Bioconductor
    Vignettes contain introductory material; view with
    'browseVignettes()'. To cite Bioconductor, see
    'citation("Biobase")', and for packages 'citation("pkgname")'.
Attaching package: 'Biobase'
The following object is masked from 'package:MatrixGenerics':
    rowMedians
The following objects are masked from 'package:matrixStats':
    anyMissing, rowMedians
Loading required package: tidySingleCellExperiment
Attaching package: 'tidySingleCellExperiment'
The following object is masked from 'package:generics':
    tidy
Attaching package: 'tidySpatialExperiment'
The following object is masked from 'package:tidySingleCellExperiment':
    unnest_single_cell_experiment
> 
> test_check("tidySpatialExperiment")
rd10xV> dir <- system.file(
rd10xV+   file.path("extdata", "10xVisium"), 
rd10xV+   package = "SpatialExperiment")
rd10xV> sample_ids <- c("section1", "section2")
rd10xV> samples <- file.path(dir, sample_ids, "outs")
rd10xV> list.files(samples[1])
[1] "raw_feature_bc_matrix" "spatial"              
rd10xV> list.files(file.path(samples[1], "spatial"))
[1] "scalefactors_json.json"    "tissue_lowres_image.png"  
[3] "tissue_positions_list.csv"
rd10xV> file.path(samples[1], "raw_feature_bc_matrix")
[1] "/home/biocbuild/R/R-devel_2025-02-19/site-library/SpatialExperiment/extdata/10xVisium/section1/outs/raw_feature_bc_matrix"
rd10xV> (spe <- read10xVisium(samples, sample_ids, 
rd10xV+   type = "sparse", data = "raw", 
rd10xV+   images = "lowres", load = FALSE))
# A SpatialExperiment-tibble abstraction: 99 × 7
# Features = 50 | Cells = 99 | Assays = counts
   .cell              in_tissue array_row array_col sample_id pxl_col_in_fullres
   <chr>              <lgl>         <int>     <int> <chr>                  <int>
 1 AAACAACGAATAGTTC-1 FALSE             0        16 section1                2312
 2 AAACAAGTATCTCCCA-1 TRUE             50       102 section1                8230
 3 AAACAATCTACTAGCA-1 TRUE              3        43 section1                4170
 4 AAACACCAATAACTGC-1 TRUE             59        19 section1                2519
 5 AAACAGAGCGACTCCT-1 TRUE             14        94 section1                7679
 6 AAACAGCTTTCAGAAG-1 FALSE            43         9 section1                1831
 7 AAACAGGGTCTATATT-1 FALSE            47        13 section1                2106
 8 AAACAGTGTTCCTGGG-1 FALSE            73        43 section1                4170
 9 AAACATGGTGAGAGGA-1 FALSE            62         0 section1                1212
10 AAACATTTCCCGGATT-1 FALSE            61        97 section1                7886
# ℹ 89 more rows
# ℹ 1 more variable: pxl_row_in_fullres <int>
rd10xV> # base directory 'outs/' from Space Ranger can also be omitted
rd10xV> samples2 <- file.path(dir, sample_ids)
rd10xV> (spe2 <- read10xVisium(samples2, sample_ids, 
rd10xV+   type = "sparse", data = "raw", 
rd10xV+   images = "lowres", load = FALSE))
# A SpatialExperiment-tibble abstraction: 99 × 7
# Features = 50 | Cells = 99 | Assays = counts
   .cell              in_tissue array_row array_col sample_id pxl_col_in_fullres
   <chr>              <lgl>         <int>     <int> <chr>                  <int>
 1 AAACAACGAATAGTTC-1 FALSE             0        16 section1                2312
 2 AAACAAGTATCTCCCA-1 TRUE             50       102 section1                8230
 3 AAACAATCTACTAGCA-1 TRUE              3        43 section1                4170
 4 AAACACCAATAACTGC-1 TRUE             59        19 section1                2519
 5 AAACAGAGCGACTCCT-1 TRUE             14        94 section1                7679
 6 AAACAGCTTTCAGAAG-1 FALSE            43         9 section1                1831
 7 AAACAGGGTCTATATT-1 FALSE            47        13 section1                2106
 8 AAACAGTGTTCCTGGG-1 FALSE            73        43 section1                4170
 9 AAACATGGTGAGAGGA-1 FALSE            62         0 section1                1212
10 AAACATTTCCCGGATT-1 FALSE            61        97 section1                7886
# ℹ 89 more rows
# ℹ 1 more variable: pxl_row_in_fullres <int>
rd10xV> # tabulate number of spots mapped to tissue
rd10xV> cd <- colData(spe)
rd10xV> table(
rd10xV+   in_tissue = cd$in_tissue, 
rd10xV+   sample_id = cd$sample_id)
         sample_id
in_tissue section1 section2
    FALSE       28       27
    TRUE        22       22
rd10xV> # view available images
rd10xV> imgData(spe)
DataFrame with 2 rows and 4 columns
    sample_id    image_id   data scaleFactor
  <character> <character> <list>   <numeric>
1    section1      lowres   ####   0.0510334
2    section2      lowres   ####   0.0510334
rd10xV> dir <- system.file(
rd10xV+   file.path("extdata", "10xVisium"), 
rd10xV+   package = "SpatialExperiment")
rd10xV> sample_ids <- c("section1", "section2")
rd10xV> samples <- file.path(dir, sample_ids, "outs")
rd10xV> list.files(samples[1])
[1] "raw_feature_bc_matrix" "spatial"              
rd10xV> list.files(file.path(samples[1], "spatial"))
[1] "scalefactors_json.json"    "tissue_lowres_image.png"  
[3] "tissue_positions_list.csv"
rd10xV> file.path(samples[1], "raw_feature_bc_matrix")
[1] "/home/biocbuild/R/R-devel_2025-02-19/site-library/SpatialExperiment/extdata/10xVisium/section1/outs/raw_feature_bc_matrix"
rd10xV> (spe <- read10xVisium(samples, sample_ids, 
rd10xV+   type = "sparse", data = "raw", 
rd10xV+   images = "lowres", load = FALSE))
# A SpatialExperiment-tibble abstraction: 99 × 7
# Features = 50 | Cells = 99 | Assays = counts
   .cell              in_tissue array_row array_col sample_id pxl_col_in_fullres
   <chr>              <lgl>         <int>     <int> <chr>                  <int>
 1 AAACAACGAATAGTTC-1 FALSE             0        16 section1                2312
 2 AAACAAGTATCTCCCA-1 TRUE             50       102 section1                8230
 3 AAACAATCTACTAGCA-1 TRUE              3        43 section1                4170
 4 AAACACCAATAACTGC-1 TRUE             59        19 section1                2519
 5 AAACAGAGCGACTCCT-1 TRUE             14        94 section1                7679
 6 AAACAGCTTTCAGAAG-1 FALSE            43         9 section1                1831
 7 AAACAGGGTCTATATT-1 FALSE            47        13 section1                2106
 8 AAACAGTGTTCCTGGG-1 FALSE            73        43 section1                4170
 9 AAACATGGTGAGAGGA-1 FALSE            62         0 section1                1212
10 AAACATTTCCCGGATT-1 FALSE            61        97 section1                7886
# ℹ 89 more rows
# ℹ 1 more variable: pxl_row_in_fullres <int>
rd10xV> # base directory 'outs/' from Space Ranger can also be omitted
rd10xV> samples2 <- file.path(dir, sample_ids)
rd10xV> (spe2 <- read10xVisium(samples2, sample_ids, 
rd10xV+   type = "sparse", data = "raw", 
rd10xV+   images = "lowres", load = FALSE))
# A SpatialExperiment-tibble abstraction: 99 × 7
# Features = 50 | Cells = 99 | Assays = counts
   .cell              in_tissue array_row array_col sample_id pxl_col_in_fullres
   <chr>              <lgl>         <int>     <int> <chr>                  <int>
 1 AAACAACGAATAGTTC-1 FALSE             0        16 section1                2312
 2 AAACAAGTATCTCCCA-1 TRUE             50       102 section1                8230
 3 AAACAATCTACTAGCA-1 TRUE              3        43 section1                4170
 4 AAACACCAATAACTGC-1 TRUE             59        19 section1                2519
 5 AAACAGAGCGACTCCT-1 TRUE             14        94 section1                7679
 6 AAACAGCTTTCAGAAG-1 FALSE            43         9 section1                1831
 7 AAACAGGGTCTATATT-1 FALSE            47        13 section1                2106
 8 AAACAGTGTTCCTGGG-1 FALSE            73        43 section1                4170
 9 AAACATGGTGAGAGGA-1 FALSE            62         0 section1                1212
10 AAACATTTCCCGGATT-1 FALSE            61        97 section1                7886
# ℹ 89 more rows
# ℹ 1 more variable: pxl_row_in_fullres <int>
rd10xV> # tabulate number of spots mapped to tissue
rd10xV> cd <- colData(spe)
rd10xV> table(
rd10xV+   in_tissue = cd$in_tissue, 
rd10xV+   sample_id = cd$sample_id)
         sample_id
in_tissue section1 section2
    FALSE       28       27
    TRUE        22       22
rd10xV> # view available images
rd10xV> imgData(spe)
DataFrame with 2 rows and 4 columns
    sample_id    image_id   data scaleFactor
  <character> <character> <list>   <numeric>
1    section1      lowres   ####   0.0510334
2    section2      lowres   ####   0.0510334
rd10xV> dir <- system.file(
rd10xV+   file.path("extdata", "10xVisium"), 
rd10xV+   package = "SpatialExperiment")
rd10xV> sample_ids <- c("section1", "section2")
rd10xV> samples <- file.path(dir, sample_ids, "outs")
rd10xV> list.files(samples[1])
[1] "raw_feature_bc_matrix" "spatial"              
rd10xV> list.files(file.path(samples[1], "spatial"))
[1] "scalefactors_json.json"    "tissue_lowres_image.png"  
[3] "tissue_positions_list.csv"
rd10xV> file.path(samples[1], "raw_feature_bc_matrix")
[1] "/home/biocbuild/R/R-devel_2025-02-19/site-library/SpatialExperiment/extdata/10xVisium/section1/outs/raw_feature_bc_matrix"
rd10xV> (spe <- read10xVisium(samples, sample_ids, 
rd10xV+   type = "sparse", data = "raw", 
rd10xV+   images = "lowres", load = FALSE))
# A SpatialExperiment-tibble abstraction: 99 × 7
# Features = 50 | Cells = 99 | Assays = counts
   .cell              in_tissue array_row array_col sample_id pxl_col_in_fullres
   <chr>              <lgl>         <int>     <int> <chr>                  <int>
 1 AAACAACGAATAGTTC-1 FALSE             0        16 section1                2312
 2 AAACAAGTATCTCCCA-1 TRUE             50       102 section1                8230
 3 AAACAATCTACTAGCA-1 TRUE              3        43 section1                4170
 4 AAACACCAATAACTGC-1 TRUE             59        19 section1                2519
 5 AAACAGAGCGACTCCT-1 TRUE             14        94 section1                7679
 6 AAACAGCTTTCAGAAG-1 FALSE            43         9 section1                1831
 7 AAACAGGGTCTATATT-1 FALSE            47        13 section1                2106
 8 AAACAGTGTTCCTGGG-1 FALSE            73        43 section1                4170
 9 AAACATGGTGAGAGGA-1 FALSE            62         0 section1                1212
10 AAACATTTCCCGGATT-1 FALSE            61        97 section1                7886
# ℹ 89 more rows
# ℹ 1 more variable: pxl_row_in_fullres <int>
rd10xV> # base directory 'outs/' from Space Ranger can also be omitted
rd10xV> samples2 <- file.path(dir, sample_ids)
rd10xV> (spe2 <- read10xVisium(samples2, sample_ids, 
rd10xV+   type = "sparse", data = "raw", 
rd10xV+   images = "lowres", load = FALSE))
# A SpatialExperiment-tibble abstraction: 99 × 7
# Features = 50 | Cells = 99 | Assays = counts
   .cell              in_tissue array_row array_col sample_id pxl_col_in_fullres
   <chr>              <lgl>         <int>     <int> <chr>                  <int>
 1 AAACAACGAATAGTTC-1 FALSE             0        16 section1                2312
 2 AAACAAGTATCTCCCA-1 TRUE             50       102 section1                8230
 3 AAACAATCTACTAGCA-1 TRUE              3        43 section1                4170
 4 AAACACCAATAACTGC-1 TRUE             59        19 section1                2519
 5 AAACAGAGCGACTCCT-1 TRUE             14        94 section1                7679
 6 AAACAGCTTTCAGAAG-1 FALSE            43         9 section1                1831
 7 AAACAGGGTCTATATT-1 FALSE            47        13 section1                2106
 8 AAACAGTGTTCCTGGG-1 FALSE            73        43 section1                4170
 9 AAACATGGTGAGAGGA-1 FALSE            62         0 section1                1212
10 AAACATTTCCCGGATT-1 FALSE            61        97 section1                7886
# ℹ 89 more rows
# ℹ 1 more variable: pxl_row_in_fullres <int>
rd10xV> # tabulate number of spots mapped to tissue
rd10xV> cd <- colData(spe)
rd10xV> table(
rd10xV+   in_tissue = cd$in_tissue, 
rd10xV+   sample_id = cd$sample_id)
         sample_id
in_tissue section1 section2
    FALSE       28       27
    TRUE        22       22
rd10xV> # view available images
rd10xV> imgData(spe)
DataFrame with 2 rows and 4 columns
    sample_id    image_id   data scaleFactor
  <character> <character> <list>   <numeric>
1    section1      lowres   ####   0.0510334
2    section2      lowres   ####   0.0510334
[ FAIL 0 | WARN 3 | SKIP 0 | PASS 39 ]
[ FAIL 0 | WARN 3 | SKIP 0 | PASS 39 ]
> 
> proc.time()
   user  system elapsed 
 27.040   0.812  27.921 
tidySpatialExperiment.Rcheck/tidySpatialExperiment-Ex.timings
| name | user | system | elapsed | |
| aggregate_cells | 5.635 | 0.691 | 6.347 | |
| arrange | 3.029 | 0.160 | 3.196 | |
| as_tibble | 1.777 | 0.155 | 1.937 | |
| bind_cols | 2.019 | 0.092 | 2.116 | |
| bind_rows | 1.966 | 0.048 | 2.017 | |
| count | 2.034 | 0.024 | 2.062 | |
| distinct | 1.795 | 0.008 | 1.811 | |
| ellipse | 1.842 | 0.016 | 1.865 | |
| extract | 1.842 | 0.008 | 1.853 | |
| filter | 1.875 | 0.008 | 1.887 | |
| formatting | 1.766 | 0.004 | 1.774 | |
| gate | 1.969 | 0.008 | 1.981 | |
| gate_interactive | 1.683 | 0.024 | 1.721 | |
| gate_programmatic | 2.058 | 0.019 | 2.089 | |
| ggplot | 2.059 | 0.020 | 2.083 | |
| glimpse | 1.762 | 0.012 | 1.777 | |
| group_by | 1.812 | 0.008 | 1.823 | |
| inner_join | 2.085 | 0.008 | 2.098 | |
| join_features | 1.872 | 0.028 | 1.903 | |
| left_join | 1.988 | 0.008 | 1.999 | |
| mutate | 1.790 | 0.004 | 1.797 | |
| nest | 1.798 | 0.004 | 1.806 | |
| pivot_longer | 1.749 | 0.008 | 1.761 | |
| plot_ly | 1.809 | 0.032 | 1.844 | |
| pull | 1.688 | 0.008 | 1.700 | |
| rectangle | 1.810 | 0.004 | 1.818 | |
| rename | 2.048 | 0.056 | 2.109 | |
| right_join | 2.128 | 0.012 | 2.143 | |
| rowwise | 1.789 | 0.000 | 1.792 | |
| sample_n | 2.067 | 0.008 | 2.078 | |
| select | 1.721 | 0.004 | 1.728 | |
| separate | 1.888 | 0.000 | 1.892 | |
| slice | 1.858 | 0.012 | 1.874 | |
| summarise | 1.872 | 0.004 | 1.880 | |
| tbl_format_header | 0 | 0 | 0 | |
| unite | 1.855 | 0.016 | 1.876 | |
| unnest | 2.106 | 0.008 | 2.119 | |