| Back to Build/check report for BioC 3.21 annotations |
|
This page was generated on 2025-10-15 07:00 -0400 (Wed, 15 Oct 2025).
| Hostname | OS | Arch (*) | R version | Installed pkgs |
|---|---|---|---|---|
| nebbiolo1 | Linux (Ubuntu 24.04.3 LTS) | x86_64 | 4.5.1 (2025-06-13) -- "Great Square Root" | 4833 |
| Click on any hostname to see more info about the system (e.g. compilers) (*) as reported by 'uname -p', except on Windows and Mac OS X | ||||
| Package 17/47 | Hostname | OS / Arch | INSTALL | BUILD | CHECK | ||||||||
| ENCODExplorerData 0.99.5 (landing page) Eric Fournier
| nebbiolo1 | Linux (Ubuntu 24.04.3 LTS) / x86_64 | OK | OK | OK | ||||||||
|
To the developers/maintainers of the ENCODExplorerData package: - Use the following Renviron settings to reproduce errors and warnings. - If 'R CMD check' started to fail recently on the Linux builder(s) over a missing dependency, add the missing dependency to 'Suggests:' in your DESCRIPTION file. See Renviron.bioc for more information. |
| Package: ENCODExplorerData |
| Version: 0.99.5 |
| Command: /home/biocbuild/bbs-3.21-bioc/R/bin/R CMD check --install=check:ENCODExplorerData.install-out.txt --library=/home/biocbuild/bbs-3.21-bioc/R/site-library --timings ENCODExplorerData_0.99.5.tar.gz |
| StartedAt: 2025-10-15 06:03:35 -0400 (Wed, 15 Oct 2025) |
| EndedAt: 2025-10-15 06:05:25 -0400 (Wed, 15 Oct 2025) |
| EllapsedTime: 110.7 seconds |
| RetCode: 0 |
| Status: OK |
| CheckDir: ENCODExplorerData.Rcheck |
| Warnings: 0 |
##############################################################################
##############################################################################
###
### Running command:
###
### /home/biocbuild/bbs-3.21-bioc/R/bin/R CMD check --install=check:ENCODExplorerData.install-out.txt --library=/home/biocbuild/bbs-3.21-bioc/R/site-library --timings ENCODExplorerData_0.99.5.tar.gz
###
##############################################################################
##############################################################################
* using log directory ‘/home/biocbuild/bbs-3.21-data-annotation/meat/ENCODExplorerData.Rcheck’
* using R version 4.5.1 (2025-06-13)
* using platform: x86_64-pc-linux-gnu
* R was compiled by
gcc (Ubuntu 13.3.0-6ubuntu2~24.04) 13.3.0
GNU Fortran (Ubuntu 13.3.0-6ubuntu2~24.04) 13.3.0
* running under: Ubuntu 24.04.3 LTS
* using session charset: UTF-8
* checking for file ‘ENCODExplorerData/DESCRIPTION’ ... OK
* checking extension type ... Package
* this is package ‘ENCODExplorerData’ version ‘0.99.5’
* checking package namespace information ... OK
* checking package dependencies ... OK
* checking if this is a source package ... OK
* checking if there is a namespace ... OK
* checking for hidden files and directories ... OK
* checking for portable file names ... OK
* checking for sufficient/correct file permissions ... OK
* checking whether package ‘ENCODExplorerData’ can be installed ... OK
* checking installed package size ... OK
* checking package directory ... OK
* checking ‘build’ directory ... OK
* checking DESCRIPTION meta-information ... OK
* checking top-level files ... OK
* checking for left-over files ... OK
* checking index information ... OK
* checking package subdirectories ... OK
* checking code files for non-ASCII characters ... OK
* checking R files for syntax errors ... OK
* checking whether the package can be loaded ... OK
* checking whether the package can be loaded with stated dependencies ... OK
* checking whether the package can be unloaded cleanly ... OK
* checking whether the namespace can be loaded with stated dependencies ... OK
* checking whether the namespace can be unloaded cleanly ... OK
* checking loading without being on the library search path ... OK
* checking dependencies in R code ... OK
* checking S3 generic/method consistency ... OK
* checking replacement functions ... OK
* checking foreign function calls ... OK
* checking R code for possible problems ... OK
* checking Rd files ... OK
* checking Rd metadata ... OK
* checking Rd cross-references ... NOTE
Found the following Rd file(s) with Rd \link{} targets missing package
anchors:
encode_df_full.Rd: data.table
Please provide package anchors for all Rd \link{} targets not in the
package itself and the base packages.
* checking for missing documentation entries ... OK
* checking for code/documentation mismatches ... OK
* checking Rd \usage sections ... OK
* checking Rd contents ... OK
* checking for unstated dependencies in examples ... OK
* checking line endings in Makefiles ... OK
* checking for GNU extensions in Makefiles ... OK
* checking include directives in Makefiles ... OK
* checking files in ‘vignettes’ ... OK
* checking examples ... OK
Examples with CPU (user + system) or elapsed time > 5s
user system elapsed
encode_df_full 51.062 2.139 53.427
encode_df_lite 18.541 0.943 19.690
get_schemas 6.355 0.616 10.743
* checking for unstated dependencies in ‘tests’ ... OK
* checking tests ...
Running ‘runTests.R’
OK
* checking for unstated dependencies in vignettes ... OK
* checking package vignettes ... OK
* checking re-building of vignette outputs ... OK
* checking PDF version of manual ... OK
* DONE
Status: 1 NOTE
See
‘/home/biocbuild/bbs-3.21-data-annotation/meat/ENCODExplorerData.Rcheck/00check.log’
for details.
ENCODExplorerData.Rcheck/00install.out
############################################################################## ############################################################################## ### ### Running command: ### ### /home/biocbuild/bbs-3.21-bioc/R/bin/R CMD INSTALL ENCODExplorerData ### ############################################################################## ############################################################################## * installing to library ‘/home/biocbuild/bbs-3.21-bioc/R/site-library’ * installing *source* package ‘ENCODExplorerData’ ... ** this is package ‘ENCODExplorerData’ version ‘0.99.5’ ** using staged installation ** R ** inst ** byte-compile and prepare package for lazy loading ** help *** installing help indices ** building package indices ** installing vignettes ** testing if installed package can be loaded from temporary location ** testing if installed package can be loaded from final location ** testing if installed package keeps a record of temporary installation path * DONE (ENCODExplorerData)
ENCODExplorerData.Rcheck/tests/runTests.Rout
R version 4.5.1 (2025-06-13) -- "Great Square Root"
Copyright (C) 2025 The R Foundation for Statistical Computing
Platform: x86_64-pc-linux-gnu
R is free software and comes with ABSOLUTELY NO WARRANTY.
You are welcome to redistribute it under certain conditions.
Type 'license()' or 'licence()' for distribution details.
R is a collaborative project with many contributors.
Type 'contributors()' for more information and
'citation()' on how to cite R or R packages in publications.
Type 'demo()' for some demos, 'help()' for on-line help, or
'help.start()' for an HTML browser interface to help.
Type 'q()' to quit R.
> #Run all tests in the ENCODExplorer package
> BiocGenerics:::testPackage("ENCODExplorerData")
RUNIT TEST PROTOCOL -- Wed Oct 15 06:05:22 2025
***********************************************
Number of test functions: 9
Number of errors: 0
Number of failures: 0
1 Test Suite :
ENCODExplorerData RUnit Tests - 9 test functions, 0 errors, 0 failures
Number of test functions: 9
Number of errors: 0
Number of failures: 0
>
> proc.time()
user system elapsed
0.560 0.072 0.619
ENCODExplorerData.Rcheck/ENCODExplorerData-Ex.timings
| name | user | system | elapsed | |
| build_file_db_from_raw_tables | 0 | 0 | 0 | |
| clean_table | 0.224 | 0.005 | 3.331 | |
| encode_df_full | 51.062 | 2.139 | 53.427 | |
| encode_df_lite | 18.541 | 0.943 | 19.690 | |
| fetch_and_clean_raw_ENCODE_tables | 0.592 | 0.010 | 1.655 | |
| generate_encode_df_full | 0 | 0 | 0 | |
| generate_encode_df_lite | 0.000 | 0.000 | 0.001 | |
| get_encode_types | 0.054 | 0.006 | 0.325 | |
| get_schema_urls | 0.097 | 0.010 | 0.271 | |
| get_schemas | 6.355 | 0.616 | 10.743 | |