| Back to Build/check report for BioC 3.21 experimental data |
|
This page was generated on 2025-10-16 15:01 -0400 (Thu, 16 Oct 2025).
| Hostname | OS | Arch (*) | R version | Installed pkgs |
|---|---|---|---|---|
| nebbiolo1 | Linux (Ubuntu 24.04.3 LTS) | x86_64 | 4.5.1 (2025-06-13) -- "Great Square Root" | 4833 |
| Click on any hostname to see more info about the system (e.g. compilers) (*) as reported by 'uname -p', except on Windows and Mac OS X | ||||
| Package 240/432 | Hostname | OS / Arch | INSTALL | BUILD | CHECK | ||||||||
| methylclockData 1.16.0 (landing page) Dolors Pelegri-Siso
| nebbiolo1 | Linux (Ubuntu 24.04.3 LTS) / x86_64 | OK | OK | OK | ||||||||
|
To the developers/maintainers of the methylclockData package: - Use the following Renviron settings to reproduce errors and warnings. - If 'R CMD check' started to fail recently on the Linux builder(s) over a missing dependency, add the missing dependency to 'Suggests:' in your DESCRIPTION file. See Renviron.bioc for more information. |
| Package: methylclockData |
| Version: 1.16.0 |
| Command: /home/biocbuild/bbs-3.21-bioc/R/bin/R CMD check --install=check:methylclockData.install-out.txt --library=/home/biocbuild/bbs-3.21-bioc/R/site-library --timings methylclockData_1.16.0.tar.gz |
| StartedAt: 2025-10-16 12:34:42 -0400 (Thu, 16 Oct 2025) |
| EndedAt: 2025-10-16 12:39:55 -0400 (Thu, 16 Oct 2025) |
| EllapsedTime: 312.6 seconds |
| RetCode: 0 |
| Status: OK |
| CheckDir: methylclockData.Rcheck |
| Warnings: 0 |
##############################################################################
##############################################################################
###
### Running command:
###
### /home/biocbuild/bbs-3.21-bioc/R/bin/R CMD check --install=check:methylclockData.install-out.txt --library=/home/biocbuild/bbs-3.21-bioc/R/site-library --timings methylclockData_1.16.0.tar.gz
###
##############################################################################
##############################################################################
* using log directory ‘/home/biocbuild/bbs-3.21-data-experiment/meat/methylclockData.Rcheck’
* using R version 4.5.1 (2025-06-13)
* using platform: x86_64-pc-linux-gnu
* R was compiled by
gcc (Ubuntu 13.3.0-6ubuntu2~24.04) 13.3.0
GNU Fortran (Ubuntu 13.3.0-6ubuntu2~24.04) 13.3.0
* running under: Ubuntu 24.04.3 LTS
* using session charset: UTF-8
* checking for file ‘methylclockData/DESCRIPTION’ ... OK
* this is package ‘methylclockData’ version ‘1.16.0’
* package encoding: UTF-8
* checking package namespace information ... OK
* checking package dependencies ... OK
* checking if this is a source package ... OK
* checking if there is a namespace ... OK
* checking for hidden files and directories ... OK
* checking for portable file names ... OK
* checking for sufficient/correct file permissions ... OK
* checking whether package ‘methylclockData’ can be installed ... OK
* checking installed package size ... OK
* checking package directory ... OK
* checking ‘build’ directory ... OK
* checking DESCRIPTION meta-information ... NOTE
Malformed Description field: should contain one or more complete sentences.
License stub is invalid DCF.
* checking top-level files ... OK
* checking for left-over files ... OK
* checking index information ... OK
* checking package subdirectories ... OK
* checking code files for non-ASCII characters ... OK
* checking R files for syntax errors ... OK
* checking whether the package can be loaded ... OK
* checking whether the package can be loaded with stated dependencies ... OK
* checking whether the package can be unloaded cleanly ... OK
* checking whether the namespace can be loaded with stated dependencies ... OK
* checking whether the namespace can be unloaded cleanly ... OK
* checking loading without being on the library search path ... OK
* checking dependencies in R code ... OK
* checking S3 generic/method consistency ... OK
* checking replacement functions ... OK
* checking foreign function calls ... OK
* checking R code for possible problems ... OK
* checking Rd files ... OK
* checking Rd metadata ... OK
* checking Rd cross-references ... OK
* checking for missing documentation entries ... OK
* checking for code/documentation mismatches ... OK
* checking Rd \usage sections ... OK
* checking Rd contents ... OK
* checking for unstated dependencies in examples ... OK
* checking files in ‘vignettes’ ... OK
* checking examples ... OK
* checking for unstated dependencies in vignettes ... OK
* checking package vignettes ... OK
* checking re-building of vignette outputs ... OK
* checking PDF version of manual ... OK
* DONE
Status: 1 NOTE
See
‘/home/biocbuild/bbs-3.21-data-experiment/meat/methylclockData.Rcheck/00check.log’
for details.
methylclockData.Rcheck/00install.out
############################################################################## ############################################################################## ### ### Running command: ### ### /home/biocbuild/bbs-3.21-bioc/R/bin/R CMD INSTALL methylclockData ### ############################################################################## ############################################################################## * installing to library ‘/home/biocbuild/bbs-3.21-bioc/R/site-library’ * installing *source* package ‘methylclockData’ ... ** this is package ‘methylclockData’ version ‘1.16.0’ ** using staged installation ** R ** inst ** byte-compile and prepare package for lazy loading Warning: replacing previous import ‘utils::findMatches’ by ‘S4Vectors::findMatches’ when loading ‘ExperimentHubData’ No methods found in package ‘rtracklayer’ for request: ‘trackName<-’ when loading ‘AnnotationHubData’ ** help *** installing help indices ** building package indices ** installing vignettes ** testing if installed package can be loaded from temporary location Warning: replacing previous import ‘utils::findMatches’ by ‘S4Vectors::findMatches’ when loading ‘ExperimentHubData’ No methods found in package ‘rtracklayer’ for request: ‘trackName<-’ when loading ‘AnnotationHubData’ ** testing if installed package can be loaded from final location Warning: replacing previous import ‘utils::findMatches’ by ‘S4Vectors::findMatches’ when loading ‘ExperimentHubData’ No methods found in package ‘rtracklayer’ for request: ‘trackName<-’ when loading ‘AnnotationHubData’ ** testing if installed package keeps a record of temporary installation path * DONE (methylclockData)
methylclockData.Rcheck/methylclockData-Ex.timings
| name | user | system | elapsed | |
| get_MethylationDataExample | 1.740 | 0.150 | 2.196 | |
| get_TestDataset | 1.311 | 0.152 | 1.681 | |
| get_coefBLUP | 2.577 | 0.195 | 2.977 | |
| get_coefBohlin | 1.113 | 0.102 | 1.418 | |
| get_coefEN | 1.267 | 0.177 | 1.652 | |
| get_coefEPIC | 1.231 | 0.134 | 1.573 | |
| get_coefHannum | 1.241 | 0.133 | 1.627 | |
| get_coefHorvath | 1.264 | 0.119 | 1.604 | |
| get_coefKnightGA | 1.200 | 0.115 | 1.528 | |
| get_coefLeeGA | 1.260 | 0.122 | 1.701 | |
| get_coefLevine | 1.153 | 0.120 | 1.475 | |
| get_coefMayneGA | 1.255 | 0.096 | 1.600 | |
| get_coefPedBE | 1.165 | 0.095 | 1.510 | |
| get_coefSkin | 1.252 | 0.103 | 1.579 | |
| get_coefTL | 1.145 | 0.114 | 1.507 | |
| get_coefWu | 1.335 | 0.100 | 1.642 | |
| get_cpgs_bn | 1.177 | 0.115 | 1.544 | |
| get_probeAnnotation21kdatMethUsed | 1.395 | 0.093 | 1.717 | |
| get_references | 1.153 | 0.106 | 1.463 | |