Back to Multiple platform build/check report for BioC 3.22:   simplified   long
ABC[D]EFGHIJKLMNOPQRSTUVWXYZ

This page was generated on 2025-11-07 11:59 -0500 (Fri, 07 Nov 2025).

HostnameOSArch (*)R versionInstalled pkgs
nebbiolo2Linux (Ubuntu 24.04.3 LTS)x86_644.5.1 Patched (2025-08-23 r88802) -- "Great Square Root" 4902
kjohnson3macOS 13.7.7 Venturaarm644.5.1 Patched (2025-09-10 r88807) -- "Great Square Root" 4638
Click on any hostname to see more info about the system (e.g. compilers)      (*) as reported by 'uname -p', except on Windows and Mac OS X

All results for package DelayedArray


To the developers/maintainers of the DelayedArray package:
- Allow up to 24 hours (and sometimes 48 hours) for your latest push to git@git.bioconductor.org:packages/DelayedArray.git to reflect on this report. See Troubleshooting Build Report for more information.
- Use the following Renviron settings to reproduce errors and warnings.
- If 'R CMD check' started to fail recently on the Linux builder(s) over a missing dependency, add the missing dependency to 'Suggests:' in your DESCRIPTION file. See Renviron.bioc for more information.

raw results

Package 552/2361HostnameOS / ArchINSTALLBUILDCHECKBUILD BIN
DelayedArray 0.36.0  (landing page)
Hervé Pagès
Snapshot Date: 2025-11-06 13:45 -0500 (Thu, 06 Nov 2025)
git_url: https://git.bioconductor.org/packages/DelayedArray
git_branch: RELEASE_3_22
git_last_commit: adde054
git_last_commit_date: 2025-10-29 14:02:35 -0500 (Wed, 29 Oct 2025)
nebbiolo2Linux (Ubuntu 24.04.3 LTS) / x86_64  OK    OK    WARNINGS  UNNEEDED, same version is already published
kjohnson3macOS 13.7.7 Ventura / arm64  OK    OK    WARNINGS    OK  UNNEEDED, same version is already published



Results for Bioconductor software packages that depend directly on package DelayedArray

QUICK STATSOS / ArchINSTALLBUILDCHECKBUILD BIN
nebbiolo2Linux (Ubuntu 24.04.3 LTS) / x86_64
0097
0592
021872
kjohnson3macOS 13.7.7 Ventura / arm64
0097
0988
051667
0088
Package 1/97HostnameOS / ArchINSTALLBUILDCHECKBUILD BIN
adverSCarial 1.8.0  (landing page)
Ghislain FIEVET
git_last_commit: 4d9ce43
git_last_commit_date: 2025-10-29 11:23:46 -0500
nebbiolo2Linux (Ubuntu 24.04.3 LTS) / x86_64  OK    OK    WARNINGS  UNNEEDED, same version is already published
kjohnson3macOS 13.7.7 Ventura / arm64  OK    OK    WARNINGS    OK  UNNEEDED, same version is already published
Package 2/97HostnameOS / ArchINSTALLBUILDCHECKBUILD BIN
alabaster.matrix 1.10.0  (landing page)
Aaron Lun
git_last_commit: 8892772
git_last_commit_date: 2025-10-29 11:21:14 -0500
nebbiolo2Linux (Ubuntu 24.04.3 LTS) / x86_64  OK    OK    OK  UNNEEDED, same version is already published
kjohnson3macOS 13.7.7 Ventura / arm64  OK    OK    OK    OK  UNNEEDED, same version is already published
Package 3/97HostnameOS / ArchINSTALLBUILDCHECKBUILD BIN
AUCell 1.32.0  (landing page)
Gert Hulselmans
git_last_commit: a57f250
git_last_commit_date: 2025-10-29 10:40:49 -0500
nebbiolo2Linux (Ubuntu 24.04.3 LTS) / x86_64  OK    OK    OK  UNNEEDED, same version is already published
kjohnson3macOS 13.7.7 Ventura / arm64  OK    OK    OK    OK  UNNEEDED, same version is already published
Package 4/97HostnameOS / ArchINSTALLBUILDCHECKBUILD BIN
batchelor 1.26.0  (landing page)
Aaron Lun
git_last_commit: 8a9df0d
git_last_commit_date: 2025-10-29 10:51:04 -0500
nebbiolo2Linux (Ubuntu 24.04.3 LTS) / x86_64  OK    OK    OK  UNNEEDED, same version is already published
kjohnson3macOS 13.7.7 Ventura / arm64  OK    OK    OK    OK  UNNEEDED, same version is already published
Package 5/97HostnameOS / ArchINSTALLBUILDCHECKBUILD BIN
beachmat 2.26.0  (landing page)
Aaron Lun
git_last_commit: 016c55e
git_last_commit_date: 2025-10-29 10:39:35 -0500
nebbiolo2Linux (Ubuntu 24.04.3 LTS) / x86_64  OK    OK    OK  UNNEEDED, same version is already published
kjohnson3macOS 13.7.7 Ventura / arm64  OK    OK    OK    OK  UNNEEDED, same version is already published
Package 6/97HostnameOS / ArchINSTALLBUILDCHECKBUILD BIN
beachmat.hdf5 1.8.0  (landing page)
Aaron Lun
git_last_commit: e3de22b
git_last_commit_date: 2025-10-29 11:24:41 -0500
nebbiolo2Linux (Ubuntu 24.04.3 LTS) / x86_64  OK    OK    WARNINGS  UNNEEDED, same version is already published
kjohnson3macOS 13.7.7 Ventura / arm64  OK    OK    WARNINGS    OK  UNNEEDED, same version is already published
Package 7/97HostnameOS / ArchINSTALLBUILDCHECKBUILD BIN
beachmat.tiledb 1.2.0  (landing page)
Aaron Lun
git_last_commit: 70c0ac3
git_last_commit_date: 2025-10-29 11:33:24 -0500
nebbiolo2Linux (Ubuntu 24.04.3 LTS) / x86_64  OK    OK    WARNINGS  UNNEEDED, same version is already published
kjohnson3macOS 13.7.7 Ventura / arm64  OK    OK    OK    OK  UNNEEDED, same version is already published
Package 8/97HostnameOS / ArchINSTALLBUILDCHECKBUILD BIN
BiocSingular 1.26.0  (landing page)
Aaron Lun
git_last_commit: b87ad48
git_last_commit_date: 2025-10-29 10:50:05 -0500
nebbiolo2Linux (Ubuntu 24.04.3 LTS) / x86_64  OK    OK    WARNINGS  UNNEEDED, same version is already published
kjohnson3macOS 13.7.7 Ventura / arm64  OK    OK    WARNINGS    OK  UNNEEDED, same version is already published
Package 9/97HostnameOS / ArchINSTALLBUILDCHECKBUILD BIN
bsseq 1.46.0  (landing page)
Kasper Daniel Hansen
git_last_commit: ea21812
git_last_commit_date: 2025-10-29 10:11:31 -0500
nebbiolo2Linux (Ubuntu 24.04.3 LTS) / x86_64  OK    OK    OK  UNNEEDED, same version is already published
kjohnson3macOS 13.7.7 Ventura / arm64  OK    OK    OK    OK  UNNEEDED, same version is already published
Package 10/97HostnameOS / ArchINSTALLBUILDCHECKBUILD BIN
celaref 1.28.0  (landing page)
Sarah Williams
git_last_commit: 21285bc
git_last_commit_date: 2025-10-29 10:46:48 -0500
nebbiolo2Linux (Ubuntu 24.04.3 LTS) / x86_64  OK    OK    OK  UNNEEDED, same version is already published
kjohnson3macOS 13.7.7 Ventura / arm64  OK    OK    OK    OK  UNNEEDED, same version is already published
Package 11/97HostnameOS / ArchINSTALLBUILDCHECKBUILD BIN
celda 1.26.0  (landing page)
Joshua Campbell
git_last_commit: e1acfed
git_last_commit_date: 2025-10-29 10:52:12 -0500
nebbiolo2Linux (Ubuntu 24.04.3 LTS) / x86_64  OK    OK    OK  UNNEEDED, same version is already published
kjohnson3macOS 13.7.7 Ventura / arm64  OK    OK    OK    OK  UNNEEDED, same version is already published
Package 12/97HostnameOS / ArchINSTALLBUILDCHECKBUILD BIN
Cepo 1.16.0  (landing page)
Hani Jieun Kim
git_last_commit: 14015a6
git_last_commit_date: 2025-10-29 11:13:24 -0500
nebbiolo2Linux (Ubuntu 24.04.3 LTS) / x86_64  OK    OK    OK  UNNEEDED, same version is already published
kjohnson3macOS 13.7.7 Ventura / arm64  OK    OK    OK    OK  UNNEEDED, same version is already published
Package 13/97HostnameOS / ArchINSTALLBUILDCHECKBUILD BIN
chihaya 1.10.0  (landing page)
Aaron Lun
git_last_commit: 9c74cc8
git_last_commit_date: 2025-10-29 11:21:37 -0500
nebbiolo2Linux (Ubuntu 24.04.3 LTS) / x86_64  OK    OK    WARNINGS  UNNEEDED, same version is already published
kjohnson3macOS 13.7.7 Ventura / arm64  OK    OK    WARNINGS    OK  UNNEEDED, same version is already published
Package 14/97HostnameOS / ArchINSTALLBUILDCHECKBUILD BIN
ChromSCape 1.20.0  (landing page)
Pacome Prompsy
git_last_commit: a5a7bda
git_last_commit_date: 2025-10-29 11:02:56 -0500
nebbiolo2Linux (Ubuntu 24.04.3 LTS) / x86_64  OK    OK    WARNINGS  UNNEEDED, same version is already published
kjohnson3macOS 13.7.7 Ventura / arm64  OK    OK    WARNINGS    OK  UNNEEDED, same version is already published
Package 15/97HostnameOS / ArchINSTALLBUILDCHECKBUILD BIN
clusterExperiment 2.30.0  (landing page)
Elizabeth Purdom
git_last_commit: 86a6cae
git_last_commit_date: 2025-10-29 10:33:07 -0500
nebbiolo2Linux (Ubuntu 24.04.3 LTS) / x86_64  OK    OK    WARNINGS  UNNEEDED, same version is already published
kjohnson3macOS 13.7.7 Ventura / arm64  OK    OK    WARNINGS    OK  UNNEEDED, same version is already published
Package 16/97HostnameOS / ArchINSTALLBUILDCHECKBUILD BIN
concordexR 1.10.0  (landing page)
Kayla Jackson
git_last_commit: 9ea0373
git_last_commit_date: 2025-10-29 11:22:42 -0500
nebbiolo2Linux (Ubuntu 24.04.3 LTS) / x86_64  OK    OK    WARNINGS  UNNEEDED, same version is already published
kjohnson3macOS 13.7.7 Ventura / arm64  OK    OK    WARNINGS    OK  UNNEEDED, same version is already published
Package 17/97HostnameOS / ArchINSTALLBUILDCHECKBUILD BIN
CRISPRseek 1.50.0  (landing page)
Lihua Julie Zhu
git_last_commit: fd2babc
git_last_commit_date: 2025-10-29 10:17:22 -0500
nebbiolo2Linux (Ubuntu 24.04.3 LTS) / x86_64  OK    OK    OK  UNNEEDED, same version is already published
kjohnson3macOS 13.7.7 Ventura / arm64  OK    OK    OK    OK  UNNEEDED, same version is already published
Package 18/97HostnameOS / ArchINSTALLBUILDCHECKBUILD BIN
cytomapper 1.22.0  (landing page)
Lasse Meyer
git_last_commit: 0d3160a
git_last_commit_date: 2025-10-29 10:57:59 -0500
nebbiolo2Linux (Ubuntu 24.04.3 LTS) / x86_64  OK    OK    OK  UNNEEDED, same version is already published
kjohnson3macOS 13.7.7 Ventura / arm64  OK    OK    OK    OK  UNNEEDED, same version is already published
Package 19/97HostnameOS / ArchINSTALLBUILDCHECKBUILD BIN
decontX 1.8.0  (landing page)
Joshua Campbell
git_last_commit: e98b38c
git_last_commit_date: 2025-10-29 11:26:26 -0500
nebbiolo2Linux (Ubuntu 24.04.3 LTS) / x86_64  OK    OK    OK  UNNEEDED, same version is already published
kjohnson3macOS 13.7.7 Ventura / arm64  OK    OK    OK    OK  UNNEEDED, same version is already published
Package 20/97HostnameOS / ArchINSTALLBUILDCHECKBUILD BIN
DelayedDataFrame 1.26.0  (landing page)
Qian Liu
git_last_commit: 27e048f
git_last_commit_date: 2025-10-29 10:49:14 -0500
nebbiolo2Linux (Ubuntu 24.04.3 LTS) / x86_64  OK    OK    OK  UNNEEDED, same version is already published
kjohnson3macOS 13.7.7 Ventura / arm64  OK    OK    OK    OK  UNNEEDED, same version is already published
Package 21/97HostnameOS / ArchINSTALLBUILDCHECKBUILD BIN
DelayedMatrixStats 1.32.0  (landing page)
Peter Hickey
git_last_commit: cbf7d75
git_last_commit_date: 2025-10-29 10:41:36 -0500
nebbiolo2Linux (Ubuntu 24.04.3 LTS) / x86_64  OK    OK    OK  UNNEEDED, same version is already published
kjohnson3macOS 13.7.7 Ventura / arm64  OK    OK    OK    OK  UNNEEDED, same version is already published
Package 22/97HostnameOS / ArchINSTALLBUILDCHECKBUILD BIN
DelayedRandomArray 1.18.0  (landing page)
Aaron Lun
git_last_commit: a060a75
git_last_commit_date: 2025-10-29 11:08:35 -0500
nebbiolo2Linux (Ubuntu 24.04.3 LTS) / x86_64  OK    OK    OK  UNNEEDED, same version is already published
kjohnson3macOS 13.7.7 Ventura / arm64  OK    OK    OK    OK  UNNEEDED, same version is already published
Package 23/97HostnameOS / ArchINSTALLBUILDCHECKBUILD BIN
DelayedTensor 1.16.0  (landing page)
Koki Tsuyuzaki
git_last_commit: 363cba1
git_last_commit_date: 2025-10-29 11:10:14 -0500
nebbiolo2Linux (Ubuntu 24.04.3 LTS) / x86_64  OK    OK    WARNINGS  UNNEEDED, same version is already published
kjohnson3macOS 13.7.7 Ventura / arm64  OK    OK    WARNINGS    OK  UNNEEDED, same version is already published
Package 24/97HostnameOS / ArchINSTALLBUILDCHECKBUILD BIN
DEScan2 1.30.0  (landing page)
Dario Righelli
git_last_commit: 5e4b7c2
git_last_commit_date: 2025-10-29 10:43:47 -0500
nebbiolo2Linux (Ubuntu 24.04.3 LTS) / x86_64  OK    OK    OK  UNNEEDED, same version is already published
kjohnson3macOS 13.7.7 Ventura / arm64  OK    OK    OK    OK  UNNEEDED, same version is already published
Package 25/97HostnameOS / ArchINSTALLBUILDCHECKBUILD BIN
dreamlet 1.8.0  (landing page)
Gabriel Hoffman
git_last_commit: 1eb467d
git_last_commit_date: 2025-10-29 11:25:03 -0500
nebbiolo2Linux (Ubuntu 24.04.3 LTS) / x86_64  OK    OK    OK  UNNEEDED, same version is already published
kjohnson3macOS 13.7.7 Ventura / arm64  OK    OK    OK    OK  UNNEEDED, same version is already published
Package 26/97HostnameOS / ArchINSTALLBUILDCHECKBUILD BIN
DropletUtils 1.30.0  (landing page)
Jonathan Griffiths
git_last_commit: 6ef5eaa
git_last_commit_date: 2025-10-29 10:42:43 -0500
nebbiolo2Linux (Ubuntu 24.04.3 LTS) / x86_64  OK    OK    WARNINGS  UNNEEDED, same version is already published
kjohnson3macOS 13.7.7 Ventura / arm64  OK    OK    WARNINGS    OK  UNNEEDED, same version is already published
Package 27/97HostnameOS / ArchINSTALLBUILDCHECKBUILD BIN
ELMER 2.34.0  (landing page)
Tiago Chedraoui Silva
git_last_commit: 908554d
git_last_commit_date: 2025-10-29 10:26:17 -0500
nebbiolo2Linux (Ubuntu 24.04.3 LTS) / x86_64  OK    ERROR  skipped
kjohnson3macOS 13.7.7 Ventura / arm64  OK    ERROR  skippedskipped
Package 28/97HostnameOS / ArchINSTALLBUILDCHECKBUILD BIN
EWCE 1.18.0  (landing page)
Hiranyamaya Dash
git_last_commit: 413c045
git_last_commit_date: 2025-10-29 11:08:07 -0500
nebbiolo2Linux (Ubuntu 24.04.3 LTS) / x86_64  OK    OK    OK  UNNEEDED, same version is already published
kjohnson3macOS 13.7.7 Ventura / arm64  OK    OK    OK    OK  UNNEEDED, same version is already published
Package 29/97HostnameOS / ArchINSTALLBUILDCHECKBUILD BIN
flowWorkspace 4.22.0  (landing page)
Greg Finak , Mike Jiang
git_last_commit: e1edb9f
git_last_commit_date: 2025-10-29 10:07:43 -0500
nebbiolo2Linux (Ubuntu 24.04.3 LTS) / x86_64  OK    OK    WARNINGS  UNNEEDED, same version is already published
kjohnson3macOS 13.7.7 Ventura / arm64  OK    OK    WARNINGS    OK  UNNEEDED, same version is already published
Package 30/97HostnameOS / ArchINSTALLBUILDCHECKBUILD BIN
FRASER 2.6.0  (landing page)
Christian Mertes
git_last_commit: b8faec2
git_last_commit_date: 2025-10-29 10:58:54 -0500
nebbiolo2Linux (Ubuntu 24.04.3 LTS) / x86_64  OK    OK    OK  UNNEEDED, same version is already published
kjohnson3macOS 13.7.7 Ventura / arm64  OK    OK    OK    OK  UNNEEDED, same version is already published
Package 31/97HostnameOS / ArchINSTALLBUILDCHECKBUILD BIN
GDSArray 1.30.0  (landing page)
Xiuwen Zheng
git_last_commit: 421dd04
git_last_commit_date: 2025-10-29 10:44:25 -0500
nebbiolo2Linux (Ubuntu 24.04.3 LTS) / x86_64  OK    OK    OK  UNNEEDED, same version is already published
kjohnson3macOS 13.7.7 Ventura / arm64  OK    OK    OK    OK  UNNEEDED, same version is already published
Package 32/97HostnameOS / ArchINSTALLBUILDCHECKBUILD BIN
GenomicScores 2.22.0  (landing page)
Robert Castelo
git_last_commit: 8f6570c
git_last_commit_date: 2025-10-29 10:38:07 -0500
nebbiolo2Linux (Ubuntu 24.04.3 LTS) / x86_64  OK    OK    OK  UNNEEDED, same version is already published
kjohnson3macOS 13.7.7 Ventura / arm64  OK    OK    OK    OK  UNNEEDED, same version is already published
Package 33/97HostnameOS / ArchINSTALLBUILDCHECKBUILD BIN
glmGamPoi 1.22.0  (landing page)
Constantin Ahlmann-Eltze
git_last_commit: 908cde9
git_last_commit_date: 2025-10-29 10:58:15 -0500
nebbiolo2Linux (Ubuntu 24.04.3 LTS) / x86_64  OK    OK    WARNINGS  UNNEEDED, same version is already published
kjohnson3macOS 13.7.7 Ventura / arm64  OK    OK    WARNINGS    OK  UNNEEDED, same version is already published
Package 34/97HostnameOS / ArchINSTALLBUILDCHECKBUILD BIN
GSVA 2.4.1  (landing page)
Robert Castelo
git_last_commit: 441c638
git_last_commit_date: 2025-11-05 07:26:13 -0500
nebbiolo2Linux (Ubuntu 24.04.3 LTS) / x86_64  OK    OK    OK  UNNEEDED, same version is already published
kjohnson3macOS 13.7.7 Ventura / arm64  OK    OK    OK    OK  UNNEEDED, same version is already published
Package 35/97HostnameOS / ArchINSTALLBUILDCHECKBUILD BIN
HDF5Array 1.38.0  (landing page)
Hervé Pagès
git_last_commit: 9bca08f
git_last_commit_date: 2025-10-29 12:21:26 -0500
nebbiolo2Linux (Ubuntu 24.04.3 LTS) / x86_64  OK    OK    OK  UNNEEDED, same version is already published
kjohnson3macOS 13.7.7 Ventura / arm64  OK    OK    ERROR    OK  
Package 36/97HostnameOS / ArchINSTALLBUILDCHECKBUILD BIN
hipathia 3.10.0  (landing page)
Marta R. Hidalgo
git_last_commit: 73629a5
git_last_commit_date: 2025-10-29 10:44:56 -0500
nebbiolo2Linux (Ubuntu 24.04.3 LTS) / x86_64  OK    ERROR  skipped
kjohnson3macOS 13.7.7 Ventura / arm64  OK    ERROR  skippedskipped
Package 37/97HostnameOS / ArchINSTALLBUILDCHECKBUILD BIN
LoomExperiment 1.28.0  (landing page)
Bioconductor Package Maintainer
git_last_commit: 4b227ef
git_last_commit_date: 2025-10-29 10:48:53 -0500
nebbiolo2Linux (Ubuntu 24.04.3 LTS) / x86_64  OK    OK    OK  UNNEEDED, same version is already published
kjohnson3macOS 13.7.7 Ventura / arm64  OK    OK    OK    OK  UNNEEDED, same version is already published
Package 38/97HostnameOS / ArchINSTALLBUILDCHECKBUILD BIN
Macarron 1.14.0  (landing page)
Sagun Maharjan
git_last_commit: 28010af
git_last_commit_date: 2025-10-29 11:16:43 -0500
nebbiolo2Linux (Ubuntu 24.04.3 LTS) / x86_64  OK    ERROR  skipped
kjohnson3macOS 13.7.7 Ventura / arm64  OK    ERROR  skippedskipped
Package 39/97HostnameOS / ArchINSTALLBUILDCHECKBUILD BIN
mariner 1.10.0  (landing page)
Eric Davis
git_last_commit: 0e27ac7
git_last_commit_date: 2025-10-29 11:23:11 -0500
nebbiolo2Linux (Ubuntu 24.04.3 LTS) / x86_64  OK    OK    OK  UNNEEDED, same version is already published
kjohnson3macOS 13.7.7 Ventura / arm64  OK    OK    OK    OK  UNNEEDED, same version is already published
Package 40/97HostnameOS / ArchINSTALLBUILDCHECKBUILD BIN
mbkmeans 1.26.0  (landing page)
Davide Risso
git_last_commit: 4dc9338
git_last_commit_date: 2025-10-29 10:51:15 -0500
nebbiolo2Linux (Ubuntu 24.04.3 LTS) / x86_64  OK    OK    OK  UNNEEDED, same version is already published
kjohnson3macOS 13.7.7 Ventura / arm64  OK    OK    OK    OK  UNNEEDED, same version is already published
Package 41/97HostnameOS / ArchINSTALLBUILDCHECKBUILD BIN
methodical 1.6.0  (landing page)
Richard Heery
git_last_commit: ebf4ab4
git_last_commit_date: 2025-10-29 11:27:18 -0500
nebbiolo2Linux (Ubuntu 24.04.3 LTS) / x86_64  OK    OK    WARNINGS  UNNEEDED, same version is already published
kjohnson3macOS 13.7.7 Ventura / arm64  OK    OK    WARNINGS    OK  UNNEEDED, same version is already published
Package 42/97HostnameOS / ArchINSTALLBUILDCHECKBUILD BIN
MethReg 1.20.0  (landing page)
Tiago Silva
git_last_commit: a1982d5
git_last_commit_date: 2025-10-29 11:02:28 -0500
nebbiolo2Linux (Ubuntu 24.04.3 LTS) / x86_64  OK    OK    OK  UNNEEDED, same version is already published
kjohnson3macOS 13.7.7 Ventura / arm64  OK    OK    OK    OK  UNNEEDED, same version is already published
Package 43/97HostnameOS / ArchINSTALLBUILDCHECKBUILD BIN
methrix 1.24.0  (landing page)
Anand Mayakonda
git_last_commit: 3c2cf85
git_last_commit_date: 2025-10-29 10:55:34 -0500
nebbiolo2Linux (Ubuntu 24.04.3 LTS) / x86_64  OK    OK    OK  UNNEEDED, same version is already published
kjohnson3macOS 13.7.7 Ventura / arm64  OK    OK    OK    OK  UNNEEDED, same version is already published
Package 44/97HostnameOS / ArchINSTALLBUILDCHECKBUILD BIN
methylSig 1.22.0  (landing page)
Raymond G. Cavalcante
git_last_commit: e0dc461
git_last_commit_date: 2025-10-29 10:58:51 -0500
nebbiolo2Linux (Ubuntu 24.04.3 LTS) / x86_64  OK    OK    OK  UNNEEDED, same version is already published
kjohnson3macOS 13.7.7 Ventura / arm64  OK    OK    OK    OK  UNNEEDED, same version is already published
Package 45/97HostnameOS / ArchINSTALLBUILDCHECKBUILD BIN
mia 1.18.0  (landing page)
Tuomas Borman
git_last_commit: ad28035
git_last_commit_date: 2025-10-29 11:07:20 -0500
nebbiolo2Linux (Ubuntu 24.04.3 LTS) / x86_64  OK    OK    OK  UNNEEDED, same version is already published
kjohnson3macOS 13.7.7 Ventura / arm64  OK    OK    ERROR    OK  
Package 46/97HostnameOS / ArchINSTALLBUILDCHECKBUILD BIN
miaViz 1.18.0  (landing page)
Tuomas Borman
git_last_commit: 3d494da
git_last_commit_date: 2025-10-29 11:07:33 -0500
nebbiolo2Linux (Ubuntu 24.04.3 LTS) / x86_64  OK    OK    OK  UNNEEDED, same version is already published
kjohnson3macOS 13.7.7 Ventura / arm64  OK    OK    OK    OK  NO, package depends on 'mia' which is only available as a source package that needs compilation
Package 47/97HostnameOS / ArchINSTALLBUILDCHECKBUILD BIN
minfi 1.56.0  (landing page)
Kasper Daniel Hansen
git_last_commit: e6780b4
git_last_commit_date: 2025-10-29 10:09:18 -0500
nebbiolo2Linux (Ubuntu 24.04.3 LTS) / x86_64  OK    OK    OK  UNNEEDED, same version is already published
kjohnson3macOS 13.7.7 Ventura / arm64  OK    OK    OK    OK  UNNEEDED, same version is already published
Package 48/97HostnameOS / ArchINSTALLBUILDCHECKBUILD BIN
MOFA2 1.20.0  (landing page)
Ricard Argelaguet
git_last_commit: 4dd4d60
git_last_commit_date: 2025-10-29 11:03:35 -0500
nebbiolo2Linux (Ubuntu 24.04.3 LTS) / x86_64  OK    OK    WARNINGS  UNNEEDED, same version is already published
kjohnson3macOS 13.7.7 Ventura / arm64  OK    ERROR  skippedskipped
Package 49/97HostnameOS / ArchINSTALLBUILDCHECKBUILD BIN
MuData 1.14.0  (landing page)
Ilia Kats
git_last_commit: b15275d
git_last_commit_date: 2025-10-29 11:15:11 -0500
nebbiolo2Linux (Ubuntu 24.04.3 LTS) / x86_64  OK    OK    OK  UNNEEDED, same version is already published
kjohnson3macOS 13.7.7 Ventura / arm64  OK    OK    OK    OK  UNNEEDED, same version is already published
Package 50/97HostnameOS / ArchINSTALLBUILDCHECKBUILD BIN
MultiAssayExperiment 1.36.0  (landing page)
Marcel Ramos
git_last_commit: 1b8ac6c
git_last_commit_date: 2025-10-29 10:31:09 -0500
nebbiolo2Linux (Ubuntu 24.04.3 LTS) / x86_64  OK    OK    OK  UNNEEDED, same version is already published
kjohnson3macOS 13.7.7 Ventura / arm64  OK    OK    OK    OK  UNNEEDED, same version is already published
Package 51/97HostnameOS / ArchINSTALLBUILDCHECKBUILD BIN
mumosa 1.18.0  (landing page)
Aaron Lun
git_last_commit: 18e57eb
git_last_commit_date: 2025-10-29 11:05:15 -0500
nebbiolo2Linux (Ubuntu 24.04.3 LTS) / x86_64  OK    OK    OK  UNNEEDED, same version is already published
kjohnson3macOS 13.7.7 Ventura / arm64  OK    OK    OK    OK  UNNEEDED, same version is already published
Package 52/97HostnameOS / ArchINSTALLBUILDCHECKBUILD BIN
mutscan 1.0.0  (landing page)
Charlotte Soneson
git_last_commit: 79672e3
git_last_commit_date: 2025-10-29 11:37:32 -0500
nebbiolo2Linux (Ubuntu 24.04.3 LTS) / x86_64  OK    OK    OK  UNNEEDED, same version is already published
kjohnson3macOS 13.7.7 Ventura / arm64  OK    OK    OK    OK  UNNEEDED, same version is already published
Package 53/97HostnameOS / ArchINSTALLBUILDCHECKBUILD BIN
NetActivity 1.12.0  (landing page)
Carlos Ruiz-Arenas
git_last_commit: 2ba9ebf
git_last_commit_date: 2025-10-29 11:19:51 -0500
nebbiolo2Linux (Ubuntu 24.04.3 LTS) / x86_64  OK    OK    OK  UNNEEDED, same version is already published
kjohnson3macOS 13.7.7 Ventura / arm64  OK    OK    OK    OK  UNNEEDED, same version is already published
Package 54/97HostnameOS / ArchINSTALLBUILDCHECKBUILD BIN
netSmooth 1.30.0  (landing page)
Jonathan Ronen
git_last_commit: e53eba9
git_last_commit_date: 2025-10-29 10:45:19 -0500
nebbiolo2Linux (Ubuntu 24.04.3 LTS) / x86_64  OK    OK    OK  UNNEEDED, same version is already published
kjohnson3macOS 13.7.7 Ventura / arm64  OK    OK    OK    OK  UNNEEDED, same version is already published
Package 55/97HostnameOS / ArchINSTALLBUILDCHECKBUILD BIN
NewWave 1.20.0  (landing page)
Federico Agostinis
git_last_commit: abfdb4d
git_last_commit_date: 2025-10-29 11:04:34 -0500
nebbiolo2Linux (Ubuntu 24.04.3 LTS) / x86_64  OK    OK    OK  UNNEEDED, same version is already published
kjohnson3macOS 13.7.7 Ventura / arm64  OK    OK    OK    OK  UNNEEDED, same version is already published
Package 56/97HostnameOS / ArchINSTALLBUILDCHECKBUILD BIN
omicsGMF 1.0.0  (landing page)
Alexandre Segers
git_last_commit: 665af6c
git_last_commit_date: 2025-10-29 11:39:15 -0500
nebbiolo2Linux (Ubuntu 24.04.3 LTS) / x86_64  OK    OK    OK  UNNEEDED, same version is already published
kjohnson3macOS 13.7.7 Ventura / arm64  OK    OK    OK    OK  UNNEEDED, same version is already published
Package 57/97HostnameOS / ArchINSTALLBUILDCHECKBUILD BIN
orthogene 1.16.0  (landing page)
Brian Schilder
git_last_commit: 5b2c79e
git_last_commit_date: 2025-10-29 11:12:11 -0500
nebbiolo2Linux (Ubuntu 24.04.3 LTS) / x86_64  OK    OK    OK  UNNEEDED, same version is already published
kjohnson3macOS 13.7.7 Ventura / arm64  OK    OK    OK    OK  UNNEEDED, same version is already published
Package 58/97HostnameOS / ArchINSTALLBUILDCHECKBUILD BIN
orthos 1.8.0  (landing page)
Panagiotis Papasaikas
git_last_commit: 53e77e2
git_last_commit_date: 2025-10-29 11:24:17 -0500
nebbiolo2Linux (Ubuntu 24.04.3 LTS) / x86_64  OK    OK    OK  UNNEEDED, same version is already published
kjohnson3macOS 13.7.7 Ventura / arm64  OK    ERROR  skippedskipped
Package 59/97HostnameOS / ArchINSTALLBUILDCHECKBUILD BIN
PCAtools 2.22.0  (landing page)
Kevin Blighe
git_last_commit: 8a2f16a
git_last_commit_date: 2025-10-29 10:49:30 -0500
nebbiolo2Linux (Ubuntu 24.04.3 LTS) / x86_64  OK    ERROR  skipped
kjohnson3macOS 13.7.7 Ventura / arm64  OK    ERROR  skippedskipped
Package 60/97HostnameOS / ArchINSTALLBUILDCHECKBUILD BIN
Rarr 1.10.0  (landing page)
Hugo Gruson
git_last_commit: 780b137
git_last_commit_date: 2025-10-29 11:22:21 -0500
nebbiolo2Linux (Ubuntu 24.04.3 LTS) / x86_64  OK    OK    OK  UNNEEDED, same version is already published
kjohnson3macOS 13.7.7 Ventura / arm64  OK    OK    OK    OK  UNNEEDED, same version is already published
Package 61/97HostnameOS / ArchINSTALLBUILDCHECKBUILD BIN
ResidualMatrix 1.20.0  (landing page)
Aaron Lun
git_last_commit: 87f8d9c
git_last_commit_date: 2025-10-29 11:02:07 -0500
nebbiolo2Linux (Ubuntu 24.04.3 LTS) / x86_64  OK    OK    OK  UNNEEDED, same version is already published
kjohnson3macOS 13.7.7 Ventura / arm64  OK    OK    OK    OK  UNNEEDED, same version is already published
Package 62/97HostnameOS / ArchINSTALLBUILDCHECKBUILD BIN
rhdf5client 1.32.0  (landing page)
Alexey Sergushichev
git_last_commit: 425507e
git_last_commit_date: 2025-10-29 10:41:39 -0500
nebbiolo2Linux (Ubuntu 24.04.3 LTS) / x86_64  OK    OK    OK  UNNEEDED, same version is already published
kjohnson3macOS 13.7.7 Ventura / arm64  OK    OK    OK    OK  UNNEEDED, same version is already published
Package 63/97HostnameOS / ArchINSTALLBUILDCHECKBUILD BIN
RTCGAToolbox 2.40.0  (landing page)
Marcel Ramos
git_last_commit: 7f9df8a
git_last_commit_date: 2025-10-29 10:26:09 -0500
nebbiolo2Linux (Ubuntu 24.04.3 LTS) / x86_64  OK    OK    OK  UNNEEDED, same version is already published
kjohnson3macOS 13.7.7 Ventura / arm64  OK    OK    OK    OK  UNNEEDED, same version is already published
Package 64/97HostnameOS / ArchINSTALLBUILDCHECKBUILD BIN
ScaledMatrix 1.18.0  (landing page)
Aaron Lun
git_last_commit: 2bcf86d
git_last_commit_date: 2025-10-29 11:05:33 -0500
nebbiolo2Linux (Ubuntu 24.04.3 LTS) / x86_64  OK    OK    OK  UNNEEDED, same version is already published
kjohnson3macOS 13.7.7 Ventura / arm64  OK    OK    OK    OK  UNNEEDED, same version is already published
Package 65/97HostnameOS / ArchINSTALLBUILDCHECKBUILD BIN
SCArray 1.18.0  (landing page)
Xiuwen Zheng
git_last_commit: f7d874a
git_last_commit_date: 2025-10-29 11:05:31 -0500
nebbiolo2Linux (Ubuntu 24.04.3 LTS) / x86_64  OK    OK    OK  UNNEEDED, same version is already published
kjohnson3macOS 13.7.7 Ventura / arm64  OK    OK    OK    OK  UNNEEDED, same version is already published
Package 66/97HostnameOS / ArchINSTALLBUILDCHECKBUILD BIN
SCArray.sat 1.10.0  (landing page)
Xiuwen Zheng
git_last_commit: f783501
git_last_commit_date: 2025-10-29 11:22:05 -0500
nebbiolo2Linux (Ubuntu 24.04.3 LTS) / x86_64  OK    ERROR  skipped
kjohnson3macOS 13.7.7 Ventura / arm64  OK    ERROR  skippedskipped
Package 67/97HostnameOS / ArchINSTALLBUILDCHECKBUILD BIN
scater 1.38.0  (landing page)
Alan O'Callaghan
git_last_commit: 64e2b5e
git_last_commit_date: 2025-10-29 10:30:01 -0500
nebbiolo2Linux (Ubuntu 24.04.3 LTS) / x86_64  OK    OK    OK  UNNEEDED, same version is already published
kjohnson3macOS 13.7.7 Ventura / arm64  OK    OK    ERROR    OK  
Package 68/97HostnameOS / ArchINSTALLBUILDCHECKBUILD BIN
scDblFinder 1.24.0  (landing page)
Pierre-Luc Germain
git_last_commit: 0336756
git_last_commit_date: 2025-10-29 10:55:23 -0500
nebbiolo2Linux (Ubuntu 24.04.3 LTS) / x86_64  OK    OK    OK  UNNEEDED, same version is already published
kjohnson3macOS 13.7.7 Ventura / arm64  OK    OK    OK    OK  UNNEEDED, same version is already published
Package 69/97HostnameOS / ArchINSTALLBUILDCHECKBUILD BIN
scFeatures 1.10.0  (landing page)
Yue Cao
git_last_commit: 6a2b3d3
git_last_commit_date: 2025-10-29 11:20:52 -0500
nebbiolo2Linux (Ubuntu 24.04.3 LTS) / x86_64  OK    OK    ERROR  
kjohnson3macOS 13.7.7 Ventura / arm64  OK    OK    ERROR    OK  
Package 70/97HostnameOS / ArchINSTALLBUILDCHECKBUILD BIN
scMerge 1.26.0  (landing page)
Yingxin Lin
git_last_commit: d9249c9
git_last_commit_date: 2025-10-29 10:51:54 -0500
nebbiolo2Linux (Ubuntu 24.04.3 LTS) / x86_64  OK    OK    OK  UNNEEDED, same version is already published
kjohnson3macOS 13.7.7 Ventura / arm64  OK    OK    OK    OK  UNNEEDED, same version is already published
Package 71/97HostnameOS / ArchINSTALLBUILDCHECKBUILD BIN
scmeth 1.30.0  (landing page)
Divy Kangeyan
git_last_commit: 0e01390
git_last_commit_date: 2025-10-29 10:43:21 -0500
nebbiolo2Linux (Ubuntu 24.04.3 LTS) / x86_64  OK    OK    OK  UNNEEDED, same version is already published
kjohnson3macOS 13.7.7 Ventura / arm64  OK    OK    OK    OK  UNNEEDED, same version is already published
Package 72/97HostnameOS / ArchINSTALLBUILDCHECKBUILD BIN
scPCA 1.24.0  (landing page)
Philippe Boileau
git_last_commit: 49d6aeb
git_last_commit_date: 2025-10-29 10:55:26 -0500
nebbiolo2Linux (Ubuntu 24.04.3 LTS) / x86_64  OK    OK    OK  UNNEEDED, same version is already published
kjohnson3macOS 13.7.7 Ventura / arm64  OK    OK    OK    OK  UNNEEDED, same version is already published
Package 73/97HostnameOS / ArchINSTALLBUILDCHECKBUILD BIN
scran 1.38.0  (landing page)
Aaron Lun
git_last_commit: 50cb1ba
git_last_commit_date: 2025-10-29 10:31:34 -0500
nebbiolo2Linux (Ubuntu 24.04.3 LTS) / x86_64  OK    OK    WARNINGS  UNNEEDED, same version is already published
kjohnson3macOS 13.7.7 Ventura / arm64  OK    OK    WARNINGS    OK  UNNEEDED, same version is already published
Package 74/97HostnameOS / ArchINSTALLBUILDCHECKBUILD BIN
scrapper 1.4.0  (landing page)
Aaron Lun
git_last_commit: 4de467a
git_last_commit_date: 2025-10-29 11:32:02 -0500
nebbiolo2Linux (Ubuntu 24.04.3 LTS) / x86_64  OK    OK    WARNINGS  UNNEEDED, same version is already published
kjohnson3macOS 13.7.7 Ventura / arm64  OK    OK    WARNINGS    OK  UNNEEDED, same version is already published
Package 75/97HostnameOS / ArchINSTALLBUILDCHECKBUILD BIN
scry 1.22.0  (landing page)
Kelly Street
git_last_commit: a608ad1
git_last_commit_date: 2025-10-29 10:59:07 -0500
nebbiolo2Linux (Ubuntu 24.04.3 LTS) / x86_64  OK    OK    OK  UNNEEDED, same version is already published
kjohnson3macOS 13.7.7 Ventura / arm64  OK    OK    OK    OK  UNNEEDED, same version is already published
Package 76/97HostnameOS / ArchINSTALLBUILDCHECKBUILD BIN
scuttle 1.20.0  (landing page)
Aaron Lun
git_last_commit: 2796dbd
git_last_commit_date: 2025-10-29 10:59:47 -0500
nebbiolo2Linux (Ubuntu 24.04.3 LTS) / x86_64  OK    OK    OK  UNNEEDED, same version is already published
kjohnson3macOS 13.7.7 Ventura / arm64  OK    OK    OK    OK  UNNEEDED, same version is already published
Package 77/97HostnameOS / ArchINSTALLBUILDCHECKBUILD BIN
signatureSearch 1.24.0  (landing page)
Brendan Gongol
git_last_commit: ce6ab95
git_last_commit_date: 2025-10-29 10:55:44 -0500
nebbiolo2Linux (Ubuntu 24.04.3 LTS) / x86_64  OK    OK    OK  UNNEEDED, same version is already published
kjohnson3macOS 13.7.7 Ventura / arm64  OK    OK    OK    OK  UNNEEDED, same version is already published
Package 78/97HostnameOS / ArchINSTALLBUILDCHECKBUILD BIN
SingleCellAlleleExperiment 1.6.0  (landing page)
Jonas Schuck
git_last_commit: f2f4799
git_last_commit_date: 2025-10-29 11:30:07 -0500
nebbiolo2Linux (Ubuntu 24.04.3 LTS) / x86_64  OK    OK    OK  UNNEEDED, same version is already published
kjohnson3macOS 13.7.7 Ventura / arm64  OK    OK    OK    OK  UNNEEDED, same version is already published
Package 79/97HostnameOS / ArchINSTALLBUILDCHECKBUILD BIN
SingleCellExperiment 1.32.0  (landing page)
Davide Risso
git_last_commit: db7133e
git_last_commit_date: 2025-10-29 10:39:29 -0500
nebbiolo2Linux (Ubuntu 24.04.3 LTS) / x86_64  OK    OK    OK  UNNEEDED, same version is already published
kjohnson3macOS 13.7.7 Ventura / arm64  OK    OK    OK    OK  UNNEEDED, same version is already published
Package 80/97HostnameOS / ArchINSTALLBUILDCHECKBUILD BIN
singleCellTK 2.20.0  (landing page)
Joshua David Campbell
git_last_commit: e2bff7b
git_last_commit_date: 2025-10-29 11:29:49 -0500
nebbiolo2Linux (Ubuntu 24.04.3 LTS) / x86_64  OK    OK    OK  UNNEEDED, same version is already published
kjohnson3macOS 13.7.7 Ventura / arm64  OK    OK    OK    OK  UNNEEDED, same version is already published
Package 81/97HostnameOS / ArchINSTALLBUILDCHECKBUILD BIN
SingleR 2.12.0  (landing page)
Aaron Lun
git_last_commit: 39ca8d4
git_last_commit_date: 2025-10-29 10:54:00 -0500
nebbiolo2Linux (Ubuntu 24.04.3 LTS) / x86_64  OK    OK    OK  UNNEEDED, same version is already published
kjohnson3macOS 13.7.7 Ventura / arm64  OK    OK    OK    OK  UNNEEDED, same version is already published
Package 82/97HostnameOS / ArchINSTALLBUILDCHECKBUILD BIN
sketchR 1.6.0  (landing page)
Charlotte Soneson
git_last_commit: b2a0713
git_last_commit_date: 2025-10-29 11:28:06 -0500
nebbiolo2Linux (Ubuntu 24.04.3 LTS) / x86_64  OK    OK    OK  UNNEEDED, same version is already published
kjohnson3macOS 13.7.7 Ventura / arm64  OK    OK    OK    OK  UNNEEDED, same version is already published
Package 83/97HostnameOS / ArchINSTALLBUILDCHECKBUILD BIN
SpliceWiz 1.12.0  (landing page)
Alex Chit Hei Wong
git_last_commit: 1767347
git_last_commit_date: 2025-10-29 11:17:35 -0500
nebbiolo2Linux (Ubuntu 24.04.3 LTS) / x86_64  OK    OK    WARNINGS  UNNEEDED, same version is already published
kjohnson3macOS 13.7.7 Ventura / arm64  OK    OK    WARNINGS    OK  UNNEEDED, same version is already published
Package 84/97HostnameOS / ArchINSTALLBUILDCHECKBUILD BIN
SQLDataFrame 1.24.0  (landing page)
Qian Liu
git_last_commit: 950203b
git_last_commit_date: 2025-10-29 10:52:35 -0500
nebbiolo2Linux (Ubuntu 24.04.3 LTS) / x86_64  OK    OK    ERROR  
kjohnson3macOS 13.7.7 Ventura / arm64  OK    OK    ERROR    OK  
Package 85/97HostnameOS / ArchINSTALLBUILDCHECKBUILD BIN
SummarizedExperiment 1.40.0  (landing page)
Hervé Pagès
git_last_commit: 469a2de
git_last_commit_date: 2025-10-29 14:00:01 -0500
nebbiolo2Linux (Ubuntu 24.04.3 LTS) / x86_64  OK    OK    OK  UNNEEDED, same version is already published
kjohnson3macOS 13.7.7 Ventura / arm64  OK    OK    OK    OK  UNNEEDED, same version is already published
Package 86/97HostnameOS / ArchINSTALLBUILDCHECKBUILD BIN
TileDBArray 1.20.0  (landing page)
Aaron Lun
git_last_commit: e9b1538
git_last_commit_date: 2025-10-29 11:02:23 -0500
nebbiolo2Linux (Ubuntu 24.04.3 LTS) / x86_64  OK    OK    OK  UNNEEDED, same version is already published
kjohnson3macOS 13.7.7 Ventura / arm64  OK    OK    OK    OK  UNNEEDED, same version is already published
Package 87/97HostnameOS / ArchINSTALLBUILDCHECKBUILD BIN
transformGamPoi 1.16.0  (landing page)
Constantin Ahlmann-Eltze
git_last_commit: aca099c
git_last_commit_date: 2025-10-29 11:12:07 -0500
nebbiolo2Linux (Ubuntu 24.04.3 LTS) / x86_64  OK    OK    OK  UNNEEDED, same version is already published
kjohnson3macOS 13.7.7 Ventura / arm64  OK    OK    OK    OK  UNNEEDED, same version is already published
Package 88/97HostnameOS / ArchINSTALLBUILDCHECKBUILD BIN
TSCAN 1.48.0  (landing page)
Zhicheng Ji
git_last_commit: 7f095e0
git_last_commit_date: 2025-10-29 10:21:25 -0500
nebbiolo2Linux (Ubuntu 24.04.3 LTS) / x86_64  OK    OK    OK  UNNEEDED, same version is already published
kjohnson3macOS 13.7.7 Ventura / arm64  OK    OK    OK    OK  UNNEEDED, same version is already published
Package 89/97HostnameOS / ArchINSTALLBUILDCHECKBUILD BIN
VariantExperiment 1.24.0  (landing page)
Qian Liu
git_last_commit: 4846558
git_last_commit_date: 2025-10-29 10:53:44 -0500
nebbiolo2Linux (Ubuntu 24.04.3 LTS) / x86_64  OK    OK    OK  UNNEEDED, same version is already published
kjohnson3macOS 13.7.7 Ventura / arm64  OK    ERROR  skippedskipped
Package 90/97HostnameOS / ArchINSTALLBUILDCHECKBUILD BIN
VCFArray 1.26.0  (landing page)
Qian Liu
git_last_commit: 830be92
git_last_commit_date: 2025-10-29 10:49:16 -0500
nebbiolo2Linux (Ubuntu 24.04.3 LTS) / x86_64  OK    OK    OK  UNNEEDED, same version is already published
kjohnson3macOS 13.7.7 Ventura / arm64  OK    OK    OK    OK  UNNEEDED, same version is already published
Package 91/97HostnameOS / ArchINSTALLBUILDCHECKBUILD BIN
velociraptor 1.20.0  (landing page)
Kevin Rue-Albrecht
git_last_commit: 67b4a9e
git_last_commit_date: 2025-10-29 11:02:39 -0500
nebbiolo2Linux (Ubuntu 24.04.3 LTS) / x86_64  OK    OK    OK  UNNEEDED, same version is already published
kjohnson3macOS 13.7.7 Ventura / arm64  OK    OK    OK    OK  UNNEEDED, same version is already published
Package 92/97HostnameOS / ArchINSTALLBUILDCHECKBUILD BIN
vmrseq 1.2.0  (landing page)
Ning Shen
git_last_commit: 3ca9867
git_last_commit_date: 2025-10-29 11:35:54 -0500
nebbiolo2Linux (Ubuntu 24.04.3 LTS) / x86_64  OK    OK    OK  UNNEEDED, same version is already published
kjohnson3macOS 13.7.7 Ventura / arm64  OK    OK    OK    OK  UNNEEDED, same version is already published
Package 93/97HostnameOS / ArchINSTALLBUILDCHECKBUILD BIN
Voyager 1.12.0  (landing page)
Lambda Moses
git_last_commit: d689ab8
git_last_commit_date: 2025-10-29 11:19:14 -0500
nebbiolo2Linux (Ubuntu 24.04.3 LTS) / x86_64  OK    OK    WARNINGS  UNNEEDED, same version is already published
kjohnson3macOS 13.7.7 Ventura / arm64  OK    OK    WARNINGS    OK  UNNEEDED, same version is already published
Package 94/97HostnameOS / ArchINSTALLBUILDCHECKBUILD BIN
weitrix 1.22.0  (landing page)
Paul Harrison
git_last_commit: 46b4f6c
git_last_commit_date: 2025-10-29 10:59:24 -0500
nebbiolo2Linux (Ubuntu 24.04.3 LTS) / x86_64  OK    OK    OK  UNNEEDED, same version is already published
kjohnson3macOS 13.7.7 Ventura / arm64  OK    OK    OK    OK  UNNEEDED, same version is already published
Package 95/97HostnameOS / ArchINSTALLBUILDCHECKBUILD BIN
xcore 1.14.0  (landing page)
Maciej Migdał
git_last_commit: b03d46b
git_last_commit_date: 2025-10-29 11:15:21 -0500
nebbiolo2Linux (Ubuntu 24.04.3 LTS) / x86_64  OK    OK    OK  UNNEEDED, same version is already published
kjohnson3macOS 13.7.7 Ventura / arm64  OK    OK    OK    OK  UNNEEDED, same version is already published
Package 96/97HostnameOS / ArchINSTALLBUILDCHECKBUILD BIN
zellkonverter 1.20.0  (landing page)
Luke Zappia
git_last_commit: cf55b0f
git_last_commit_date: 2025-10-29 11:01:36 -0500
nebbiolo2Linux (Ubuntu 24.04.3 LTS) / x86_64  OK    OK    OK  UNNEEDED, same version is already published
kjohnson3macOS 13.7.7 Ventura / arm64  OK    ERROR  skippedskipped
Package 97/97HostnameOS / ArchINSTALLBUILDCHECKBUILD BIN
ZygosityPredictor 1.10.0  (landing page)
Marco Rheinnecker
git_last_commit: 52dc6d0
git_last_commit_date: 2025-10-29 11:22:08 -0500
nebbiolo2Linux (Ubuntu 24.04.3 LTS) / x86_64  OK    OK    OK  UNNEEDED, same version is already published
kjohnson3macOS 13.7.7 Ventura / arm64  OK    OK    OK    OK  UNNEEDED, same version is already published