| Back to Multiple platform build/check report for BioC 3.22: simplified long |
|
This page was generated on 2025-10-23 12:03 -0400 (Thu, 23 Oct 2025).
| Hostname | OS | Arch (*) | R version | Installed pkgs |
|---|---|---|---|---|
| nebbiolo2 | Linux (Ubuntu 24.04.3 LTS) | x86_64 | 4.5.1 Patched (2025-08-23 r88802) -- "Great Square Root" | 4894 |
| lconway | macOS 12.7.6 Monterey | x86_64 | 4.5.1 Patched (2025-09-10 r88807) -- "Great Square Root" | 4684 |
| kjohnson3 | macOS 13.7.7 Ventura | arm64 | 4.5.1 Patched (2025-09-10 r88807) -- "Great Square Root" | 4629 |
| taishan | Linux (openEuler 24.03 LTS) | aarch64 | 4.5.0 (2025-04-11) -- "How About a Twenty-Six" | 4642 |
| Click on any hostname to see more info about the system (e.g. compilers) (*) as reported by 'uname -p', except on Windows and Mac OS X | ||||
| Package 964/2355 | Hostname | OS / Arch | INSTALL | BUILD | CHECK | BUILD BIN | ||||||||
| HelloRanges 1.35.2 (landing page) Michael Lawrence
| nebbiolo2 | Linux (Ubuntu 24.04.3 LTS) / x86_64 | OK | OK | OK | |||||||||
| lconway | macOS 12.7.6 Monterey / x86_64 | OK | OK | OK | OK | |||||||||
| kjohnson3 | macOS 13.7.7 Ventura / arm64 | OK | OK | OK | OK | |||||||||
| taishan | Linux (openEuler 24.03 LTS) / aarch64 | OK | OK | NA | ||||||||||
|
To the developers/maintainers of the HelloRanges package: - Allow up to 24 hours (and sometimes 48 hours) for your latest push to git@git.bioconductor.org:packages/HelloRanges.git to reflect on this report. See Troubleshooting Build Report for more information. - Use the following Renviron settings to reproduce errors and warnings. - If 'R CMD check' started to fail recently on the Linux builder(s) over a missing dependency, add the missing dependency to 'Suggests:' in your DESCRIPTION file. See Renviron.bioc for more information. |
| Package: HelloRanges |
| Version: 1.35.2 |
| Command: /home/biocbuild/bbs-3.22-bioc/R/bin/R CMD check --install=check:HelloRanges.install-out.txt --library=/home/biocbuild/bbs-3.22-bioc/R/site-library --timings HelloRanges_1.35.2.tar.gz |
| StartedAt: 2025-10-23 00:44:46 -0400 (Thu, 23 Oct 2025) |
| EndedAt: 2025-10-23 00:52:53 -0400 (Thu, 23 Oct 2025) |
| EllapsedTime: 486.4 seconds |
| RetCode: 0 |
| Status: OK |
| CheckDir: HelloRanges.Rcheck |
| Warnings: 0 |
##############################################################################
##############################################################################
###
### Running command:
###
### /home/biocbuild/bbs-3.22-bioc/R/bin/R CMD check --install=check:HelloRanges.install-out.txt --library=/home/biocbuild/bbs-3.22-bioc/R/site-library --timings HelloRanges_1.35.2.tar.gz
###
##############################################################################
##############################################################################
* using log directory ‘/home/biocbuild/bbs-3.22-bioc/meat/HelloRanges.Rcheck’
* using R version 4.5.1 Patched (2025-08-23 r88802)
* using platform: x86_64-pc-linux-gnu
* R was compiled by
gcc (Ubuntu 13.3.0-6ubuntu2~24.04) 13.3.0
GNU Fortran (Ubuntu 13.3.0-6ubuntu2~24.04) 13.3.0
* running under: Ubuntu 24.04.3 LTS
* using session charset: UTF-8
* checking for file ‘HelloRanges/DESCRIPTION’ ... OK
* checking extension type ... Package
* this is package ‘HelloRanges’ version ‘1.35.2’
* checking package namespace information ... OK
* checking package dependencies ... INFO
Depends: includes the non-default packages:
'BiocGenerics', 'S4Vectors', 'IRanges', 'GenomicRanges',
'Biostrings', 'BSgenome', 'GenomicFeatures', 'VariantAnnotation',
'Rsamtools', 'GenomicAlignments', 'rtracklayer', 'Seqinfo',
'SummarizedExperiment', 'BiocIO'
Adding so many packages to the search path is excessive and importing
selectively is preferable.
* checking if this is a source package ... OK
* checking if there is a namespace ... OK
* checking for hidden files and directories ... OK
* checking for portable file names ... OK
* checking for sufficient/correct file permissions ... OK
* checking whether package ‘HelloRanges’ can be installed ... OK
* checking installed package size ... OK
* checking package directory ... OK
* checking ‘build’ directory ... OK
* checking DESCRIPTION meta-information ... OK
* checking top-level files ... OK
* checking for left-over files ... OK
* checking index information ... OK
* checking package subdirectories ... OK
* checking code files for non-ASCII characters ... OK
* checking R files for syntax errors ... OK
* checking whether the package can be loaded ... OK
* checking whether the package can be loaded with stated dependencies ... OK
* checking whether the package can be unloaded cleanly ... OK
* checking whether the namespace can be loaded with stated dependencies ... OK
* checking whether the namespace can be unloaded cleanly ... OK
* checking loading without being on the library search path ... OK
* checking dependencies in R code ... NOTE
Packages in Depends field not imported from:
‘BSgenome’ ‘GenomicAlignments’ ‘GenomicFeatures’ ‘VariantAnnotation’
These packages need to be imported from (in the NAMESPACE file)
for when this namespace is loaded but not attached.
Unexported objects imported by ':::' calls:
‘BiocGenerics:::testPackage’ ‘IRanges:::subgrouping’
‘S4Vectors:::make_zero_col_DataFrame’
See the note in ?`:::` about the use of this operator.
* checking S3 generic/method consistency ... OK
* checking replacement functions ... OK
* checking foreign function calls ... OK
* checking R code for possible problems ... OK
* checking Rd files ... NOTE
checkRd: (-1) bedtools_groupby.Rd:95: Lost braces
95 | \code{freq}{\code{table(X)}}
| ^
checkRd: (-1) bedtools_groupby.Rd:96: Lost braces
96 | \code{first}{\code{drop(heads(X, 1L))}}
| ^
checkRd: (-1) bedtools_groupby.Rd:97: Lost braces
97 | \code{last}{\code{drop(tails(X, 1L))}}
| ^
* checking Rd metadata ... OK
* checking Rd cross-references ... NOTE
Found the following Rd file(s) with Rd \link{} targets missing package
anchors:
bedtools_merge.Rd: reduce
bedtools_unionbedg.Rd: as.matrix,AtomicList-method
Please provide package anchors for all Rd \link{} targets not in the
package itself and the base packages.
* checking for missing documentation entries ... OK
* checking for code/documentation mismatches ... OK
* checking Rd \usage sections ... OK
* checking Rd contents ... OK
* checking for unstated dependencies in examples ... OK
* checking files in ‘vignettes’ ... OK
* checking examples ... OK
* checking for unstated dependencies in ‘tests’ ... OK
* checking tests ...
Running ‘HelloRanges_unit_tests.R’
OK
* checking for unstated dependencies in vignettes ... OK
* checking package vignettes ... OK
* checking re-building of vignette outputs ... OK
* checking PDF version of manual ... OK
* DONE
Status: 3 NOTEs
See
‘/home/biocbuild/bbs-3.22-bioc/meat/HelloRanges.Rcheck/00check.log’
for details.
HelloRanges.Rcheck/00install.out
############################################################################## ############################################################################## ### ### Running command: ### ### /home/biocbuild/bbs-3.22-bioc/R/bin/R CMD INSTALL HelloRanges ### ############################################################################## ############################################################################## * installing to library ‘/home/biocbuild/bbs-3.22-bioc/R/site-library’ * installing *source* package ‘HelloRanges’ ... ** this is package ‘HelloRanges’ version ‘1.35.2’ ** using staged installation ** R ** inst ** byte-compile and prepare package for lazy loading ** help *** installing help indices ** building package indices ** installing vignettes ** testing if installed package can be loaded from temporary location ** testing if installed package can be loaded from final location ** testing if installed package keeps a record of temporary installation path * DONE (HelloRanges)
HelloRanges.Rcheck/tests/HelloRanges_unit_tests.Rout
R version 4.5.1 Patched (2025-08-23 r88802) -- "Great Square Root"
Copyright (C) 2025 The R Foundation for Statistical Computing
Platform: x86_64-pc-linux-gnu
R is free software and comes with ABSOLUTELY NO WARRANTY.
You are welcome to redistribute it under certain conditions.
Type 'license()' or 'licence()' for distribution details.
R is a collaborative project with many contributors.
Type 'contributors()' for more information and
'citation()' on how to cite R or R packages in publications.
Type 'demo()' for some demos, 'help()' for on-line help, or
'help.start()' for an HTML browser interface to help.
Type 'q()' to quit R.
> require("HelloRanges") || stop("unable to load HelloRanges package")
Loading required package: HelloRanges
Loading required package: BiocGenerics
Loading required package: generics
Attaching package: 'generics'
The following objects are masked from 'package:base':
as.difftime, as.factor, as.ordered, intersect, is.element, setdiff,
setequal, union
Attaching package: 'BiocGenerics'
The following objects are masked from 'package:stats':
IQR, mad, sd, var, xtabs
The following objects are masked from 'package:base':
Filter, Find, Map, Position, Reduce, anyDuplicated, aperm, append,
as.data.frame, basename, cbind, colnames, dirname, do.call,
duplicated, eval, evalq, get, grep, grepl, is.unsorted, lapply,
mapply, match, mget, order, paste, pmax, pmax.int, pmin, pmin.int,
rank, rbind, rownames, sapply, saveRDS, table, tapply, unique,
unsplit, which.max, which.min
Loading required package: S4Vectors
Loading required package: stats4
Attaching package: 'S4Vectors'
The following object is masked from 'package:utils':
findMatches
The following objects are masked from 'package:base':
I, expand.grid, unname
Loading required package: IRanges
Loading required package: GenomicRanges
Loading required package: Seqinfo
Loading required package: Biostrings
Loading required package: XVector
Attaching package: 'Biostrings'
The following object is masked from 'package:base':
strsplit
Loading required package: BSgenome
Loading required package: BiocIO
Loading required package: rtracklayer
Loading required package: GenomicFeatures
Loading required package: AnnotationDbi
Loading required package: Biobase
Welcome to Bioconductor
Vignettes contain introductory material; view with
'browseVignettes()'. To cite Bioconductor, see
'citation("Biobase")', and for packages 'citation("pkgname")'.
Loading required package: VariantAnnotation
Loading required package: MatrixGenerics
Loading required package: matrixStats
Attaching package: 'matrixStats'
The following objects are masked from 'package:Biobase':
anyMissing, rowMedians
Attaching package: 'MatrixGenerics'
The following objects are masked from 'package:matrixStats':
colAlls, colAnyNAs, colAnys, colAvgsPerRowSet, colCollapse,
colCounts, colCummaxs, colCummins, colCumprods, colCumsums,
colDiffs, colIQRDiffs, colIQRs, colLogSumExps, colMadDiffs,
colMads, colMaxs, colMeans2, colMedians, colMins, colOrderStats,
colProds, colQuantiles, colRanges, colRanks, colSdDiffs, colSds,
colSums2, colTabulates, colVarDiffs, colVars, colWeightedMads,
colWeightedMeans, colWeightedMedians, colWeightedSds,
colWeightedVars, rowAlls, rowAnyNAs, rowAnys, rowAvgsPerColSet,
rowCollapse, rowCounts, rowCummaxs, rowCummins, rowCumprods,
rowCumsums, rowDiffs, rowIQRDiffs, rowIQRs, rowLogSumExps,
rowMadDiffs, rowMads, rowMaxs, rowMeans2, rowMedians, rowMins,
rowOrderStats, rowProds, rowQuantiles, rowRanges, rowRanks,
rowSdDiffs, rowSds, rowSums2, rowTabulates, rowVarDiffs, rowVars,
rowWeightedMads, rowWeightedMeans, rowWeightedMedians,
rowWeightedSds, rowWeightedVars
The following object is masked from 'package:Biobase':
rowMedians
Loading required package: SummarizedExperiment
Loading required package: Rsamtools
Attaching package: 'VariantAnnotation'
The following object is masked from 'package:base':
tabulate
Loading required package: GenomicAlignments
[1] TRUE
> HelloRanges:::.test()
RUNIT TEST PROTOCOL -- Thu Oct 23 00:49:44 2025
***********************************************
Number of test functions: 17
Number of errors: 0
Number of failures: 0
1 Test Suite :
HelloRanges RUnit Tests - 17 test functions, 0 errors, 0 failures
Number of test functions: 17
Number of errors: 0
Number of failures: 0
>
> proc.time()
user system elapsed
43.367 0.816 44.739
HelloRanges.Rcheck/HelloRanges-Ex.timings
| name | user | system | elapsed | |
| bedtools_closest | 0.240 | 0.001 | 0.240 | |
| bedtools_complement | 0.015 | 0.005 | 0.020 | |
| bedtools_coverage | 0.109 | 0.031 | 0.140 | |
| bedtools_flank | 0.088 | 0.014 | 0.102 | |
| bedtools_genomecov | 0.194 | 0.017 | 0.211 | |
| bedtools_getfasta | 0.040 | 0.000 | 0.039 | |
| bedtools_groupby | 0.049 | 0.000 | 0.048 | |
| bedtools_intersect | 0.473 | 0.001 | 0.533 | |
| bedtools_jaccard | 0.090 | 0.000 | 0.089 | |
| bedtools_makewindows | 0.871 | 0.000 | 0.872 | |
| bedtools_map | 0.152 | 0.000 | 0.152 | |
| bedtools_merge | 0.151 | 0.001 | 0.151 | |
| bedtools_multiinter | 0.063 | 0.000 | 0.063 | |
| bedtools_nuc | 0.043 | 0.000 | 0.043 | |
| bedtools_shift | 0.051 | 0.000 | 0.051 | |
| bedtools_slop | 0.054 | 0.000 | 0.054 | |
| bedtools_subtract | 0.105 | 0.002 | 0.107 | |
| bedtools_unionbedg | 0.046 | 0.007 | 0.053 | |
| distmode | 0.002 | 0.000 | 0.002 | |