| Back to Multiple platform build/check report for BioC 3.22: simplified long |
|
This page was generated on 2025-10-25 12:03 -0400 (Sat, 25 Oct 2025).
| Hostname | OS | Arch (*) | R version | Installed pkgs |
|---|---|---|---|---|
| nebbiolo2 | Linux (Ubuntu 24.04.3 LTS) | x86_64 | 4.5.1 Patched (2025-08-23 r88802) -- "Great Square Root" | 4901 |
| lconway | macOS 12.7.6 Monterey | x86_64 | 4.5.1 Patched (2025-09-10 r88807) -- "Great Square Root" | 4691 |
| kjohnson3 | macOS 13.7.7 Ventura | arm64 | 4.5.1 Patched (2025-09-10 r88807) -- "Great Square Root" | 4637 |
| taishan | Linux (openEuler 24.03 LTS) | aarch64 | 4.5.0 (2025-04-11) -- "How About a Twenty-Six" | 4658 |
| Click on any hostname to see more info about the system (e.g. compilers) (*) as reported by 'uname -p', except on Windows and Mac OS X | ||||
| Package 1356/2361 | Hostname | OS / Arch | INSTALL | BUILD | CHECK | BUILD BIN | ||||||||
| MOSClip 1.3.3 (landing page) Paolo Martini
| nebbiolo2 | Linux (Ubuntu 24.04.3 LTS) / x86_64 | OK | OK | OK | |||||||||
| lconway | macOS 12.7.6 Monterey / x86_64 | OK | OK | OK | OK | |||||||||
| kjohnson3 | macOS 13.7.7 Ventura / arm64 | OK | OK | OK | OK | |||||||||
| taishan | Linux (openEuler 24.03 LTS) / aarch64 | OK | NA | NA | ||||||||||
|
To the developers/maintainers of the MOSClip package: - Allow up to 24 hours (and sometimes 48 hours) for your latest push to git@git.bioconductor.org:packages/MOSClip.git to reflect on this report. See Troubleshooting Build Report for more information. - Use the following Renviron settings to reproduce errors and warnings. - If 'R CMD check' started to fail recently on the Linux builder(s) over a missing dependency, add the missing dependency to 'Suggests:' in your DESCRIPTION file. See Renviron.bioc for more information. |
| Package: MOSClip |
| Version: 1.3.3 |
| Command: /home/biocbuild/bbs-3.22-bioc/R/bin/R CMD check --install=check:MOSClip.install-out.txt --library=/home/biocbuild/bbs-3.22-bioc/R/site-library --timings MOSClip_1.3.3.tar.gz |
| StartedAt: 2025-10-25 01:45:43 -0400 (Sat, 25 Oct 2025) |
| EndedAt: 2025-10-25 01:54:08 -0400 (Sat, 25 Oct 2025) |
| EllapsedTime: 505.4 seconds |
| RetCode: 0 |
| Status: OK |
| CheckDir: MOSClip.Rcheck |
| Warnings: 0 |
##############################################################################
##############################################################################
###
### Running command:
###
### /home/biocbuild/bbs-3.22-bioc/R/bin/R CMD check --install=check:MOSClip.install-out.txt --library=/home/biocbuild/bbs-3.22-bioc/R/site-library --timings MOSClip_1.3.3.tar.gz
###
##############################################################################
##############################################################################
* using log directory ‘/home/biocbuild/bbs-3.22-bioc/meat/MOSClip.Rcheck’
* using R version 4.5.1 Patched (2025-08-23 r88802)
* using platform: x86_64-pc-linux-gnu
* R was compiled by
gcc (Ubuntu 13.3.0-6ubuntu2~24.04) 13.3.0
GNU Fortran (Ubuntu 13.3.0-6ubuntu2~24.04) 13.3.0
* running under: Ubuntu 24.04.3 LTS
* using session charset: UTF-8
* checking for file ‘MOSClip/DESCRIPTION’ ... OK
* this is package ‘MOSClip’ version ‘1.3.3’
* package encoding: UTF-8
* checking package namespace information ... OK
* checking package dependencies ... INFO
Imports includes 27 non-default packages.
Importing from so many packages makes the package vulnerable to any of
them becoming unavailable. Move as many as possible to Suggests and
use conditionally.
* checking if this is a source package ... OK
* checking if there is a namespace ... OK
* checking for hidden files and directories ... OK
* checking for portable file names ... OK
* checking for sufficient/correct file permissions ... OK
* checking whether package ‘MOSClip’ can be installed ... OK
* checking installed package size ... OK
* checking package directory ... OK
* checking ‘build’ directory ... OK
* checking DESCRIPTION meta-information ... OK
* checking top-level files ... OK
* checking for left-over files ... OK
* checking index information ... OK
* checking package subdirectories ... OK
* checking code files for non-ASCII characters ... OK
* checking R files for syntax errors ... OK
* checking whether the package can be loaded ... OK
* checking whether the package can be loaded with stated dependencies ... OK
* checking whether the package can be unloaded cleanly ... OK
* checking whether the namespace can be loaded with stated dependencies ... OK
* checking whether the namespace can be unloaded cleanly ... OK
* checking loading without being on the library search path ... OK
* checking dependencies in R code ... OK
* checking S3 generic/method consistency ... OK
* checking replacement functions ... OK
* checking foreign function calls ... OK
* checking R code for possible problems ... OK
* checking Rd files ... OK
* checking Rd metadata ... OK
* checking Rd cross-references ... NOTE
Found the following Rd file(s) with Rd \link{} targets missing package
anchors:
makeOmics.Rd: ExperimentList, DataFrame-class
Please provide package anchors for all Rd \link{} targets not in the
package itself and the base packages.
* checking for missing documentation entries ... OK
* checking for code/documentation mismatches ... OK
* checking Rd \usage sections ... OK
* checking Rd contents ... OK
* checking for unstated dependencies in examples ... OK
* checking contents of ‘data’ directory ... OK
* checking data for non-ASCII characters ... OK
* checking data for ASCII and uncompressed saves ... OK
* checking files in ‘vignettes’ ... OK
* checking examples ... OK
Examples with CPU (user + system) or elapsed time > 5s
user system elapsed
evaluateResampling 6.290 0.119 6.411
annotePathwayToFather 5.636 0.232 5.869
* checking for unstated dependencies in ‘tests’ ... OK
* checking tests ...
Running ‘testthat.R’
OK
* checking for unstated dependencies in vignettes ... OK
* checking package vignettes ... OK
* checking re-building of vignette outputs ... OK
* checking PDF version of manual ... OK
* DONE
Status: 1 NOTE
See
‘/home/biocbuild/bbs-3.22-bioc/meat/MOSClip.Rcheck/00check.log’
for details.
MOSClip.Rcheck/00install.out
############################################################################## ############################################################################## ### ### Running command: ### ### /home/biocbuild/bbs-3.22-bioc/R/bin/R CMD INSTALL MOSClip ### ############################################################################## ############################################################################## * installing to library ‘/home/biocbuild/bbs-3.22-bioc/R/site-library’ * installing *source* package ‘MOSClip’ ... ** this is package ‘MOSClip’ version ‘1.3.3’ ** using staged installation ** R ** data ** inst ** byte-compile and prepare package for lazy loading ** help *** installing help indices *** copying figures ** building package indices ** installing vignettes ** testing if installed package can be loaded from temporary location ** testing if installed package can be loaded from final location ** testing if installed package keeps a record of temporary installation path * DONE (MOSClip)
MOSClip.Rcheck/tests/testthat.Rout
R version 4.5.1 Patched (2025-08-23 r88802) -- "Great Square Root"
Copyright (C) 2025 The R Foundation for Statistical Computing
Platform: x86_64-pc-linux-gnu
R is free software and comes with ABSOLUTELY NO WARRANTY.
You are welcome to redistribute it under certain conditions.
Type 'license()' or 'licence()' for distribution details.
R is a collaborative project with many contributors.
Type 'contributors()' for more information and
'citation()' on how to cite R or R packages in publications.
Type 'demo()' for some demos, 'help()' for on-line help, or
'help.start()' for an HTML browser interface to help.
Type 'q()' to quit R.
> library(testthat)
> library(MOSClip)
>
> test_check("MOSClip")
[ FAIL 0 | WARN 2 | SKIP 0 | PASS 198 ]
[ FAIL 0 | WARN 2 | SKIP 0 | PASS 198 ]
>
> proc.time()
user system elapsed
76.021 1.629 77.647
MOSClip.Rcheck/MOSClip-Ex.timings
| name | user | system | elapsed | |
| annotePathwayToFather | 5.636 | 0.232 | 5.869 | |
| availableOmicMethods | 0 | 0 | 0 | |
| computeFreqs | 0.002 | 0.000 | 0.003 | |
| computeOmicsIntersections | 0.004 | 0.000 | 0.003 | |
| downloadPathwayRelationFromReactome | 0.053 | 0.007 | 0.059 | |
| evaluateResampling | 6.290 | 0.119 | 6.411 | |
| makeOmics | 0.201 | 0.001 | 0.203 | |
| minOrNA | 0 | 0 | 0 | |
| multiOmicsSurvivalModuleTest | 1.469 | 0.047 | 1.515 | |
| multiOmicsSurvivalPathwayTest | 0.337 | 0.004 | 0.341 | |
| multiOmicsTwoClassModuleTest | 1.472 | 0.001 | 1.474 | |
| multiOmicsTwoClassPathwayTest | 0.272 | 0.002 | 0.274 | |
| multiPathwayModuleReport | 3.595 | 0.082 | 3.677 | |
| multiPathwayReport | 0.569 | 0.004 | 0.574 | |
| plotFrequencies | 0.411 | 0.008 | 0.418 | |
| plotModuleHeat | 4.186 | 0.028 | 4.218 | |
| plotModuleInGraph | 1.979 | 0.008 | 1.988 | |
| plotModuleKM | 3.249 | 0.035 | 3.285 | |
| plotModuleReport | 4.599 | 0.033 | 4.632 | |
| plotMultiPathwayReport | 1.366 | 0.000 | 1.366 | |
| plotPathwayHeat | 1.855 | 0.045 | 1.900 | |
| plotPathwayKM | 1.640 | 0.004 | 1.644 | |
| resampling-Survival | 4.444 | 0.004 | 4.449 | |
| resampling-TwoClass | 4.568 | 0.009 | 4.579 | |
| runSupertest | 0.106 | 0.000 | 0.107 | |
| showMOSpalette | 0.014 | 0.000 | 0.014 | |
| showModule | 1.470 | 0.004 | 1.474 | |
| showOmics | 0.046 | 0.000 | 0.046 | |
| showPathway | 0.309 | 0.000 | 0.310 | |
| stripModulesFromPathways | 0 | 0 | 0 | |
| summarizeOmicsResByMinPvalue | 0 | 0 | 0 | |