Back to Multiple platform build/check report for BioC 3.22:   simplified   long
ABCDEFGHIJKL[M]NOPQRSTUVWXYZ

This page was generated on 2025-11-24 12:04 -0500 (Mon, 24 Nov 2025).

HostnameOSArch (*)R versionInstalled pkgs
nebbiolo2Linux (Ubuntu 24.04.3 LTS)x86_644.5.2 (2025-10-31) -- "[Not] Part in a Rumble" 4873
merida1macOS 12.7.6 Montereyx86_644.5.2 Patched (2025-11-05 r88990) -- "[Not] Part in a Rumble" 4654
kjohnson1macOS 13.7.5 Venturaarm644.5.2 Patched (2025-11-04 r88984) -- "[Not] Part in a Rumble" 4600
taishanLinux (openEuler 24.03 LTS)aarch644.5.0 (2025-04-11) -- "How About a Twenty-Six" 4668
Click on any hostname to see more info about the system (e.g. compilers)      (*) as reported by 'uname -p', except on Windows and Mac OS X

Package 1378/2361HostnameOS / ArchINSTALLBUILDCHECKBUILD BIN
MsBackendRawFileReader 1.16.0  (landing page)
Christian Panse
Snapshot Date: 2025-11-20 15:01 -0500 (Thu, 20 Nov 2025)
git_url: https://git.bioconductor.org/packages/MsBackendRawFileReader
git_branch: RELEASE_3_22
git_last_commit: 53064fe
git_last_commit_date: 2025-10-29 11:12:57 -0500 (Wed, 29 Oct 2025)
nebbiolo2Linux (Ubuntu 24.04.3 LTS) / x86_64  OK    OK    OK  UNNEEDED, same version is already published
merida1macOS 12.7.6 Monterey / x86_64  OK    OK    OK    OK  UNNEEDED, same version is already published
kjohnson1macOS 13.7.5 Ventura / arm64  OK    ERROR  skippedskipped
taishanLinux (openEuler 24.03 LTS) / aarch64  OK    ERROR  skipped


CHECK results for MsBackendRawFileReader on nebbiolo2

To the developers/maintainers of the MsBackendRawFileReader package:
- Allow up to 24 hours (and sometimes 48 hours) for your latest push to git@git.bioconductor.org:packages/MsBackendRawFileReader.git to reflect on this report. See Troubleshooting Build Report for more information.
- Use the following Renviron settings to reproduce errors and warnings.
- If 'R CMD check' started to fail recently on the Linux builder(s) over a missing dependency, add the missing dependency to 'Suggests:' in your DESCRIPTION file. See Renviron.bioc for more information.

raw results


Summary

Package: MsBackendRawFileReader
Version: 1.16.0
Command: /home/biocbuild/bbs-3.22-bioc/R/bin/R CMD check --install=check:MsBackendRawFileReader.install-out.txt --library=/home/biocbuild/bbs-3.22-bioc/R/site-library --timings MsBackendRawFileReader_1.16.0.tar.gz
StartedAt: 2025-11-21 02:27:50 -0500 (Fri, 21 Nov 2025)
EndedAt: 2025-11-21 02:32:34 -0500 (Fri, 21 Nov 2025)
EllapsedTime: 284.2 seconds
RetCode: 0
Status:   OK  
CheckDir: MsBackendRawFileReader.Rcheck
Warnings: 0

Command output

##############################################################################
##############################################################################
###
### Running command:
###
###   /home/biocbuild/bbs-3.22-bioc/R/bin/R CMD check --install=check:MsBackendRawFileReader.install-out.txt --library=/home/biocbuild/bbs-3.22-bioc/R/site-library --timings MsBackendRawFileReader_1.16.0.tar.gz
###
##############################################################################
##############################################################################


* using log directory ‘/home/biocbuild/bbs-3.22-bioc/meat/MsBackendRawFileReader.Rcheck’
* using R version 4.5.2 (2025-10-31)
* using platform: x86_64-pc-linux-gnu
* R was compiled by
    gcc (Ubuntu 13.3.0-6ubuntu2~24.04) 13.3.0
    GNU Fortran (Ubuntu 13.3.0-6ubuntu2~24.04) 13.3.0
* running under: Ubuntu 24.04.3 LTS
* using session charset: UTF-8
* checking for file ‘MsBackendRawFileReader/DESCRIPTION’ ... OK
* checking extension type ... Package
* this is package ‘MsBackendRawFileReader’ version ‘1.16.0’
* package encoding: UTF-8
* checking package namespace information ... OK
* checking package dependencies ... OK
* checking if this is a source package ... OK
* checking if there is a namespace ... OK
* checking for hidden files and directories ... OK
* checking for portable file names ... OK
* checking for sufficient/correct file permissions ... OK
* checking whether package ‘MsBackendRawFileReader’ can be installed ... OK
* checking installed package size ... OK
* checking package directory ... OK
* checking ‘build’ directory ... OK
* checking DESCRIPTION meta-information ... OK
* checking top-level files ... OK
* checking for left-over files ... OK
* checking index information ... OK
* checking package subdirectories ... OK
* checking code files for non-ASCII characters ... OK
* checking R files for syntax errors ... OK
* checking whether the package can be loaded ... OK
* checking whether the package can be loaded with stated dependencies ... OK
* checking whether the package can be unloaded cleanly ... OK
* checking whether the namespace can be loaded with stated dependencies ... OK
* checking whether the namespace can be unloaded cleanly ... OK
* checking loading without being on the library search path ... OK
* checking whether startup messages can be suppressed ... OK
* checking dependencies in R code ... OK
* checking S3 generic/method consistency ... OK
* checking replacement functions ... OK
* checking foreign function calls ... OK
* checking R code for possible problems ... OK
* checking Rd files ... OK
* checking Rd metadata ... OK
* checking Rd cross-references ... OK
* checking for missing documentation entries ... OK
* checking for code/documentation mismatches ... OK
* checking Rd \usage sections ... OK
* checking Rd contents ... OK
* checking for unstated dependencies in examples ... OK
* checking files in ‘vignettes’ ... OK
* checking examples ... OK
Examples with CPU (user + system) or elapsed time > 5s
                         user system elapsed
ioBenchmark            31.823  6.024  11.560
MsBackendRawFileReader  6.339  2.142   9.094
* checking for unstated dependencies in ‘tests’ ... OK
* checking tests ...
  Running ‘testthat.R’
 OK
* checking for unstated dependencies in vignettes ... OK
* checking package vignettes ... OK
* checking re-building of vignette outputs ... OK
* checking PDF version of manual ... OK
* DONE

Status: OK


Installation output

MsBackendRawFileReader.Rcheck/00install.out

##############################################################################
##############################################################################
###
### Running command:
###
###   /home/biocbuild/bbs-3.22-bioc/R/bin/R CMD INSTALL MsBackendRawFileReader
###
##############################################################################
##############################################################################


* installing to library ‘/home/biocbuild/bbs-3.22-bioc/R/site-library’
* installing *source* package ‘MsBackendRawFileReader’ ...
** this is package ‘MsBackendRawFileReader’ version ‘1.16.0’
** using staged installation
** R
** inst
** byte-compile and prepare package for lazy loading
** help
*** installing help indices
** building package indices
** installing vignettes
** testing if installed package can be loaded from temporary location
** testing if installed package can be loaded from final location
** testing if installed package keeps a record of temporary installation path
* DONE (MsBackendRawFileReader)

Tests output

MsBackendRawFileReader.Rcheck/tests/testthat.Rout


R version 4.5.2 (2025-10-31) -- "[Not] Part in a Rumble"
Copyright (C) 2025 The R Foundation for Statistical Computing
Platform: x86_64-pc-linux-gnu

R is free software and comes with ABSOLUTELY NO WARRANTY.
You are welcome to redistribute it under certain conditions.
Type 'license()' or 'licence()' for distribution details.

R is a collaborative project with many contributors.
Type 'contributors()' for more information and
'citation()' on how to cite R or R packages in publications.

Type 'demo()' for some demos, 'help()' for on-line help, or
'help.start()' for an HTML browser interface to help.
Type 'q()' to quit R.

> library("testthat")
> library("MsBackendRawFileReader")
Loading required package: Spectra
Loading required package: S4Vectors
Loading required package: stats4
Loading required package: BiocGenerics
Loading required package: generics

Attaching package: 'generics'

The following objects are masked from 'package:base':

    as.difftime, as.factor, as.ordered, intersect, is.element, setdiff,
    setequal, union


Attaching package: 'BiocGenerics'

The following objects are masked from 'package:stats':

    IQR, mad, sd, var, xtabs

The following objects are masked from 'package:base':

    Filter, Find, Map, Position, Reduce, anyDuplicated, aperm, append,
    as.data.frame, basename, cbind, colnames, dirname, do.call,
    duplicated, eval, evalq, get, grep, grepl, is.unsorted, lapply,
    mapply, match, mget, order, paste, pmax, pmax.int, pmin, pmin.int,
    rank, rbind, rownames, sapply, saveRDS, table, tapply, unique,
    unsplit, which.max, which.min


Attaching package: 'S4Vectors'

The following object is masked from 'package:utils':

    findMatches

The following objects are masked from 'package:base':

    I, expand.grid, unname

Loading required package: BiocParallel
> library("Spectra")
> 
> 
> sample_raw_file <- file.path(system.file(package = "rawrr"),
+                                 'extdata', 'sample.raw')
> 
> sample_mzXML_file <- file.path(path.package(package = 'MsBackendRawFileReader'),
+                                 'extdata', 'sample.mzXML')
> 
> 
> sample_raw <-  backendInitialize(MsBackendRawFileReader::MsBackendRawFileReader(), files = sample_raw_file)
> 
> 
> #sample_mzr <-  backendInitialize(MsBackendMzR(), files = sample_mzXML_file)
> 
> 
> mgf_file <- file.path(system.file(package = "MsBackendRawFileReader"),
+                              'extdata', '3159619b11ed_4590_9594.mgf')
> 
> 
> rv <- lapply(1:2, function(x){
+   file.copy(from = sample_raw_file, to = tempfile(fileext='.raw'))})
> 
> 
> register(SnowParam(workers = 1, type = "SOCK") , default = TRUE); 
> sample_raw_2 <- backendInitialize(MsBackendRawFileReader(),
+     files = file.path(tempdir(),
+          list.files(path = tempdir(), pattern = 'raw$')))
> 
> 
> test_check("MsBackendRawFileReader")
[ FAIL 0 | WARN 1 | SKIP 2 | PASS 21 ]

══ Skipped tests (2) ═══════════════════════════════════════════════════════════
• isFALSE(file.exists(sample_mzXML_file)) is TRUE (1):
  'test_MsBackendMzR_MsBackendRawFileReader.R:1:1'
• isFALSE(require(MsBackendRawMgf)) is TRUE (1): 'test_top_n_mgf.R:1:1'

[ FAIL 0 | WARN 1 | SKIP 2 | PASS 21 ]
> 
> 
> be <- Spectra::backendInitialize(MsBackendRawFileReader::MsBackendRawFileReader(),
+                                  files = c(sample_raw_file))
> 
> ## Run the MsBackend spectra variable test suite
> 
> test_suite <- system.file("test_backends", "test_MsBackend",
+                           package = "Spectra")
> 
> #res <- test_file(paste0(test_suite, "/test_spectra_variables.R"),
> #                 reporter = check_reporter(), stop_on_failure = TRUE)
> 
> 
> ## Run the whole suite.
> res <- test_dir(test_suite, stop_on_failure = TRUE)
✔ | F W  S  OK | Context

⠏ |          0 | peaks_variables                                                
⠙ |          2 | peaks_variables                                                
⠸ |          4 | peaks_variables                                                
✔ |          4 | peaks_variables [3.9s]

⠏ |          0 | spectra_subsetting                                             
⠋ |          1 | spectra_subsetting                                             
⠴ |         16 | spectra_subsetting                                             
⠏ |         30 | spectra_subsetting                                             
⠹ |         43 | spectra_subsetting                                             
⠧ |         58 | spectra_subsetting                                             
⠏ |         70 | spectra_subsetting                                             
⠼ |         85 | spectra_subsetting                                             
⠏ |        100 | spectra_subsetting                                             
⠼ |        115 | spectra_subsetting                                             
⠏ |        130 | spectra_subsetting                                             
⠙ |        142 | spectra_subsetting                                             
⠦ |        157 | spectra_subsetting                                             
⠏ |        170 | spectra_subsetting                                             
⠸ |        184 | spectra_subsetting                                             
⠇ |        199 | spectra_subsetting                                             
⠸ |        214 | spectra_subsetting                                             
⠇ |        229 | spectra_subsetting                                             
⠙ |        242 | spectra_subsetting                                             
⠴ |        256 | spectra_subsetting                                             
⠋ |        271 | spectra_subsetting                                             
⠸ |        284 | spectra_subsetting                                             
⠼ |        295 | spectra_subsetting                                             
⠦ |        307 | spectra_subsetting                                             
⠙ |        322 | spectra_subsetting                                             
⠦ |        337 | spectra_subsetting                                             
⠙ |        352 | spectra_subsetting                                             
⠦ |        367 | spectra_subsetting                                             
⠙ |        382 | spectra_subsetting                                             
⠦ |        397 | spectra_subsetting                                             
⠙ |        412 | spectra_subsetting                                             
⠦ |        427 | spectra_subsetting                                             
⠏ |        440 | spectra_subsetting                                             
⠸ |        454 | spectra_subsetting                                             
⠇ |        469 | spectra_subsetting                                             
⠸ |        484 | spectra_subsetting                                             
⠇ |        499 | spectra_subsetting                                             
⠸ |        514 | spectra_subsetting                                             
⠇ |        529 | spectra_subsetting                                             
⠸ |        544 | spectra_subsetting                                             
⠇ |        559 | spectra_subsetting                                             
⠋ |        571 | spectra_subsetting                                             
⠴ |        586 | spectra_subsetting                                             
⠋ |        601 | spectra_subsetting                                             
⠴ |        616 | spectra_subsetting                                             
⠇ |        629 | spectra_subsetting                                             
⠹ |        643 | spectra_subsetting                                             
⠧ |        658 | spectra_subsetting                                             
⠏ |        670 | spectra_subsetting                                             
⠼ |        685 | spectra_subsetting                                             
⠦ |        697 | spectra_subsetting                                             
⠙ |        712 | spectra_subsetting                                             
⠦ |        727 | spectra_subsetting                                             
⠙ |        742 | spectra_subsetting                                             
⠦ |        757 | spectra_subsetting                                             
⠙ |        772 | spectra_subsetting                                             
⠦ |        787 | spectra_subsetting                                             
⠏ |        800 | spectra_subsetting                                             
⠸ |        814 | spectra_subsetting                                             
⠇ |        829 | spectra_subsetting                                             
⠸ |        844 | spectra_subsetting                                             
⠇ |        859 | spectra_subsetting                                             
⠸ |        874 | spectra_subsetting                                             
⠇ |        889 | spectra_subsetting                                             
⠙ |        902 | spectra_subsetting                                             
⠴ |        916 | spectra_subsetting                                             
⠏ |        930 | spectra_subsetting                                             
⠹ |        943 | spectra_subsetting                                             
⠧ |        958 | spectra_subsetting                                             
⠹ |        973 | spectra_subsetting                                             
⠧ |        988 | spectra_subsetting                                             
⠋ |        1001 | spectra_subsetting                                            
⠼ |        1015 | spectra_subsetting                                            
⠏ |        1030 | spectra_subsetting                                            
⠼ |        1045 | spectra_subsetting                                            
⠧ |        1058 | spectra_subsetting                                            
⠙ |        1072 | spectra_subsetting                                            
⠦ |        1087 | spectra_subsetting                                            
⠙ |        1102 | spectra_subsetting                                            
⠦ |        1117 | spectra_subsetting                                            
⠏ |        1130 | spectra_subsetting                                            
⠸ |        1144 | spectra_subsetting                                            
⠇ |        1159 | spectra_subsetting                                            
⠸ |        1174 | spectra_subsetting                                            
⠇ |        1189 | spectra_subsetting                                            
⠹ |        1203 | spectra_subsetting                                            
⠦ |        1217 | spectra_subsetting                                            
⠏ |        1230 | spectra_subsetting                                            
⠹ |        1243 | spectra_subsetting                                            
⠦ |        1257 | spectra_subsetting                                            
⠏ |        1270 | spectra_subsetting                                            
⠼ |        1285 | spectra_subsetting                                            
⠏ |        1300 | spectra_subsetting                                            
⠼ |        1315 | spectra_subsetting                                            
⠧ |        1328 | spectra_subsetting                                            
⠹ |        1343 | spectra_subsetting                                            
⠦ |        1357 | spectra_subsetting                                            
⠙ |        1372 | spectra_subsetting                                            
⠦ |        1387 | spectra_subsetting                                            
⠙ |        1402 | spectra_subsetting                                            
⠦ |        1417 | spectra_subsetting                                            
⠙ |        1432 | spectra_subsetting                                            
⠦ |        1447 | spectra_subsetting                                            
⠇ |        1459 | spectra_subsetting                                            
⠸ |        1474 | spectra_subsetting                                            
⠇ |        1489 | spectra_subsetting                                            
⠸ |        1504 | spectra_subsetting                                            
⠧ |        1518 | spectra_subsetting                                            
⠏ |        1530 | spectra_subsetting                                            
⠹ |        1543 | spectra_subsetting                                            
⠼ |        1555 | spectra_subsetting                                            
⠏ |        1570 | spectra_subsetting                                            
⠼ |        1585 | spectra_subsetting                                            
⠏ |        1600 | spectra_subsetting                                            
⠼ |        1615 | spectra_subsetting                                            
⠏ |        1630 | spectra_subsetting                                            
⠼ |        1645 | spectra_subsetting                                            
⠏ |        1660 | spectra_subsetting                                            
⠼ |        1675 | spectra_subsetting                                            
⠏ |        1690 | spectra_subsetting                                            
⠼ |        1705 | spectra_subsetting                                            
⠧ |        1718 | spectra_subsetting                                            
⠦ |        1727 | spectra_subsetting                                            
⠇ |        1729 | spectra_subsetting                                            
⠋ |        1731 | spectra_subsetting                                            
⠹ |        1733 | spectra_subsetting                                            
⠴ |        1736 | spectra_subsetting                                            
⠧ |        1738 | spectra_subsetting                                            
⠏ |        1740 | spectra_subsetting                                            
⠙ |        1742 | spectra_subsetting                                            
⠸ |        1744 | spectra_subsetting                                            
⠴ |        1746 | spectra_subsetting                                            
⠧ |        1748 | spectra_subsetting                                            
⠏ |        1750 | spectra_subsetting                                            
⠙ |        1752 | spectra_subsetting                                            
⠸ |        1754 | spectra_subsetting                                            
⠴ |        1756 | spectra_subsetting                                            
⠧ |        1758 | spectra_subsetting                                            
⠏ |        1760 | spectra_subsetting                                            
⠙ |        1762 | spectra_subsetting                                            
⠸ |        1764 | spectra_subsetting                                            
⠴ |        1766 | spectra_subsetting                                            
⠧ |        1768 | spectra_subsetting                                            
⠏ |        1770 | spectra_subsetting                                            
⠙ |        1772 | spectra_subsetting                                            
⠸ |        1774 | spectra_subsetting                                            
⠴ |        1776 | spectra_subsetting                                            
⠧ |        1778 | spectra_subsetting                                            
⠏ |        1780 | spectra_subsetting                                            
⠙ |        1782 | spectra_subsetting                                            
⠸ |        1784 | spectra_subsetting                                            
⠴ |        1786 | spectra_subsetting                                            
⠧ |        1788 | spectra_subsetting                                            
⠏ |        1790 | spectra_subsetting                                            
⠙ |        1792 | spectra_subsetting                                            
⠸ |        1794 | spectra_subsetting                                            
⠴ |        1796 | spectra_subsetting                                            
⠧ |        1798 | spectra_subsetting                                            
⠏ |        1800 | spectra_subsetting                                            
⠙ |        1802 | spectra_subsetting                                            
⠸ |        1804 | spectra_subsetting                                            
⠴ |        1806 | spectra_subsetting                                            
⠧ |        1808 | spectra_subsetting                                            
⠏ |        1810 | spectra_subsetting                                            
⠙ |        1812 | spectra_subsetting                                            
⠸ |        1814 | spectra_subsetting                                            
⠴ |        1816 | spectra_subsetting                                            
⠧ |        1818 | spectra_subsetting                                            
⠏ |        1820 | spectra_subsetting                                            
⠙ |        1822 | spectra_subsetting                                            
⠸ |        1824 | spectra_subsetting                                            
⠴ |        1826 | spectra_subsetting                                            
⠧ |        1828 | spectra_subsetting                                            
⠏ |        1830 | spectra_subsetting                                            
⠙ |        1832 | spectra_subsetting                                            
⠸ |        1834 | spectra_subsetting                                            
⠴ |        1836 | spectra_subsetting                                            
⠧ |        1838 | spectra_subsetting                                            
⠏ |        1840 | spectra_subsetting                                            
⠙ |        1842 | spectra_subsetting                                            
⠸ |        1844 | spectra_subsetting                                            
⠴ |        1846 | spectra_subsetting                                            
⠧ |        1848 | spectra_subsetting                                            
⠏ |        1850 | spectra_subsetting                                            
⠙ |        1852 | spectra_subsetting                                            
⠼ |        1855 | spectra_subsetting                                            
⠧ |        1858 | spectra_subsetting                                            
⠋ |        1861 | spectra_subsetting                                            
⠸ |        1864 | spectra_subsetting                                            
⠴ |        1866 | spectra_subsetting                                            
⠇ |        1869 | spectra_subsetting                                            
⠙ |        1872 | spectra_subsetting                                            
⠼ |        1875 | spectra_subsetting                                            
⠧ |        1878 | spectra_subsetting                                            
⠋ |        1881 | spectra_subsetting                                            
⠸ |        1884 | spectra_subsetting                                            
⠦ |        1887 | spectra_subsetting                                            
⠏ |        1890 | spectra_subsetting                                            
⠙ |        1892 | spectra_subsetting                                            
⠼ |        1895 | spectra_subsetting                                            
⠧ |        1898 | spectra_subsetting                                            
⠋ |        1901 | spectra_subsetting                                            
⠸ |        1904 | spectra_subsetting                                            
⠦ |        1907 | spectra_subsetting                                            
⠏ |        1910 | spectra_subsetting                                            
⠹ |        1913 | spectra_subsetting                                            
⠴ |        1916 | spectra_subsetting                                            
⠇ |        1919 | spectra_subsetting                                            
⠙ |        1922 | spectra_subsetting                                            
⠼ |        1925 | spectra_subsetting                                            
⠧ |        1928 | spectra_subsetting                                            
⠋ |        1931 | spectra_subsetting                                            
⠸ |        1934 | spectra_subsetting                                            
⠦ |        1937 | spectra_subsetting                                            
⠇ |        1939 | spectra_subsetting                                            
⠙ |        1942 | spectra_subsetting                                            
⠼ |        1945 | spectra_subsetting                                            
⠦ |        1947 | spectra_subsetting                                            
⠏ |        1950 | spectra_subsetting                                            
⠹ |        1953 | spectra_subsetting                                            
⠴ |        1956 | spectra_subsetting                                            
⠇ |        1959 | spectra_subsetting                                            
⠋ |        1961 | spectra_subsetting                                            
⠸ |        1964 | spectra_subsetting                                            
⠴ |        1966 | spectra_subsetting                                            
⠇ |        1969 | spectra_subsetting                                            
⠙ |        1972 | spectra_subsetting                                            
⠸ |        1974 | spectra_subsetting                                            
⠦ |        1977 | spectra_subsetting                                            
⠇ |        1979 | spectra_subsetting                                            
⠙ |        1982 | spectra_subsetting                                            
⠸ |        1984 | spectra_subsetting                                            
⠦ |        1987 | spectra_subsetting                                            
⠏ |        1990 | spectra_subsetting                                            
⠙ |        1992 | spectra_subsetting                                            
⠼ |        1995 | spectra_subsetting                                            
⠦ |        1997 | spectra_subsetting                                            
⠇ |        1999 | spectra_subsetting                                            
⠋ |        2001 | spectra_subsetting                                            
⠸ |        2004 | spectra_subsetting                                            
⠦ |        2007 | spectra_subsetting                                            
⠏ |        2010 | spectra_subsetting                                            
⠹ |        2013 | spectra_subsetting                                            
⠴ |        2016 | spectra_subsetting                                            
⠇ |        2019 | spectra_subsetting                                            
⠙ |        2022 | spectra_subsetting                                            
⠼ |        2025 | spectra_subsetting                                            
⠧ |        2028 | spectra_subsetting                                            
⠏ |        2030 | spectra_subsetting                                            
⠹ |        2033 | spectra_subsetting                                            
⠴ |        2036 | spectra_subsetting                                            
⠧ |        2038 | spectra_subsetting                                            
⠋ |        2041 | spectra_subsetting                                            
⠹ |        2043 | spectra_subsetting                                            
⠴ |        2046 | spectra_subsetting                                            
⠇ |        2049 | spectra_subsetting                                            
⠋ |        2051 | spectra_subsetting                                            
⠸ |        2054 | spectra_subsetting                                            
⠴ |        2056 | spectra_subsetting                                            
⠇ |        2059 | spectra_subsetting                                            
⠋ |        2061 | spectra_subsetting                                            
⠸ |        2064 | spectra_subsetting                                            
⠦ |        2067 | spectra_subsetting                                            
⠏ |        2070 | spectra_subsetting                                            
⠹ |        2073 | spectra_subsetting                                            
⠼ |        2075 | spectra_subsetting                                            
⠧ |        2078 | spectra_subsetting                                            
⠋ |        2081 | spectra_subsetting                                            
⠹ |        2083 | spectra_subsetting                                            
⠼ |        2085 | spectra_subsetting                                            
⠦ |        2087 | spectra_subsetting                                            
⠏ |        2090 | spectra_subsetting                                            
⠙ |        2092 | spectra_subsetting                                            
⠸ |        2094 | spectra_subsetting                                            
⠦ |        2097 | spectra_subsetting                                            
⠏ |        2100 | spectra_subsetting                                            
⠙ |        2102 | spectra_subsetting                                            
⠼ |        2105 | spectra_subsetting                                            
⠧ |        2108 | spectra_subsetting                                            
⠏ |        2110 | spectra_subsetting                                            
⠹ |        2113 | spectra_subsetting                                            
⠴ |        2116 | spectra_subsetting                                            
⠧ |        2118 | spectra_subsetting                                            
⠏ |        2120 | spectra_subsetting                                            
⠹ |        2123 | spectra_subsetting                                            
⠼ |        2125 | spectra_subsetting                                            
⠧ |        2128 | spectra_subsetting                                            
⠋ |        2131 | spectra_subsetting                                            
⠹ |        2133 | spectra_subsetting                                            
⠴ |        2136 | spectra_subsetting                                            
⠧ |        2138 | spectra_subsetting                                            
⠏ |        2140 | spectra_subsetting                                            
⠙ |        2142 | spectra_subsetting                                            
⠼ |        2145 | spectra_subsetting                                            
⠦ |        2147 | spectra_subsetting                                            
⠏ |        2150 | spectra_subsetting                                            
⠙ |        2152 | spectra_subsetting                                            
⠸ |        2154 | spectra_subsetting                                            
⠴ |        2156 | spectra_subsetting                                            
⠧ |        2158 | spectra_subsetting                                            
⠏ |        2160 | spectra_subsetting                                            
⠹ |        2163 | spectra_subsetting                                            
⠼ |        2165 | spectra_subsetting                                            
⠧ |        2168 | spectra_subsetting                                            
⠏ |        2170 | spectra_subsetting                                            
⠹ |        2173 | spectra_subsetting                                            
⠴ |        2176 | spectra_subsetting                                            
⠧ |        2178 | spectra_subsetting                                            
⠋ |        2181 | spectra_subsetting                                            
⠹ |        2183 | spectra_subsetting                                            
⠴ |        2186 | spectra_subsetting                                            
⠧ |        2188 | spectra_subsetting                                            
⠋ |        2191 | spectra_subsetting                                            
⠹ |        2193 | spectra_subsetting                                            
⠴ |        2196 | spectra_subsetting                                            
⠇ |        2199 | spectra_subsetting                                            
⠋ |        2201 | spectra_subsetting                                            
⠸ |        2204 | spectra_subsetting                                            
⠴ |        2206 | spectra_subsetting                                            
⠇ |        2209 | spectra_subsetting                                            
⠋ |        2211 | spectra_subsetting                                            
⠹ |        2213 | spectra_subsetting                                            
⠼ |        2215 | spectra_subsetting                                            
⠧ |        2218 | spectra_subsetting                                            
⠏ |        2220 | spectra_subsetting                                            
⠙ |        2222 | spectra_subsetting                                            
⠸ |        2224 | spectra_subsetting                                            
⠴ |        2226 | spectra_subsetting                                            
⠧ |        2228 | spectra_subsetting                                            
⠋ |        2231 | spectra_subsetting                                            
⠹ |        2233 | spectra_subsetting                                            
⠼ |        2235 | spectra_subsetting                                            
⠦ |        2237 | spectra_subsetting                                            
⠏ |        2240 | spectra_subsetting                                            
⠹ |        2243 | spectra_subsetting                                            
⠴ |        2246 | spectra_subsetting                                            
⠇ |        2249 | spectra_subsetting                                            
⠙ |        2252 | spectra_subsetting                                            
⠼ |        2255 | spectra_subsetting                                            
⠦ |        2257 | spectra_subsetting                                            
⠇ |        2259 | spectra_subsetting                                            
⠋ |        2261 | spectra_subsetting                                            
⠸ |        2264 | spectra_subsetting                                            
⠦ |        2267 | spectra_subsetting                                            
⠇ |        2269 | spectra_subsetting                                            
⠙ |        2272 | spectra_subsetting                                            
⠸ |        2274 | spectra_subsetting                                            
⠦ |        2277 | spectra_subsetting                                            
⠏ |        2280 | spectra_subsetting                                            
⠙ |        2282 | spectra_subsetting                                            
⠼ |        2285 | spectra_subsetting                                            
⠦ |        2287 | spectra_subsetting                                            
⠏ |        2290 | spectra_subsetting                                            
⠙ |        2292 | spectra_subsetting                                            
⠸ |        2294 | spectra_subsetting                                            
⠴ |        2296 | spectra_subsetting                                            
⠧ |        2298 | spectra_subsetting                                            
⠏ |        2300 | spectra_subsetting                                            
⠼ |        2305 | spectra_subsetting                                            
⠹ |        2313 | spectra_subsetting                                            
⠙ |        2322 | spectra_subsetting                                            
⠇ |        2329 | spectra_subsetting                                            
⠸ |        2334 | spectra_subsetting                                            
✔ |        2342 | spectra_subsetting [44.1s]

⠏ |          0 | spectra_variables                                              
⠙ |         12 | spectra_variables                                              
⠸ |         14 | spectra_variables                                              
⠴ |         16 | spectra_variables                                              
⠦ |         27 | spectra_variables                                              
⠇ |         29 | spectra_variables                                              
⠋ |         31 | spectra_variables                                              
⠹ |         43 | spectra_variables                                              
⠏ |      1  59 | spectra_variables                                              
✔ |      1  62 | spectra_variables [14.5s]

══ Results ═════════════════════════════════════════════════════════════════════
Duration: 62.5 s

── Skipped tests (1) ───────────────────────────────────────────────────────────
• empty test (1): 'test_spectra_variables.R:262:1'

[ FAIL 0 | WARN 0 | SKIP 1 | PASS 2408 ]
> 
> proc.time()
   user  system elapsed 
 83.818   7.864  94.201 

Example timings

MsBackendRawFileReader.Rcheck/MsBackendRawFileReader-Ex.timings

nameusersystemelapsed
MsBackendRawFileReader-class2.9850.7233.949
MsBackendRawFileReader6.3392.1429.094
hidden_aliases1.9840.6932.860
ioBenchmark31.823 6.02411.560