| Back to Multiple platform build/check report for BioC 3.22: simplified long |
|
This page was generated on 2025-11-27 12:02 -0500 (Thu, 27 Nov 2025).
| Hostname | OS | Arch (*) | R version | Installed pkgs |
|---|---|---|---|---|
| nebbiolo2 | Linux (Ubuntu 24.04.3 LTS) | x86_64 | 4.5.2 (2025-10-31) -- "[Not] Part in a Rumble" | 4876 |
| merida1 | macOS 12.7.6 Monterey | x86_64 | 4.5.2 Patched (2025-11-05 r88990) -- "[Not] Part in a Rumble" | 4656 |
| kjohnson1 | macOS 13.7.5 Ventura | arm64 | 4.5.2 Patched (2025-11-04 r88984) -- "[Not] Part in a Rumble" | 4602 |
| taishan | Linux (openEuler 24.03 LTS) | aarch64 | 4.5.0 (2025-04-11) -- "How About a Twenty-Six" | 4668 |
| Click on any hostname to see more info about the system (e.g. compilers) (*) as reported by 'uname -p', except on Windows and Mac OS X | ||||
| Package 1430/2361 | Hostname | OS / Arch | INSTALL | BUILD | CHECK | BUILD BIN | ||||||||
| MutationalPatterns 3.20.0 (landing page) Mark van Roosmalen
| nebbiolo2 | Linux (Ubuntu 24.04.3 LTS) / x86_64 | OK | OK | ERROR | |||||||||
| merida1 | macOS 12.7.6 Monterey / x86_64 | OK | ERROR | skipped | skipped | |||||||||
| kjohnson1 | macOS 13.7.5 Ventura / arm64 | OK | ERROR | skipped | skipped | |||||||||
| taishan | Linux (openEuler 24.03 LTS) / aarch64 | OK | OK | ERROR | ||||||||||
|
To the developers/maintainers of the MutationalPatterns package: - Allow up to 24 hours (and sometimes 48 hours) for your latest push to git@git.bioconductor.org:packages/MutationalPatterns.git to reflect on this report. See Troubleshooting Build Report for more information. - Use the following Renviron settings to reproduce errors and warnings. - If 'R CMD check' started to fail recently on the Linux builder(s) over a missing dependency, add the missing dependency to 'Suggests:' in your DESCRIPTION file. See Renviron.bioc for more information. |
| Package: MutationalPatterns |
| Version: 3.20.0 |
| Command: /home/biocbuild/bbs-3.22-bioc/R/bin/R CMD check --install=check:MutationalPatterns.install-out.txt --library=/home/biocbuild/bbs-3.22-bioc/R/site-library --timings MutationalPatterns_3.20.0.tar.gz |
| StartedAt: 2025-11-26 02:27:07 -0500 (Wed, 26 Nov 2025) |
| EndedAt: 2025-11-26 02:47:16 -0500 (Wed, 26 Nov 2025) |
| EllapsedTime: 1208.4 seconds |
| RetCode: 1 |
| Status: ERROR |
| CheckDir: MutationalPatterns.Rcheck |
| Warnings: NA |
##############################################################################
##############################################################################
###
### Running command:
###
### /home/biocbuild/bbs-3.22-bioc/R/bin/R CMD check --install=check:MutationalPatterns.install-out.txt --library=/home/biocbuild/bbs-3.22-bioc/R/site-library --timings MutationalPatterns_3.20.0.tar.gz
###
##############################################################################
##############################################################################
* using log directory ‘/home/biocbuild/bbs-3.22-bioc/meat/MutationalPatterns.Rcheck’
* using R version 4.5.2 (2025-10-31)
* using platform: x86_64-pc-linux-gnu
* R was compiled by
gcc (Ubuntu 13.3.0-6ubuntu2~24.04) 13.3.0
GNU Fortran (Ubuntu 13.3.0-6ubuntu2~24.04) 13.3.0
* running under: Ubuntu 24.04.3 LTS
* using session charset: UTF-8
* checking for file ‘MutationalPatterns/DESCRIPTION’ ... OK
* checking extension type ... Package
* this is package ‘MutationalPatterns’ version ‘3.20.0’
* package encoding: UTF-8
* checking package namespace information ... OK
* checking package dependencies ... OK
* checking if this is a source package ... OK
* checking if there is a namespace ... OK
* checking for hidden files and directories ... OK
* checking for portable file names ... OK
* checking for sufficient/correct file permissions ... OK
* checking whether package ‘MutationalPatterns’ can be installed ... OK
* checking installed package size ... OK
* checking package directory ... OK
* checking ‘build’ directory ... OK
* checking DESCRIPTION meta-information ... NOTE
License stub is invalid DCF.
* checking top-level files ... OK
* checking for left-over files ... OK
* checking index information ... OK
* checking package subdirectories ... OK
* checking code files for non-ASCII characters ... OK
* checking R files for syntax errors ... OK
* checking whether the package can be loaded ... OK
* checking whether the package can be loaded with stated dependencies ... OK
* checking whether the package can be unloaded cleanly ... OK
* checking whether the namespace can be loaded with stated dependencies ... OK
* checking whether the namespace can be unloaded cleanly ... OK
* checking loading without being on the library search path ... OK
* checking dependencies in R code ... OK
* checking S3 generic/method consistency ... OK
* checking replacement functions ... OK
* checking foreign function calls ... OK
* checking R code for possible problems ... OK
* checking Rd files ... OK
* checking Rd metadata ... OK
* checking Rd cross-references ... OK
* checking for missing documentation entries ... OK
* checking for code/documentation mismatches ... OK
* checking Rd \usage sections ... OK
* checking Rd contents ... OK
* checking for unstated dependencies in examples ... OK
* checking files in ‘vignettes’ ... OK
* checking examples ... OK
Examples with CPU (user + system) or elapsed time > 5s
user system elapsed
context_potential_damage_analysis 24.369 0.656 25.025
read_vcfs_as_granges 18.928 0.339 24.686
plot_lesion_segregation 16.825 0.081 16.906
get_mut_type 10.940 0.054 10.995
calculate_lesion_segregation 10.694 0.231 10.927
plot_compare_indels 10.576 0.014 10.590
bin_mutation_density 9.927 0.498 10.427
plot_indel_contexts 10.190 0.056 10.247
genomic_distribution 10.011 0.202 10.213
plot_compare_dbs 6.757 0.072 6.829
get_indel_context 6.384 0.316 6.701
fit_to_signatures_bootstrapped 6.092 0.045 6.137
plot_river 5.849 0.142 5.991
plot_profile_heatmap 5.885 0.032 5.917
plot_spectrum_region 5.439 0.049 5.492
plot_spectrum 5.187 0.073 5.261
plot_dbs_contexts 5.154 0.009 5.164
mut_matrix_stranded 4.876 0.195 5.071
fit_to_signatures_strict 4.868 0.185 5.053
* checking for unstated dependencies in ‘tests’ ... OK
* checking tests ...
Running ‘testthat.R’
ERROR
Running the tests in ‘tests/testthat.R’ failed.
Last 13 lines of output:
[68] 2 - 1 == 1
[69] 4 - 3 == 1
[70] 5 - 6 == -1
[71] 2 - 1 == 1
[72] 1 - 0 == 1
[74] 3 - 2 == 1
[77] 4 - 3 == 1
[78] 2 - 1 == 1
[79] 1 - 0 == 1
...
[ FAIL 3 | WARN 41 | SKIP 0 | PASS 471 ]
Error:
! Test failures.
Execution halted
* checking for unstated dependencies in vignettes ... OK
* checking package vignettes ... OK
* checking re-building of vignette outputs ... OK
* checking PDF version of manual ... OK
* DONE
Status: 1 ERROR, 1 NOTE
See
‘/home/biocbuild/bbs-3.22-bioc/meat/MutationalPatterns.Rcheck/00check.log’
for details.
MutationalPatterns.Rcheck/00install.out
############################################################################## ############################################################################## ### ### Running command: ### ### /home/biocbuild/bbs-3.22-bioc/R/bin/R CMD INSTALL MutationalPatterns ### ############################################################################## ############################################################################## * installing to library ‘/home/biocbuild/bbs-3.22-bioc/R/site-library’ * installing *source* package ‘MutationalPatterns’ ... ** this is package ‘MutationalPatterns’ version ‘3.20.0’ ** using staged installation ** R ** inst ** byte-compile and prepare package for lazy loading ** help *** installing help indices ** building package indices ** installing vignettes ** testing if installed package can be loaded from temporary location ** testing if installed package can be loaded from final location ** testing if installed package keeps a record of temporary installation path * DONE (MutationalPatterns)
MutationalPatterns.Rcheck/tests/testthat.Rout.fail
R version 4.5.2 (2025-10-31) -- "[Not] Part in a Rumble"
Copyright (C) 2025 The R Foundation for Statistical Computing
Platform: x86_64-pc-linux-gnu
R is free software and comes with ABSOLUTELY NO WARRANTY.
You are welcome to redistribute it under certain conditions.
Type 'license()' or 'licence()' for distribution details.
R is a collaborative project with many contributors.
Type 'contributors()' for more information and
'citation()' on how to cite R or R packages in publications.
Type 'demo()' for some demos, 'help()' for on-line help, or
'help.start()' for an HTML browser interface to help.
Type 'q()' to quit R.
> library(testthat)
> library(MutationalPatterns)
Loading required package: GenomicRanges
Loading required package: stats4
Loading required package: BiocGenerics
Loading required package: generics
Attaching package: 'generics'
The following objects are masked from 'package:base':
as.difftime, as.factor, as.ordered, intersect, is.element, setdiff,
setequal, union
Attaching package: 'BiocGenerics'
The following objects are masked from 'package:stats':
IQR, mad, sd, var, xtabs
The following objects are masked from 'package:base':
Filter, Find, Map, Position, Reduce, anyDuplicated, aperm, append,
as.data.frame, basename, cbind, colnames, dirname, do.call,
duplicated, eval, evalq, get, grep, grepl, is.unsorted, lapply,
mapply, match, mget, order, paste, pmax, pmax.int, pmin, pmin.int,
rank, rbind, rownames, sapply, saveRDS, table, tapply, unique,
unsplit, which.max, which.min
Loading required package: S4Vectors
Attaching package: 'S4Vectors'
The following object is masked from 'package:utils':
findMatches
The following objects are masked from 'package:base':
I, expand.grid, unname
Loading required package: IRanges
Loading required package: Seqinfo
Loading required package: NMF
Loading required package: registry
Loading required package: rngtools
Loading required package: cluster
NMF - BioConductor layer [OK] | Shared memory capabilities [NO: bigmemory] | Cores 2/2
To enable shared memory capabilities, try: install.extras('
NMF
')
Attaching package: 'NMF'
The following object is masked from 'package:S4Vectors':
nrun
The following object is masked from 'package:generics':
fit
The following object is masked from 'package:testthat':
compare
>
> test_check("MutationalPatterns")
Saving _problems/test-context_potential_damage_analysis-46.R
Saving _problems/test-mut_matrix_stranded-20.R
Saving _problems/test-mut_matrix_stranded-29.R
[ FAIL 3 | WARN 41 | SKIP 0 | PASS 471 ]
══ Failed tests ════════════════════════════════════════════════════════════════
── Failure ('test-context_potential_damage_analysis.R:46:3'): Output is equal to expected ──
Expected `output` to equal `expected`.
Differences:
Component "n": Mean relative difference: 0.09452736
Component "ratio": Mean relative difference: 0.06150134
Component "blosum62": Mean relative difference: 0.2656804
── Failure ('test-mut_matrix_stranded.R:20:3'): transforms correctly ───────────
Expected `output` to equal `expected`.
Differences:
382/1728 mismatches (average diff: 1.45)
[68] 2 - 1 == 1
[69] 4 - 3 == 1
[70] 5 - 6 == -1
[71] 2 - 1 == 1
[72] 1 - 0 == 1
[74] 3 - 2 == 1
[77] 4 - 3 == 1
[78] 2 - 1 == 1
[79] 1 - 0 == 1
...
── Failure ('test-mut_matrix_stranded.R:29:3'): a list is also acceptable input ──
Expected `output_list` to equal `expected`.
Differences:
382/1728 mismatches (average diff: 1.45)
[68] 2 - 1 == 1
[69] 4 - 3 == 1
[70] 5 - 6 == -1
[71] 2 - 1 == 1
[72] 1 - 0 == 1
[74] 3 - 2 == 1
[77] 4 - 3 == 1
[78] 2 - 1 == 1
[79] 1 - 0 == 1
...
[ FAIL 3 | WARN 41 | SKIP 0 | PASS 471 ]
Error:
! Test failures.
Execution halted
MutationalPatterns.Rcheck/MutationalPatterns-Ex.timings
| name | user | system | elapsed | |
| bin_mutation_density | 9.927 | 0.498 | 10.427 | |
| binomial_test | 0.009 | 0.000 | 0.011 | |
| calculate_lesion_segregation | 10.694 | 0.231 | 10.927 | |
| cluster_signatures | 0.044 | 0.001 | 0.046 | |
| context_potential_damage_analysis | 24.369 | 0.656 | 25.025 | |
| convert_sigs_to_ref | 0.036 | 0.005 | 0.042 | |
| cos_sim | 0 | 0 | 0 | |
| cos_sim_matrix | 0.019 | 0.001 | 0.020 | |
| count_dbs_contexts | 0.084 | 0.003 | 0.087 | |
| count_indel_contexts | 0.098 | 0.001 | 0.098 | |
| count_mbs_contexts | 0.118 | 0.000 | 0.118 | |
| determine_regional_similarity | 2.855 | 0.121 | 2.976 | |
| enrichment_depletion_test | 0.132 | 0.000 | 0.132 | |
| extract_signatures | 0.001 | 0.000 | 0.001 | |
| fit_to_signatures | 0.081 | 0.013 | 0.094 | |
| fit_to_signatures_bootstrapped | 6.092 | 0.045 | 6.137 | |
| fit_to_signatures_strict | 4.868 | 0.185 | 5.053 | |
| genomic_distribution | 10.011 | 0.202 | 10.213 | |
| get_dbs_context | 0.243 | 0.001 | 0.244 | |
| get_indel_context | 6.384 | 0.316 | 6.701 | |
| get_known_signatures | 0.182 | 0.060 | 0.244 | |
| get_mut_type | 10.940 | 0.054 | 10.995 | |
| lengthen_mut_matrix | 0.010 | 0.002 | 0.012 | |
| merge_signatures | 1.093 | 0.040 | 1.133 | |
| mut_context | 1.098 | 0.060 | 1.157 | |
| mut_matrix | 1.795 | 0.112 | 1.907 | |
| mut_matrix_stranded | 4.876 | 0.195 | 5.071 | |
| mut_strand | 1.806 | 0.016 | 1.822 | |
| mut_type | 0.03 | 0.00 | 0.03 | |
| mut_type_occurrences | 0.913 | 0.038 | 0.951 | |
| mutations_from_vcf | 0.027 | 0.000 | 0.027 | |
| plot_192_profile | 3.490 | 0.029 | 3.520 | |
| plot_96_profile | 2.824 | 0.002 | 2.826 | |
| plot_bootstrapped_contribution | 2.548 | 0.018 | 2.566 | |
| plot_compare_dbs | 6.757 | 0.072 | 6.829 | |
| plot_compare_indels | 10.576 | 0.014 | 10.590 | |
| plot_compare_mbs | 1.336 | 0.004 | 1.340 | |
| plot_compare_profiles | 2.663 | 0.004 | 2.668 | |
| plot_contribution | 2.233 | 0.026 | 2.259 | |
| plot_contribution_heatmap | 2.299 | 0.009 | 2.309 | |
| plot_correlation_bootstrap | 1.756 | 0.000 | 1.757 | |
| plot_cosine_heatmap | 2.646 | 0.016 | 2.662 | |
| plot_dbs_contexts | 5.154 | 0.009 | 5.164 | |
| plot_enrichment_depletion | 4.864 | 0.033 | 4.898 | |
| plot_indel_contexts | 10.190 | 0.056 | 10.247 | |
| plot_lesion_segregation | 16.825 | 0.081 | 16.906 | |
| plot_main_dbs_contexts | 0.848 | 0.002 | 0.851 | |
| plot_main_indel_contexts | 0.909 | 0.002 | 0.912 | |
| plot_mbs_contexts | 0.756 | 0.001 | 0.757 | |
| plot_original_vs_reconstructed | 1.021 | 0.000 | 1.021 | |
| plot_profile_heatmap | 5.885 | 0.032 | 5.917 | |
| plot_profile_region | 1.273 | 0.000 | 1.274 | |
| plot_rainfall | 2.126 | 0.002 | 2.128 | |
| plot_regional_similarity | 2.558 | 0.009 | 2.568 | |
| plot_river | 5.849 | 0.142 | 5.991 | |
| plot_signature_strand_bias | 0.938 | 0.000 | 0.938 | |
| plot_spectrum | 5.187 | 0.073 | 5.261 | |
| plot_spectrum_region | 5.439 | 0.049 | 5.492 | |
| plot_strand | 0.274 | 0.012 | 0.286 | |
| plot_strand_bias | 0.927 | 0.011 | 0.938 | |
| pool_mut_mat | 0.036 | 0.001 | 0.036 | |
| read_vcfs_as_granges | 18.928 | 0.339 | 24.686 | |
| rename_nmf_signatures | 0.031 | 0.001 | 0.032 | |
| signature_potential_damage_analysis | 0.085 | 0.000 | 0.085 | |
| split_muts_region | 3.955 | 0.013 | 3.968 | |
| strand_bias_test | 0.109 | 0.000 | 0.108 | |
| strand_occurrences | 0.153 | 0.006 | 0.159 | |
| type_context | 1.230 | 0.055 | 1.285 | |