Back to Multiple platform build/check report for BioC 3.22:   simplified   long
ABCDEFGHIJKLMNOPQR[S]TUVWXYZ

This page was generated on 2025-11-14 11:58 -0500 (Fri, 14 Nov 2025).

HostnameOSArch (*)R versionInstalled pkgs
nebbiolo2Linux (Ubuntu 24.04.3 LTS)x86_644.5.1 Patched (2025-08-23 r88802) -- "Great Square Root" 4903
taishanLinux (openEuler 24.03 LTS)aarch644.5.0 (2025-04-11) -- "How About a Twenty-Six" 4668
Click on any hostname to see more info about the system (e.g. compilers)      (*) as reported by 'uname -p', except on Windows and Mac OS X

Package 2094/2361HostnameOS / ArchINSTALLBUILDCHECKBUILD BIN
SpectriPy 1.0.0  (landing page)
Johannes Rainer
Snapshot Date: 2025-11-13 13:45 -0500 (Thu, 13 Nov 2025)
git_url: https://git.bioconductor.org/packages/SpectriPy
git_branch: RELEASE_3_22
git_last_commit: 017658a
git_last_commit_date: 2025-10-29 11:36:52 -0500 (Wed, 29 Oct 2025)
nebbiolo2Linux (Ubuntu 24.04.3 LTS) / x86_64  OK    OK    OK  UNNEEDED, same version is already published
taishanLinux (openEuler 24.03 LTS) / aarch64  OK    OK    OK  


CHECK results for SpectriPy on nebbiolo2

To the developers/maintainers of the SpectriPy package:
- Allow up to 24 hours (and sometimes 48 hours) for your latest push to git@git.bioconductor.org:packages/SpectriPy.git to reflect on this report. See Troubleshooting Build Report for more information.
- Use the following Renviron settings to reproduce errors and warnings.
- If 'R CMD check' started to fail recently on the Linux builder(s) over a missing dependency, add the missing dependency to 'Suggests:' in your DESCRIPTION file. See Renviron.bioc for more information.

raw results


Summary

Package: SpectriPy
Version: 1.0.0
Command: /home/biocbuild/bbs-3.22-bioc/R/bin/R CMD check --install=check:SpectriPy.install-out.txt --library=/home/biocbuild/bbs-3.22-bioc/R/site-library --timings SpectriPy_1.0.0.tar.gz
StartedAt: 2025-11-14 04:32:42 -0500 (Fri, 14 Nov 2025)
EndedAt: 2025-11-14 04:46:01 -0500 (Fri, 14 Nov 2025)
EllapsedTime: 798.8 seconds
RetCode: 0
Status:   OK  
CheckDir: SpectriPy.Rcheck
Warnings: 0

Command output

##############################################################################
##############################################################################
###
### Running command:
###
###   /home/biocbuild/bbs-3.22-bioc/R/bin/R CMD check --install=check:SpectriPy.install-out.txt --library=/home/biocbuild/bbs-3.22-bioc/R/site-library --timings SpectriPy_1.0.0.tar.gz
###
##############################################################################
##############################################################################


* using log directory ‘/home/biocbuild/bbs-3.22-bioc/meat/SpectriPy.Rcheck’
* using R version 4.5.1 Patched (2025-08-23 r88802)
* using platform: x86_64-pc-linux-gnu
* R was compiled by
    gcc (Ubuntu 13.3.0-6ubuntu2~24.04) 13.3.0
    GNU Fortran (Ubuntu 13.3.0-6ubuntu2~24.04) 13.3.0
* running under: Ubuntu 24.04.3 LTS
* using session charset: UTF-8
* checking for file ‘SpectriPy/DESCRIPTION’ ... OK
* this is package ‘SpectriPy’ version ‘1.0.0’
* package encoding: UTF-8
* checking package namespace information ... OK
* checking package dependencies ... OK
* checking if this is a source package ... OK
* checking if there is a namespace ... OK
* checking for hidden files and directories ... OK
* checking for portable file names ... OK
* checking for sufficient/correct file permissions ... OK
* checking whether package ‘SpectriPy’ can be installed ... OK
* checking installed package size ... OK
* checking package directory ... OK
* checking ‘build’ directory ... OK
* checking DESCRIPTION meta-information ... OK
* checking top-level files ... OK
* checking for left-over files ... OK
* checking index information ... OK
* checking package subdirectories ... OK
* checking code files for non-ASCII characters ... OK
* checking R files for syntax errors ... OK
* checking whether the package can be loaded ... OK
* checking whether the package can be loaded with stated dependencies ... OK
* checking whether the package can be unloaded cleanly ... OK
* checking whether the namespace can be loaded with stated dependencies ... OK
* checking whether the namespace can be unloaded cleanly ... OK
* checking loading without being on the library search path ... OK
* checking whether startup messages can be suppressed ... OK
* checking dependencies in R code ... NOTE
Unexported object imported by a ':::' call: ‘Spectra:::.check_peaks_data_value’
  See the note in ?`:::` about the use of this operator.
* checking S3 generic/method consistency ... OK
* checking replacement functions ... OK
* checking foreign function calls ... OK
* checking R code for possible problems ... OK
* checking Rd files ... OK
* checking Rd metadata ... OK
* checking Rd cross-references ... OK
* checking for missing documentation entries ... OK
* checking for code/documentation mismatches ... OK
* checking Rd \usage sections ... OK
* checking Rd contents ... OK
* checking for unstated dependencies in examples ... OK
* checking files in ‘vignettes’ ... OK
* checking examples ... OK
Examples with CPU (user + system) or elapsed time > 5s
             user system elapsed
MsBackendPy 5.142  0.774   5.797
* checking for unstated dependencies in ‘tests’ ... OK
* checking tests ...
  Running ‘testthat.R’
 OK
* checking for unstated dependencies in vignettes ... OK
* checking package vignettes ... OK
* checking re-building of vignette outputs ... OK
* checking PDF version of manual ... OK
* DONE

Status: 1 NOTE
See
  ‘/home/biocbuild/bbs-3.22-bioc/meat/SpectriPy.Rcheck/00check.log’
for details.


Installation output

SpectriPy.Rcheck/00install.out

##############################################################################
##############################################################################
###
### Running command:
###
###   /home/biocbuild/bbs-3.22-bioc/R/bin/R CMD INSTALL SpectriPy
###
##############################################################################
##############################################################################


* installing to library ‘/home/biocbuild/bbs-3.22-bioc/R/site-library’
* installing *source* package ‘SpectriPy’ ...
** this is package ‘SpectriPy’ version ‘1.0.0’
** using staged installation
** R
** inst
** byte-compile and prepare package for lazy loading
** help
*** installing help indices
*** copying figures
** building package indices
** installing vignettes
** testing if installed package can be loaded from temporary location
** testing if installed package can be loaded from final location
** testing if installed package keeps a record of temporary installation path
* DONE (SpectriPy)

Tests output

SpectriPy.Rcheck/tests/testthat.Rout


R version 4.5.1 Patched (2025-08-23 r88802) -- "Great Square Root"
Copyright (C) 2025 The R Foundation for Statistical Computing
Platform: x86_64-pc-linux-gnu

R is free software and comes with ABSOLUTELY NO WARRANTY.
You are welcome to redistribute it under certain conditions.
Type 'license()' or 'licence()' for distribution details.

R is a collaborative project with many contributors.
Type 'contributors()' for more information and
'citation()' on how to cite R or R packages in publications.

Type 'demo()' for some demos, 'help()' for on-line help, or
'help.start()' for an HTML browser interface to help.
Type 'q()' to quit R.

> library(testthat)
> library(Spectra)
Loading required package: S4Vectors
Loading required package: stats4
Loading required package: BiocGenerics
Loading required package: generics

Attaching package: 'generics'

The following objects are masked from 'package:base':

    as.difftime, as.factor, as.ordered, intersect, is.element, setdiff,
    setequal, union


Attaching package: 'BiocGenerics'

The following objects are masked from 'package:stats':

    IQR, mad, sd, var, xtabs

The following objects are masked from 'package:base':

    Filter, Find, Map, Position, Reduce, anyDuplicated, aperm, append,
    as.data.frame, basename, cbind, colnames, dirname, do.call,
    duplicated, eval, evalq, get, grep, grepl, is.unsorted, lapply,
    mapply, match, mget, order, paste, pmax, pmax.int, pmin, pmin.int,
    rank, rbind, rownames, sapply, saveRDS, table, tapply, unique,
    unsplit, which.max, which.min


Attaching package: 'S4Vectors'

The following object is masked from 'package:utils':

    findMatches

The following objects are masked from 'package:base':

    I, expand.grid, unname

Loading required package: BiocParallel
> library(SpectriPy)
Loading required package: reticulate
> library(MsBackendMgf)
> 
> fl <- system.file("extdata", "mgf", "test.mgf", package = "SpectriPy")
> s <- Spectra(fl, source = MsBackendMgf())
Start data import from 1 files ... done
> s <- setBackend(s, MsBackendPy(), pythonVariableName = "py_be")
> 
> be <- s@backend
> 
> test_check("SpectriPy")
2025-11-14 04:37:17,490:WARNING:matchms:add_precursor_mz:No precursor_mz found in metadata.
2025-11-14 04:37:17,492:WARNING:matchms:add_precursor_mz:No precursor_mz found in metadata.
2025-11-14 04:37:17,492:WARNING:matchms:add_precursor_mz:No precursor_mz found in metadata.
2025-11-14 04:37:17,493:WARNING:matchms:add_precursor_mz:No precursor_mz found in metadata.
2025-11-14 04:37:17,494:WARNING:matchms:add_precursor_mz:No precursor_mz found in metadata.
2025-11-14 04:37:17,494:WARNING:matchms:add_precursor_mz:No precursor_mz found in metadata.
2025-11-14 04:37:17,495:WARNING:matchms:add_precursor_mz:No precursor_mz found in metadata.
2025-11-14 04:37:17,496:WARNING:matchms:add_precursor_mz:No precursor_mz found in metadata.
2025-11-14 04:37:17,497:WARNING:matchms:add_precursor_mz:No precursor_mz found in metadata.
2025-11-14 04:37:17,497:WARNING:matchms:add_precursor_mz:No precursor_mz found in metadata.
2025-11-14 04:37:17,498:WARNING:matchms:add_precursor_mz:No precursor_mz found in metadata.
2025-11-14 04:37:17,499:WARNING:matchms:add_precursor_mz:No precursor_mz found in metadata.
2025-11-14 04:37:17,499:WARNING:matchms:add_precursor_mz:No precursor_mz found in metadata.
2025-11-14 04:37:17,500:WARNING:matchms:add_precursor_mz:No precursor_mz found in metadata.
2025-11-14 04:37:17,501:WARNING:matchms:add_precursor_mz:No precursor_mz found in metadata.
2025-11-14 04:37:17,501:WARNING:matchms:add_precursor_mz:No precursor_mz found in metadata.
2025-11-14 04:37:17,502:WARNING:matchms:add_precursor_mz:No precursor_mz found in metadata.
2025-11-14 04:37:17,503:WARNING:matchms:add_precursor_mz:No precursor_mz found in metadata.
2025-11-14 04:37:17,503:WARNING:matchms:add_precursor_mz:No precursor_mz found in metadata.
2025-11-14 04:37:17,504:WARNING:matchms:add_precursor_mz:No precursor_mz found in metadata.
2025-11-14 04:37:17,505:WARNING:matchms:add_precursor_mz:No precursor_mz found in metadata.
2025-11-14 04:37:17,505:WARNING:matchms:add_precursor_mz:No precursor_mz found in metadata.
2025-11-14 04:37:17,506:WARNING:matchms:add_precursor_mz:No precursor_mz found in metadata.
2025-11-14 04:37:17,507:WARNING:matchms:add_precursor_mz:No precursor_mz found in metadata.
2025-11-14 04:37:17,507:WARNING:matchms:add_precursor_mz:No precursor_mz found in metadata.
2025-11-14 04:37:17,508:WARNING:matchms:add_precursor_mz:No precursor_mz found in metadata.
2025-11-14 04:37:17,509:WARNING:matchms:add_precursor_mz:No precursor_mz found in metadata.
2025-11-14 04:37:17,509:WARNING:matchms:add_precursor_mz:No precursor_mz found in metadata.
2025-11-14 04:37:17,510:WARNING:matchms:add_precursor_mz:No precursor_mz found in metadata.
2025-11-14 04:37:17,511:WARNING:matchms:add_precursor_mz:No precursor_mz found in metadata.
2025-11-14 04:37:17,511:WARNING:matchms:add_precursor_mz:No precursor_mz found in metadata.
2025-11-14 04:37:17,512:WARNING:matchms:add_precursor_mz:No precursor_mz found in metadata.
2025-11-14 04:37:17,513:WARNING:matchms:add_precursor_mz:No precursor_mz found in metadata.
2025-11-14 04:37:17,513:WARNING:matchms:add_precursor_mz:No precursor_mz found in metadata.
2025-11-14 04:37:17,514:WARNING:matchms:add_precursor_mz:No precursor_mz found in metadata.
2025-11-14 04:37:17,515:WARNING:matchms:add_precursor_mz:No precursor_mz found in metadata.
2025-11-14 04:37:17,516:WARNING:matchms:add_precursor_mz:No precursor_mz found in metadata.
2025-11-14 04:37:17,516:WARNING:matchms:add_precursor_mz:No precursor_mz found in metadata.
2025-11-14 04:37:17,517:WARNING:matchms:add_precursor_mz:No precursor_mz found in metadata.
2025-11-14 04:37:17,518:WARNING:matchms:add_precursor_mz:No precursor_mz found in metadata.
2025-11-14 04:37:17,518:WARNING:matchms:add_precursor_mz:No precursor_mz found in metadata.
2025-11-14 04:37:17,519:WARNING:matchms:add_precursor_mz:No precursor_mz found in metadata.
2025-11-14 04:37:17,520:WARNING:matchms:add_precursor_mz:No precursor_mz found in metadata.
2025-11-14 04:37:17,521:WARNING:matchms:add_precursor_mz:No precursor_mz found in metadata.
2025-11-14 04:37:17,521:WARNING:matchms:add_precursor_mz:No precursor_mz found in metadata.
2025-11-14 04:37:17,522:WARNING:matchms:add_precursor_mz:No precursor_mz found in metadata.
2025-11-14 04:37:17,523:WARNING:matchms:add_precursor_mz:No precursor_mz found in metadata.
2025-11-14 04:37:17,524:WARNING:matchms:add_precursor_mz:No precursor_mz found in metadata.
2025-11-14 04:37:17,524:WARNING:matchms:add_precursor_mz:No precursor_mz found in metadata.
2025-11-14 04:37:17,525:WARNING:matchms:add_precursor_mz:No precursor_mz found in metadata.
2025-11-14 04:37:17,526:WARNING:matchms:add_precursor_mz:No precursor_mz found in metadata.
2025-11-14 04:37:17,526:WARNING:matchms:add_precursor_mz:No precursor_mz found in metadata.
2025-11-14 04:37:17,527:WARNING:matchms:add_precursor_mz:No precursor_mz found in metadata.
2025-11-14 04:37:17,528:WARNING:matchms:add_precursor_mz:No precursor_mz found in metadata.
2025-11-14 04:37:17,528:WARNING:matchms:add_precursor_mz:No precursor_mz found in metadata.
2025-11-14 04:37:17,529:WARNING:matchms:add_precursor_mz:No precursor_mz found in metadata.
2025-11-14 04:37:17,530:WARNING:matchms:add_precursor_mz:No precursor_mz found in metadata.
2025-11-14 04:37:17,530:WARNING:matchms:add_precursor_mz:No precursor_mz found in metadata.
2025-11-14 04:37:17,531:WARNING:matchms:add_precursor_mz:No precursor_mz found in metadata.
2025-11-14 04:37:17,532:WARNING:matchms:add_precursor_mz:No precursor_mz found in metadata.
2025-11-14 04:37:17,532:WARNING:matchms:add_precursor_mz:No precursor_mz found in metadata.
2025-11-14 04:37:17,533:WARNING:matchms:add_precursor_mz:No precursor_mz found in metadata.
2025-11-14 04:37:17,534:WARNING:matchms:add_precursor_mz:No precursor_mz found in metadata.
2025-11-14 04:37:17,534:WARNING:matchms:add_precursor_mz:No precursor_mz found in metadata.
2025-11-14 04:37:17,535:WARNING:matchms:add_precursor_mz:No precursor_mz found in metadata.
2025-11-14 04:37:17,536:WARNING:matchms:add_precursor_mz:No precursor_mz found in metadata.
2025-11-14 04:37:17,536:WARNING:matchms:add_precursor_mz:No precursor_mz found in metadata.
2025-11-14 04:37:17,537:WARNING:matchms:add_precursor_mz:No precursor_mz found in metadata.
2025-11-14 04:37:17,538:WARNING:matchms:add_precursor_mz:No precursor_mz found in metadata.
2025-11-14 04:37:17,538:WARNING:matchms:add_precursor_mz:No precursor_mz found in metadata.
2025-11-14 04:37:17,539:WARNING:matchms:add_precursor_mz:No precursor_mz found in metadata.
2025-11-14 04:37:17,540:WARNING:matchms:add_precursor_mz:No precursor_mz found in metadata.
2025-11-14 04:37:17,540:WARNING:matchms:add_precursor_mz:No precursor_mz found in metadata.
2025-11-14 04:37:17,541:WARNING:matchms:add_precursor_mz:No precursor_mz found in metadata.
2025-11-14 04:37:17,542:WARNING:matchms:add_precursor_mz:No precursor_mz found in metadata.
2025-11-14 04:37:17,542:WARNING:matchms:add_precursor_mz:No precursor_mz found in metadata.
2025-11-14 04:37:17,543:WARNING:matchms:add_precursor_mz:No precursor_mz found in metadata.
2025-11-14 04:37:17,544:WARNING:matchms:add_precursor_mz:No precursor_mz found in metadata.
2025-11-14 04:37:17,544:WARNING:matchms:add_precursor_mz:No precursor_mz found in metadata.
2025-11-14 04:37:17,545:WARNING:matchms:add_precursor_mz:No precursor_mz found in metadata.
2025-11-14 04:37:17,546:WARNING:matchms:add_precursor_mz:No precursor_mz found in metadata.
2025-11-14 04:37:17,546:WARNING:matchms:add_precursor_mz:No precursor_mz found in metadata.
2025-11-14 04:37:17,547:WARNING:matchms:add_precursor_mz:No precursor_mz found in metadata.
2025-11-14 04:37:17,548:WARNING:matchms:add_precursor_mz:No precursor_mz found in metadata.
2025-11-14 04:37:17,549:WARNING:matchms:add_precursor_mz:No precursor_mz found in metadata.
2025-11-14 04:37:17,549:WARNING:matchms:add_precursor_mz:No precursor_mz found in metadata.
2025-11-14 04:37:17,550:WARNING:matchms:add_precursor_mz:No precursor_mz found in metadata.
2025-11-14 04:37:17,551:WARNING:matchms:add_precursor_mz:No precursor_mz found in metadata.
2025-11-14 04:37:17,551:WARNING:matchms:add_precursor_mz:No precursor_mz found in metadata.
2025-11-14 04:37:17,552:WARNING:matchms:add_precursor_mz:No precursor_mz found in metadata.
2025-11-14 04:37:17,553:WARNING:matchms:add_precursor_mz:No precursor_mz found in metadata.
2025-11-14 04:37:17,553:WARNING:matchms:add_precursor_mz:No precursor_mz found in metadata.
2025-11-14 04:37:17,554:WARNING:matchms:add_precursor_mz:No precursor_mz found in metadata.
2025-11-14 04:37:17,555:WARNING:matchms:add_precursor_mz:No precursor_mz found in metadata.
2025-11-14 04:37:17,555:WARNING:matchms:add_precursor_mz:No precursor_mz found in metadata.
2025-11-14 04:37:17,556:WARNING:matchms:add_precursor_mz:No precursor_mz found in metadata.
2025-11-14 04:37:17,557:WARNING:matchms:add_precursor_mz:No precursor_mz found in metadata.
2025-11-14 04:37:17,557:WARNING:matchms:add_precursor_mz:No precursor_mz found in metadata.
2025-11-14 04:37:17,558:WARNING:matchms:add_precursor_mz:No precursor_mz found in metadata.
2025-11-14 04:37:17,559:WARNING:matchms:add_precursor_mz:No precursor_mz found in metadata.

Calculating similarities:   0%|          | 0/4 [00:00<?, ?it/s]
Calculating similarities:  25%|██▌       | 1/4 [00:02<00:07,  2.52s/it]
Calculating similarities: 100%|██████████| 4/4 [00:02<00:00,  1.59it/s]

Calculating similarities:   0%|          | 0/4 [00:00<?, ?it/s]
Calculating similarities: 100%|██████████| 4/4 [00:00<00:00, 4305.16it/s]

Calculating similarities:   0%|          | 0/4 [00:00<?, ?it/s]
Calculating similarities: 100%|██████████| 4/4 [00:00<00:00, 3216.49it/s]

Calculating similarities:   0%|          | 0/4 [00:00<?, ?it/s]
Calculating similarities: 100%|██████████| 4/4 [00:00<00:00, 4287.56it/s]

Calculating similarities:   0%|          | 0/2 [00:00<?, ?it/s]
Calculating similarities: 100%|██████████| 2/2 [00:00<00:00, 5174.96it/s]

Calculating similarities:   0%|          | 0/2 [00:00<?, ?it/s]
Calculating similarities: 100%|██████████| 2/2 [00:00<00:00, 3807.81it/s]

Calculating similarities:   0%|          | 0/2 [00:00<?, ?it/s]
Calculating similarities: 100%|██████████| 2/2 [00:00<00:00, 5360.13it/s]

Calculating similarities:   0%|          | 0/2 [00:00<?, ?it/s]
Calculating similarities: 100%|██████████| 2/2 [00:00<00:00, 2288.22it/s]

Calculating similarities:   0%|          | 0/2 [00:00<?, ?it/s]
Calculating similarities: 100%|██████████| 2/2 [00:00<00:00, 3287.07it/s]

Calculating similarities:   0%|          | 0/2 [00:00<?, ?it/s]
Calculating similarities: 100%|██████████| 2/2 [00:00<00:00, 3182.32it/s]

Calculating similarities:   0%|          | 0/4 [00:00<?, ?it/s]
Calculating similarities:  50%|█████     | 2/4 [00:00<00:00, 1862.07it/s]

Calculating similarities:   0%|          | 0/2 [00:00<?, ?it/s]
Calculating similarities:  50%|█████     | 1/2 [00:00<00:00,  1.61it/s]
Calculating similarities: 100%|██████████| 2/2 [00:00<00:00,  3.22it/s]

Calculating similarities:   0%|          | 0/2 [00:00<?, ?it/s]
Calculating similarities:  50%|█████     | 1/2 [00:00<00:00,  1.15it/s]
Calculating similarities: 100%|██████████| 2/2 [00:00<00:00,  2.30it/s]
2025-11-14 04:37:28,990:WARNING:matchms:add_precursor_mz:No precursor_mz found in metadata.
2025-11-14 04:37:29,068:WARNING:matchms:add_precursor_mz:No precursor_mz found in metadata.
2025-11-14 04:37:29,069:WARNING:matchms:add_precursor_mz:No precursor_mz found in metadata.
2025-11-14 04:37:29,070:WARNING:matchms:add_precursor_mz:No precursor_mz found in metadata.
2025-11-14 04:37:29,133:WARNING:matchms:add_precursor_mz:No precursor_mz found in metadata.
2025-11-14 04:37:29,134:WARNING:matchms:add_precursor_mz:No precursor_mz found in metadata.
2025-11-14 04:37:29,135:WARNING:matchms:add_precursor_mz:No precursor_mz found in metadata.
2025-11-14 04:37:29,382:WARNING:matchms:add_precursor_mz:No precursor_mz found in metadata.
2025-11-14 04:37:29,383:WARNING:matchms:add_precursor_mz:No precursor_mz found in metadata.
2025-11-14 04:37:29,384:WARNING:matchms:add_precursor_mz:No precursor_mz found in metadata.
2025-11-14 04:37:29,418:WARNING:matchms:add_precursor_mz:No precursor_mz found in metadata.
2025-11-14 04:37:29,419:WARNING:matchms:add_precursor_mz:No precursor_mz found in metadata.
2025-11-14 04:37:29,419:WARNING:matchms:add_precursor_mz:No precursor_mz found in metadata.
2025-11-14 04:37:29,709:WARNING:matchms:add_precursor_mz:No precursor_mz found in metadata.
2025-11-14 04:37:29,710:WARNING:matchms:add_precursor_mz:No precursor_mz found in metadata.
2025-11-14 04:37:29,711:WARNING:matchms:add_precursor_mz:No precursor_mz found in metadata.
2025-11-14 04:37:29,725:WARNING:matchms:add_precursor_mz:No precursor_mz found in metadata.
2025-11-14 04:37:29,726:WARNING:matchms:add_precursor_mz:No precursor_mz found in metadata.
2025-11-14 04:37:29,726:WARNING:matchms:add_precursor_mz:No precursor_mz found in metadata.

Processing spectra:   0%|          | 0/4 [00:00<?, ?it/s]
Processing spectra: 100%|██████████| 4/4 [00:00<00:00, 3031.66it/s]

Processing spectra:   0%|          | 0/4 [00:00<?, ?it/s]
Processing spectra: 100%|██████████| 4/4 [00:00<00:00, 3601.81it/s]

Processing spectra:   0%|          | 0/4 [00:00<?, ?it/s]
Processing spectra: 100%|██████████| 4/4 [00:00<00:00, 3304.55it/s]

Processing spectra:   0%|          | 0/4 [00:00<?, ?it/s]
Processing spectra: 100%|██████████| 4/4 [00:00<00:00, 3807.81it/s]

Processing spectra:   0%|          | 0/4 [00:00<?, ?it/s]
Processing spectra: 100%|██████████| 4/4 [00:00<00:00, 3298.71it/s]
[ FAIL 0 | WARN 4 | SKIP 1 | PASS 592 ]

══ Skipped tests (1) ═══════════════════════════════════════════════════════════
• empty test (1): 'test_zzz.R:16:1'

[ FAIL 0 | WARN 4 | SKIP 1 | PASS 592 ]
> 
> ## TODO: add tests from the Spectra unit test suite!
> 
> ## ## Run the MsBackend spectra variable test suite
> ## test_suite <- system.file("test_backends", "test_MsBackend",
> ##                           package = "Spectra")
> 
> ## ## Run single test file.
> ## res <- test_dir(test_suite, stop_on_failure = TRUE)
> 
> proc.time()
   user  system elapsed 
 28.967   3.001  31.294 

Example timings

SpectriPy.Rcheck/SpectriPy-Ex.timings

nameusersystemelapsed
MsBackendPy5.1420.7745.797
compareSpectriPy2.3300.1872.539
conversion0.3390.2100.419
filterSpectriPy0.1700.0100.179