Back to Multiple platform build/check report for BioC 3.22:   simplified   long
[A]BCDEFGHIJKLMNOPQRSTUVWXYZ

This page was generated on 2025-10-09 12:07 -0400 (Thu, 09 Oct 2025).

HostnameOSArch (*)R versionInstalled pkgs
nebbiolo2Linux (Ubuntu 24.04.3 LTS)x86_644.5.1 Patched (2025-08-23 r88802) -- "Great Square Root" 4854
lconwaymacOS 12.7.1 Montereyx86_644.5.1 Patched (2025-09-10 r88807) -- "Great Square Root" 4642
kjohnson3macOS 13.7.7 Venturaarm644.5.1 Patched (2025-09-10 r88807) -- "Great Square Root" 4587
taishanLinux (openEuler 24.03 LTS)aarch644.5.0 (2025-04-11) -- "How About a Twenty-Six" 4584
Click on any hostname to see more info about the system (e.g. compilers)      (*) as reported by 'uname -p', except on Windows and Mac OS X

Package 71/2341HostnameOS / ArchINSTALLBUILDCHECKBUILD BIN
annotate 1.87.0  (landing page)
Bioconductor Package Maintainer
Snapshot Date: 2025-10-08 14:17 -0400 (Wed, 08 Oct 2025)
git_url: https://git.bioconductor.org/packages/annotate
git_branch: devel
git_last_commit: 22204b6
git_last_commit_date: 2025-06-18 13:57:32 -0400 (Wed, 18 Jun 2025)
nebbiolo2Linux (Ubuntu 24.04.3 LTS) / x86_64  OK    OK    OK  UNNEEDED, same version is already published
lconwaymacOS 12.7.1 Monterey / x86_64  OK    OK    OK    OK  UNNEEDED, same version is already published
kjohnson3macOS 13.7.7 Ventura / arm64  OK    OK    OK    OK  UNNEEDED, same version is already published
taishanLinux (openEuler 24.03 LTS) / aarch64  OK    OK    OK  


CHECK results for annotate on taishan

To the developers/maintainers of the annotate package:
- Allow up to 24 hours (and sometimes 48 hours) for your latest push to git@git.bioconductor.org:packages/annotate.git to reflect on this report. See Troubleshooting Build Report for more information.
- Use the following Renviron settings to reproduce errors and warnings.
- If 'R CMD check' started to fail recently on the Linux builder(s) over a missing dependency, add the missing dependency to 'Suggests:' in your DESCRIPTION file. See Renviron.bioc for more information.
- See Martin Grigorov's blog post for how to debug Linux ARM64 related issues on a x86_64 host.

raw results


Summary

Package: annotate
Version: 1.87.0
Command: /home/biocbuild/R/R/bin/R CMD check --install=check:annotate.install-out.txt --library=/home/biocbuild/R/R/site-library --no-vignettes --timings annotate_1.87.0.tar.gz
StartedAt: 2025-10-07 04:18:54 -0000 (Tue, 07 Oct 2025)
EndedAt: 2025-10-07 04:26:42 -0000 (Tue, 07 Oct 2025)
EllapsedTime: 468.6 seconds
RetCode: 0
Status:   OK  
CheckDir: annotate.Rcheck
Warnings: 0

Command output

##############################################################################
##############################################################################
###
### Running command:
###
###   /home/biocbuild/R/R/bin/R CMD check --install=check:annotate.install-out.txt --library=/home/biocbuild/R/R/site-library --no-vignettes --timings annotate_1.87.0.tar.gz
###
##############################################################################
##############################################################################


* using log directory ‘/home/biocbuild/bbs-3.22-bioc/meat/annotate.Rcheck’
* using R version 4.5.0 (2025-04-11)
* using platform: aarch64-unknown-linux-gnu
* R was compiled by
    aarch64-unknown-linux-gnu-gcc (GCC) 14.2.0
    GNU Fortran (GCC) 14.2.0
* running under: openEuler 24.03 (LTS)
* using session charset: UTF-8
* using option ‘--no-vignettes’
* checking for file ‘annotate/DESCRIPTION’ ... OK
* this is package ‘annotate’ version ‘1.87.0’
* checking package namespace information ... OK
* checking package dependencies ... OK
* checking if this is a source package ... OK
* checking if there is a namespace ... OK
* checking for hidden files and directories ... OK
* checking for portable file names ... OK
* checking for sufficient/correct file permissions ... OK
* checking whether package ‘annotate’ can be installed ... OK
* checking installed package size ... OK
* checking package directory ... OK
* checking ‘build’ directory ... OK
* checking DESCRIPTION meta-information ... OK
* checking top-level files ... OK
* checking for left-over files ... OK
* checking index information ... OK
* checking package subdirectories ... OK
* checking code files for non-ASCII characters ... OK
* checking R files for syntax errors ... OK
* checking whether the package can be loaded ... OK
* checking whether the package can be loaded with stated dependencies ... OK
* checking whether the package can be unloaded cleanly ... OK
* checking whether the namespace can be loaded with stated dependencies ... OK
* checking whether the namespace can be unloaded cleanly ... OK
* checking loading without being on the library search path ... OK
* checking whether startup messages can be suppressed ... OK
* checking dependencies in R code ... NOTE
Unexported object imported by a ':::' call: ‘BiocGenerics:::testPackage’
  See the note in ?`:::` about the use of this operator.
* checking S3 generic/method consistency ... OK
* checking replacement functions ... OK
* checking foreign function calls ... OK
* checking R code for possible problems ... OK
* checking Rd files ... OK
* checking Rd metadata ... OK
* checking Rd cross-references ... OK
* checking for missing documentation entries ... OK
* checking for code/documentation mismatches ... OK
* checking Rd \usage sections ... OK
* checking Rd contents ... OK
* checking for unstated dependencies in examples ... OK
* checking contents of ‘data’ directory ... OK
* checking data for non-ASCII characters ... OK
* checking data for ASCII and uncompressed saves ... OK
* checking files in ‘vignettes’ ... OK
* checking examples ... OK
Examples with CPU (user + system) or elapsed time > 5s
                 user system elapsed
chrCats        14.797  0.315  15.352
pm.getabst      1.626  0.066  39.212
pm.abstGrep     1.266  0.036  18.103
pm.titles       1.264  0.015  16.918
accessionToUID  0.351  0.020  11.095
blastSequences  0.329  0.040 183.595
genbank         0.199  0.012  10.681
* checking for unstated dependencies in ‘tests’ ... OK
* checking tests ...
  Running ‘annotate_unit_tests.R’
 OK
* checking for unstated dependencies in vignettes ... OK
* checking package vignettes ... OK
* checking running R code from vignettes ... SKIPPED
* checking re-building of vignette outputs ... SKIPPED
* checking PDF version of manual ... OK
* DONE

Status: 1 NOTE
See
  ‘/home/biocbuild/bbs-3.22-bioc/meat/annotate.Rcheck/00check.log’
for details.


Installation output

annotate.Rcheck/00install.out

##############################################################################
##############################################################################
###
### Running command:
###
###   /home/biocbuild/R/R/bin/R CMD INSTALL annotate
###
##############################################################################
##############################################################################


* installing to library ‘/home/biocbuild/R/R-4.5.0/site-library’
* installing *source* package ‘annotate’ ...
** this is package ‘annotate’ version ‘1.87.0’
** using staged installation
** R
** data
** inst
** byte-compile and prepare package for lazy loading
** help
*** installing help indices
** building package indices
** installing vignettes
** testing if installed package can be loaded from temporary location
** testing if installed package can be loaded from final location
** testing if installed package keeps a record of temporary installation path
* DONE (annotate)

Tests output

annotate.Rcheck/tests/annotate_unit_tests.Rout


R version 4.5.0 (2025-04-11) -- "How About a Twenty-Six"
Copyright (C) 2025 The R Foundation for Statistical Computing
Platform: aarch64-unknown-linux-gnu

R is free software and comes with ABSOLUTELY NO WARRANTY.
You are welcome to redistribute it under certain conditions.
Type 'license()' or 'licence()' for distribution details.

R is a collaborative project with many contributors.
Type 'contributors()' for more information and
'citation()' on how to cite R or R packages in publications.

Type 'demo()' for some demos, 'help()' for on-line help, or
'help.start()' for an HTML browser interface to help.
Type 'q()' to quit R.

> BiocGenerics:::testPackage("annotate")

Attaching package: 'generics'

The following objects are masked from 'package:base':

    as.difftime, as.factor, as.ordered, intersect, is.element, setdiff,
    setequal, union


Attaching package: 'BiocGenerics'

The following objects are masked from 'package:stats':

    IQR, mad, sd, var, xtabs

The following objects are masked from 'package:base':

    Filter, Find, Map, Position, Reduce, anyDuplicated, aperm, append,
    as.data.frame, basename, cbind, colnames, dirname, do.call,
    duplicated, eval, evalq, get, grep, grepl, is.unsorted, lapply,
    mapply, match, mget, order, paste, pmax, pmax.int, pmin, pmin.int,
    rank, rbind, rownames, sapply, saveRDS, table, tapply, unique,
    unsplit, which.max, which.min

Welcome to Bioconductor

    Vignettes contain introductory material; view with
    'browseVignettes()'. To cite Bioconductor, see
    'citation("Biobase")', and for packages 'citation("pkgname")'.


Attaching package: 'S4Vectors'

The following object is masked from 'package:utils':

    findMatches

The following objects are masked from 'package:base':

    I, expand.grid, unname

Loading required package: org.Hs.eg.db

'select()' returned 1:many mapping between keys and columns


RUNIT TEST PROTOCOL -- Tue Oct  7 04:26:37 2025 
*********************************************** 
Number of test functions: 1 
Number of errors: 0 
Number of failures: 0 

 
1 Test Suite : 
annotate RUnit Tests - 1 test function, 0 errors, 0 failures
Number of test functions: 1 
Number of errors: 0 
Number of failures: 0 
> 
> proc.time()
   user  system elapsed 
 10.863   0.567  11.459 

Example timings

annotate.Rcheck/annotate-Ex.timings

nameusersystemelapsed
ACCNUMStats1.7470.0281.799
GO2heatmap0.1510.0080.167
GOmnplot0.0800.0000.082
HTMLPage-class000
LL2homology000
PMIDAmat0.1150.0030.135
PWAmat2.0950.0432.170
UniGeneQuery0.0020.0000.002
accessionToUID 0.351 0.02011.095
annPkgName0.0010.0000.001
aqListGOIDs0.1370.0240.170
blastSequences 0.329 0.040183.595
buildChromLocation1.2610.0401.303
buildPubMedAbst0.0480.0002.716
chrCats14.797 0.31515.352
chromLocation-class0.8830.0120.898
compatibleVersions0.040.000.04
dropECode0.0460.0040.050
entrezGeneByID0.0010.0000.001
entrezGeneQuery0.0010.0000.001
filterGOByOntology0.0510.0040.055
findNeighbors0.0250.0000.037
genbank 0.199 0.01210.681
getAnnMap0.0300.0000.031
getEvidence0.0640.0000.066
getGOTerm0.2460.0040.259
getOntology0.0470.0040.051
getPMInfo0.4200.0072.223
getSYMBOL0.1330.0190.163
getSeq4Acc0.0160.0041.079
hasGOannote0.030.000.03
hgByChroms0.0130.0040.017
hgCLengths0.0020.0000.001
hgu95Achroloc0.0600.0040.064
hgu95Achrom0.0500.0040.054
hgu95All0.0550.0040.059
hgu95Asym0.0570.0040.062
homoData-class0.0030.0000.003
htmlpage0.0210.0040.025
isValidkey0.0010.0000.000
makeAnchor0.0010.0000.001
organism0.9000.0240.927
pm.abstGrep 1.266 0.03618.103
pm.getabst 1.626 0.06639.212
pm.titles 1.264 0.01516.918
pmAbst2HTML0.0560.0001.437
pmid2MIAME000
pmidQuery0.0010.0000.000
pubMedAbst-class0.0390.0041.564
pubmed0.0290.0001.614
readGEOAnn0.0010.0000.000
serializeEnv0.0020.0000.002
setRepository0.0010.0000.001
updateSymbolsToValidKeys0.0000.0000.001
usedChromGenes0.0680.0080.076