| Back to Multiple platform build/check report for BioC 3.22: simplified long |
|
This page was generated on 2025-11-20 12:07 -0500 (Thu, 20 Nov 2025).
| Hostname | OS | Arch (*) | R version | Installed pkgs |
|---|---|---|---|---|
| nebbiolo2 | Linux (Ubuntu 24.04.3 LTS) | x86_64 | 4.5.2 (2025-10-31) -- "[Not] Part in a Rumble" | 4615 |
| merida1 | macOS 12.7.6 Monterey | x86_64 | 4.5.2 Patched (2025-11-05 r88990) -- "[Not] Part in a Rumble" | 4610 |
| kjohnson1 | macOS 13.7.5 Ventura | arm64 | 4.5.2 Patched (2025-11-04 r88984) -- "[Not] Part in a Rumble" | 4598 |
| taishan | Linux (openEuler 24.03 LTS) | aarch64 | 4.5.0 (2025-04-11) -- "How About a Twenty-Six" | 4668 |
| Click on any hostname to see more info about the system (e.g. compilers) (*) as reported by 'uname -p', except on Windows and Mac OS X | ||||
| Package 395/2361 | Hostname | OS / Arch | INSTALL | BUILD | CHECK | BUILD BIN | ||||||||
| clustifyr 1.22.0 (landing page) Rui Fu
| nebbiolo2 | Linux (Ubuntu 24.04.3 LTS) / x86_64 | OK | OK | OK | |||||||||
| merida1 | macOS 12.7.6 Monterey / x86_64 | OK | OK | OK | OK | |||||||||
| kjohnson1 | macOS 13.7.5 Ventura / arm64 | OK | OK | OK | OK | |||||||||
| taishan | Linux (openEuler 24.03 LTS) / aarch64 | OK | OK | OK | ||||||||||
|
To the developers/maintainers of the clustifyr package: - Allow up to 24 hours (and sometimes 48 hours) for your latest push to git@git.bioconductor.org:packages/clustifyr.git to reflect on this report. See Troubleshooting Build Report for more information. - Use the following Renviron settings to reproduce errors and warnings. - If 'R CMD check' started to fail recently on the Linux builder(s) over a missing dependency, add the missing dependency to 'Suggests:' in your DESCRIPTION file. See Renviron.bioc for more information. - See Martin Grigorov's blog post for how to debug Linux ARM64 related issues on a x86_64 host. |
| Package: clustifyr |
| Version: 1.22.0 |
| Command: /home/biocbuild/R/R/bin/R CMD check --install=check:clustifyr.install-out.txt --library=/home/biocbuild/R/R/site-library --no-vignettes --timings clustifyr_1.22.0.tar.gz |
| StartedAt: 2025-11-18 08:20:51 -0000 (Tue, 18 Nov 2025) |
| EndedAt: 2025-11-18 08:34:48 -0000 (Tue, 18 Nov 2025) |
| EllapsedTime: 836.6 seconds |
| RetCode: 0 |
| Status: OK |
| CheckDir: clustifyr.Rcheck |
| Warnings: 0 |
##############################################################################
##############################################################################
###
### Running command:
###
### /home/biocbuild/R/R/bin/R CMD check --install=check:clustifyr.install-out.txt --library=/home/biocbuild/R/R/site-library --no-vignettes --timings clustifyr_1.22.0.tar.gz
###
##############################################################################
##############################################################################
* using log directory ‘/home/biocbuild/bbs-3.22-bioc/meat/clustifyr.Rcheck’
* using R version 4.5.0 (2025-04-11)
* using platform: aarch64-unknown-linux-gnu
* R was compiled by
aarch64-unknown-linux-gnu-gcc (GCC) 14.2.0
GNU Fortran (GCC) 14.2.0
* running under: openEuler 24.03 (LTS)
* using session charset: UTF-8
* using option ‘--no-vignettes’
* checking for file ‘clustifyr/DESCRIPTION’ ... OK
* this is package ‘clustifyr’ version ‘1.22.0’
* package encoding: UTF-8
* checking package namespace information ... OK
* checking package dependencies ... OK
* checking if this is a source package ... OK
* checking if there is a namespace ... OK
* checking for hidden files and directories ... OK
* checking for portable file names ... OK
* checking for sufficient/correct file permissions ... OK
* checking whether package ‘clustifyr’ can be installed ... OK
* checking installed package size ... OK
* checking package directory ... OK
* checking ‘build’ directory ... OK
* checking DESCRIPTION meta-information ... NOTE
License stub is invalid DCF.
* checking top-level files ... OK
* checking for left-over files ... OK
* checking index information ... OK
* checking package subdirectories ... OK
* checking code files for non-ASCII characters ... OK
* checking R files for syntax errors ... OK
* checking whether the package can be loaded ... OK
* checking whether the package can be loaded with stated dependencies ... OK
* checking whether the package can be unloaded cleanly ... OK
* checking whether the namespace can be loaded with stated dependencies ... OK
* checking whether the namespace can be unloaded cleanly ... OK
* checking loading without being on the library search path ... OK
* checking dependencies in R code ... OK
* checking S3 generic/method consistency ... OK
* checking replacement functions ... OK
* checking foreign function calls ... OK
* checking R code for possible problems ... OK
* checking Rd files ... OK
* checking Rd metadata ... OK
* checking Rd cross-references ... OK
* checking for missing documentation entries ... OK
* checking for code/documentation mismatches ... OK
* checking Rd \usage sections ... OK
* checking Rd contents ... OK
* checking for unstated dependencies in examples ... OK
* checking contents of ‘data’ directory ... OK
* checking data for non-ASCII characters ... OK
* checking LazyData ... OK
* checking data for ASCII and uncompressed saves ... OK
* checking files in ‘vignettes’ ... OK
* checking examples ... OK
Examples with CPU (user + system) or elapsed time > 5s
user system elapsed
plot_pathway_gsea 18.469 0.230 18.828
calculate_pathway_gsea 15.855 0.305 16.271
* checking for unstated dependencies in ‘tests’ ... OK
* checking tests ...
Running ‘testthat.R’
OK
* checking for unstated dependencies in vignettes ... OK
* checking package vignettes ... OK
* checking running R code from vignettes ... SKIPPED
* checking re-building of vignette outputs ... SKIPPED
* checking PDF version of manual ... OK
* DONE
Status: 1 NOTE
See
‘/home/biocbuild/bbs-3.22-bioc/meat/clustifyr.Rcheck/00check.log’
for details.
clustifyr.Rcheck/00install.out
############################################################################## ############################################################################## ### ### Running command: ### ### /home/biocbuild/R/R/bin/R CMD INSTALL clustifyr ### ############################################################################## ############################################################################## * installing to library ‘/home/biocbuild/R/R-4.5.0/site-library’ * installing *source* package ‘clustifyr’ ... ** this is package ‘clustifyr’ version ‘1.22.0’ ** using staged installation ** R ** data *** moving datasets to lazyload DB ** inst ** byte-compile and prepare package for lazy loading ** help *** installing help indices *** copying figures ** building package indices ** installing vignettes ** testing if installed package can be loaded from temporary location ** testing if installed package can be loaded from final location ** testing if installed package keeps a record of temporary installation path * DONE (clustifyr)
clustifyr.Rcheck/tests/testthat.Rout
R version 4.5.0 (2025-04-11) -- "How About a Twenty-Six"
Copyright (C) 2025 The R Foundation for Statistical Computing
Platform: aarch64-unknown-linux-gnu
R is free software and comes with ABSOLUTELY NO WARRANTY.
You are welcome to redistribute it under certain conditions.
Type 'license()' or 'licence()' for distribution details.
R is a collaborative project with many contributors.
Type 'contributors()' for more information and
'citation()' on how to cite R or R packages in publications.
Type 'demo()' for some demos, 'help()' for on-line help, or
'help.start()' for an HTML browser interface to help.
Type 'q()' to quit R.
> library(testthat)
> library(clustifyr)
>
> test_check("clustifyr")
[ FAIL 0 | WARN 1 | SKIP 0 | PASS 183 ]
[ FAIL 0 | WARN 1 | SKIP 0 | PASS 183 ]
>
> proc.time()
user system elapsed
501.007 3.049 505.294
clustifyr.Rcheck/clustifyr-Ex.timings
| name | user | system | elapsed | |
| append_genes | 0.033 | 0.004 | 0.037 | |
| assess_rank_bias | 0 | 0 | 0 | |
| average_clusters | 0.077 | 0.004 | 0.082 | |
| binarize_expr | 0.114 | 0.004 | 0.121 | |
| build_atlas | 0.694 | 0.043 | 0.742 | |
| calc_distance | 0.006 | 0.000 | 0.006 | |
| calculate_pathway_gsea | 15.855 | 0.305 | 16.271 | |
| call_consensus | 0.282 | 0.008 | 0.290 | |
| call_to_metadata | 0.137 | 0.044 | 0.181 | |
| check_raw_counts | 0.755 | 0.024 | 0.781 | |
| clustify | 3.291 | 0.063 | 3.363 | |
| clustify_lists | 0.084 | 0.004 | 0.089 | |
| clustify_nudge | 1.340 | 0.020 | 1.364 | |
| clustifyr_methods | 0 | 0 | 0 | |
| collapse_to_cluster | 3.091 | 0.016 | 3.114 | |
| compare_lists | 0.169 | 0.000 | 0.171 | |
| cor_to_call | 0.100 | 0.012 | 0.112 | |
| cor_to_call_rank | 0.091 | 0.000 | 0.091 | |
| cor_to_call_topn | 0.093 | 0.000 | 0.093 | |
| downsample_matrix | 0.015 | 0.000 | 0.016 | |
| feature_select_PCA | 0.012 | 0.000 | 0.012 | |
| file_marker_parse | 0.002 | 0.000 | 0.003 | |
| find_rank_bias | 0.041 | 0.000 | 0.040 | |
| gene_pct_markerm | 0.409 | 0.004 | 0.414 | |
| get_ucsc_reference | 0 | 0 | 0 | |
| get_vargenes | 0.001 | 0.000 | 0.000 | |
| gmt_to_list | 0.044 | 0.000 | 0.046 | |
| insert_meta_object | 0.327 | 0.012 | 0.340 | |
| make_comb_ref | 0.029 | 0.004 | 0.033 | |
| marker_select | 0.035 | 0.000 | 0.035 | |
| matrixize_markers | 0.035 | 0.000 | 0.036 | |
| object_data | 0.441 | 0.004 | 0.446 | |
| object_ref | 1.033 | 0.044 | 1.082 | |
| overcluster | 0.822 | 0.020 | 0.845 | |
| overcluster_test | 3.046 | 0.084 | 3.139 | |
| parse_loc_object | 0.293 | 0.028 | 0.322 | |
| plot_best_call | 0.796 | 0.004 | 0.803 | |
| plot_cor | 1.224 | 0.012 | 1.239 | |
| plot_cor_heatmap | 1.218 | 0.000 | 1.222 | |
| plot_dims | 0.558 | 0.004 | 0.563 | |
| plot_gene | 0.945 | 0.000 | 0.948 | |
| plot_pathway_gsea | 18.469 | 0.230 | 18.828 | |
| plot_rank_bias | 0 | 0 | 0 | |
| pos_neg_marker | 0.01 | 0.00 | 0.01 | |
| pos_neg_select | 0.094 | 0.004 | 0.098 | |
| query_rank_bias | 0.047 | 0.000 | 0.047 | |
| ref_feature_select | 0.037 | 0.004 | 0.042 | |
| ref_marker_select | 0.264 | 0.000 | 0.266 | |
| reverse_marker_matrix | 0.005 | 0.000 | 0.004 | |
| run_clustifyr_app | 0 | 0 | 0 | |
| seurat_meta | 0.379 | 0.000 | 0.383 | |
| seurat_ref | 0.323 | 0.046 | 0.375 | |
| write_meta | 0.410 | 0.011 | 0.424 | |