| Back to Multiple platform build/check report for BioC 3.22: simplified long |
|
This page was generated on 2025-10-24 12:07 -0400 (Fri, 24 Oct 2025).
| Hostname | OS | Arch (*) | R version | Installed pkgs |
|---|---|---|---|---|
| nebbiolo2 | Linux (Ubuntu 24.04.3 LTS) | x86_64 | 4.5.1 Patched (2025-08-23 r88802) -- "Great Square Root" | 4898 |
| lconway | macOS 12.7.6 Monterey | x86_64 | 4.5.1 Patched (2025-09-10 r88807) -- "Great Square Root" | 4688 |
| kjohnson3 | macOS 13.7.7 Ventura | arm64 | 4.5.1 Patched (2025-09-10 r88807) -- "Great Square Root" | 4634 |
| taishan | Linux (openEuler 24.03 LTS) | aarch64 | 4.5.0 (2025-04-11) -- "How About a Twenty-Six" | 4658 |
| Click on any hostname to see more info about the system (e.g. compilers) (*) as reported by 'uname -p', except on Windows and Mac OS X | ||||
| Package 587/2359 | Hostname | OS / Arch | INSTALL | BUILD | CHECK | BUILD BIN | ||||||||
| diffHic 1.41.0 (landing page) Aaron Lun
| nebbiolo2 | Linux (Ubuntu 24.04.3 LTS) / x86_64 | OK | OK | OK | |||||||||
| lconway | macOS 12.7.6 Monterey / x86_64 | OK | OK | OK | OK | |||||||||
| kjohnson3 | macOS 13.7.7 Ventura / arm64 | OK | OK | OK | OK | |||||||||
| taishan | Linux (openEuler 24.03 LTS) / aarch64 | OK | OK | OK | ||||||||||
|
To the developers/maintainers of the diffHic package: - Allow up to 24 hours (and sometimes 48 hours) for your latest push to git@git.bioconductor.org:packages/diffHic.git to reflect on this report. See Troubleshooting Build Report for more information. - Use the following Renviron settings to reproduce errors and warnings. - If 'R CMD check' started to fail recently on the Linux builder(s) over a missing dependency, add the missing dependency to 'Suggests:' in your DESCRIPTION file. See Renviron.bioc for more information. - See Martin Grigorov's blog post for how to debug Linux ARM64 related issues on a x86_64 host. |
| Package: diffHic |
| Version: 1.41.0 |
| Command: /home/biocbuild/R/R/bin/R CMD check --install=check:diffHic.install-out.txt --library=/home/biocbuild/R/R/site-library --no-vignettes --timings diffHic_1.41.0.tar.gz |
| StartedAt: 2025-10-21 07:30:59 -0000 (Tue, 21 Oct 2025) |
| EndedAt: 2025-10-21 07:38:09 -0000 (Tue, 21 Oct 2025) |
| EllapsedTime: 429.3 seconds |
| RetCode: 0 |
| Status: OK |
| CheckDir: diffHic.Rcheck |
| Warnings: 0 |
##############################################################################
##############################################################################
###
### Running command:
###
### /home/biocbuild/R/R/bin/R CMD check --install=check:diffHic.install-out.txt --library=/home/biocbuild/R/R/site-library --no-vignettes --timings diffHic_1.41.0.tar.gz
###
##############################################################################
##############################################################################
* using log directory ‘/home/biocbuild/bbs-3.22-bioc/meat/diffHic.Rcheck’
* using R version 4.5.0 (2025-04-11)
* using platform: aarch64-unknown-linux-gnu
* R was compiled by
aarch64-unknown-linux-gnu-gcc (GCC) 14.2.0
GNU Fortran (GCC) 14.2.0
* running under: openEuler 24.03 (LTS)
* using session charset: UTF-8
* using option ‘--no-vignettes’
* checking for file ‘diffHic/DESCRIPTION’ ... OK
* this is package ‘diffHic’ version ‘1.41.0’
* checking package namespace information ... OK
* checking package dependencies ... OK
* checking if this is a source package ... OK
* checking if there is a namespace ... OK
* checking for hidden files and directories ... OK
* checking for portable file names ... OK
* checking for sufficient/correct file permissions ... OK
* checking whether package ‘diffHic’ can be installed ... OK
* used C++ compiler: ‘aarch64-unknown-linux-gnu-g++ (GCC) 14.2.0’
* checking installed package size ... INFO
installed size is 13.5Mb
sub-directories of 1Mb or more:
doc 1.3Mb
libs 11.0Mb
* checking package directory ... OK
* checking ‘build’ directory ... OK
* checking DESCRIPTION meta-information ... OK
* checking top-level files ... OK
* checking for left-over files ... OK
* checking index information ... OK
* checking package subdirectories ... OK
* checking code files for non-ASCII characters ... OK
* checking R files for syntax errors ... OK
* checking whether the package can be loaded ... OK
* checking whether the package can be loaded with stated dependencies ... OK
* checking whether the package can be unloaded cleanly ... OK
* checking whether the namespace can be loaded with stated dependencies ... OK
* checking whether the namespace can be unloaded cleanly ... OK
* checking loading without being on the library search path ... OK
* checking dependencies in R code ... OK
* checking S3 generic/method consistency ... OK
* checking replacement functions ... OK
* checking foreign function calls ... OK
* checking R code for possible problems ... OK
* checking Rd files ... OK
* checking Rd metadata ... OK
* checking Rd cross-references ... NOTE
Found the following Rd file(s) with Rd \link{} targets missing package
anchors:
annotatePairs.Rd: findOverlaps
connectCounts.Rd: findOverlaps, linkOverlaps
consolidatePairs.Rd: combineTests
correctedContact.Rd: mglmOneGroup
cutGenome.Rd: BSgenome-class, GRanges-class, matchPattern
diClusters.Rd: controlClusterFDR
filterDiag.Rd: pairdist
filterPeaks.Rd: aveLogCPM
filters.Rd: loessFit, scaledAverage
normalizeCNV.Rd: locfit, lp
readMTX2IntSet.Rd: InteractionSet-class, GInteractions
Please provide package anchors for all Rd \link{} targets not in the
package itself and the base packages.
* checking for missing documentation entries ... OK
* checking for code/documentation mismatches ... OK
* checking Rd \usage sections ... OK
* checking Rd contents ... OK
* checking for unstated dependencies in examples ... OK
* checking line endings in C/C++/Fortran sources/headers ... OK
* checking line endings in Makefiles ... OK
* checking compilation flags in Makevars ... OK
* checking for GNU extensions in Makefiles ... INFO
GNU make is a SystemRequirements.
* checking for portable use of $(BLAS_LIBS) and $(LAPACK_LIBS) ... OK
* checking use of PKG_*FLAGS in Makefiles ... OK
* checking compiled code ... NOTE
Note: information on .o files is not available
File ‘/home/biocbuild/R/R-4.5.0/site-library/diffHic/libs/diffHic.so’:
Found ‘abort’, possibly from ‘abort’ (C)
Found ‘exit’, possibly from ‘exit’ (C)
Found ‘stderr’, possibly from ‘stderr’ (C)
Found ‘stdout’, possibly from ‘stdout’ (C)
Compiled code should not call entry points which might terminate R nor
write to stdout/stderr instead of to the console, nor use Fortran I/O
nor system RNGs nor [v]sprintf. The detected symbols are linked into
the code but might come from libraries and not actually be called.
See ‘Writing portable packages’ in the ‘Writing R Extensions’ manual.
* checking installed files from ‘inst/doc’ ... OK
* checking files in ‘vignettes’ ... OK
* checking examples ... OK
Examples with CPU (user + system) or elapsed time > 5s
user system elapsed
normalizeCNV 10.758 0.000 10.784
cutGenome 5.440 0.055 5.538
* checking for unstated dependencies in ‘tests’ ... OK
* checking tests ...
Running ‘test-basic.R’
Comparing ‘test-basic.Rout’ to ‘test-basic.Rout.save’ ... OK
Running ‘testthat.R’
OK
* checking for unstated dependencies in vignettes ... OK
* checking package vignettes ... OK
* checking running R code from vignettes ... SKIPPED
* checking re-building of vignette outputs ... SKIPPED
* checking PDF version of manual ... OK
* DONE
Status: 2 NOTEs
See
‘/home/biocbuild/bbs-3.22-bioc/meat/diffHic.Rcheck/00check.log’
for details.
diffHic.Rcheck/00install.out
##############################################################################
##############################################################################
###
### Running command:
###
### /home/biocbuild/R/R/bin/R CMD INSTALL diffHic
###
##############################################################################
##############################################################################
* installing to library ‘/home/biocbuild/R/R-4.5.0/site-library’
* installing *source* package ‘diffHic’ ...
** this is package ‘diffHic’ version ‘1.41.0’
** using staged installation
** libs
using C++ compiler: ‘aarch64-unknown-linux-gnu-g++ (GCC) 14.2.0’
/opt/ohpc/pub/compiler/gcc/14.2.0/bin/aarch64-unknown-linux-gnu-g++ -std=gnu++17 -I"/home/biocbuild/R/R-4.5.0/include" -DNDEBUG -D_FILE_OFFSET_BITS=64 -I'/home/biocbuild/R/R-4.5.0/site-library/Rhtslib/include' -I'/home/biocbuild/R/R-4.5.0/site-library/Rcpp/include' -I/usr/local/include -fPIC -g -O2 -Wall -Werror=format-security -c binner.cpp -o binner.o
/opt/ohpc/pub/compiler/gcc/14.2.0/bin/aarch64-unknown-linux-gnu-g++ -std=gnu++17 -I"/home/biocbuild/R/R-4.5.0/include" -DNDEBUG -D_FILE_OFFSET_BITS=64 -I'/home/biocbuild/R/R-4.5.0/site-library/Rhtslib/include' -I'/home/biocbuild/R/R-4.5.0/site-library/Rcpp/include' -I/usr/local/include -fPIC -g -O2 -Wall -Werror=format-security -c check_input.cpp -o check_input.o
/opt/ohpc/pub/compiler/gcc/14.2.0/bin/aarch64-unknown-linux-gnu-g++ -std=gnu++17 -I"/home/biocbuild/R/R-4.5.0/include" -DNDEBUG -D_FILE_OFFSET_BITS=64 -I'/home/biocbuild/R/R-4.5.0/site-library/Rhtslib/include' -I'/home/biocbuild/R/R-4.5.0/site-library/Rcpp/include' -I/usr/local/include -fPIC -g -O2 -Wall -Werror=format-security -c cluster_2d.cpp -o cluster_2d.o
/opt/ohpc/pub/compiler/gcc/14.2.0/bin/aarch64-unknown-linux-gnu-g++ -std=gnu++17 -I"/home/biocbuild/R/R-4.5.0/include" -DNDEBUG -D_FILE_OFFSET_BITS=64 -I'/home/biocbuild/R/R-4.5.0/site-library/Rhtslib/include' -I'/home/biocbuild/R/R-4.5.0/site-library/Rcpp/include' -I/usr/local/include -fPIC -g -O2 -Wall -Werror=format-security -c count_background.cpp -o count_background.o
/opt/ohpc/pub/compiler/gcc/14.2.0/bin/aarch64-unknown-linux-gnu-g++ -std=gnu++17 -I"/home/biocbuild/R/R-4.5.0/include" -DNDEBUG -D_FILE_OFFSET_BITS=64 -I'/home/biocbuild/R/R-4.5.0/site-library/Rhtslib/include' -I'/home/biocbuild/R/R-4.5.0/site-library/Rcpp/include' -I/usr/local/include -fPIC -g -O2 -Wall -Werror=format-security -c count_connect.cpp -o count_connect.o
count_connect.cpp: In function ‘SEXPREC* count_connect(SEXP, SEXP)’:
count_connect.cpp:57:30: warning: comparison of integer expressions of different signedness: ‘size_t’ {aka ‘long unsigned int’} and ‘const int’ [-Wsign-compare]
57 | for (size_t odex=0; odex < ncombos; ++odex) {
| ~~~~~^~~~~~~~~
/opt/ohpc/pub/compiler/gcc/14.2.0/bin/aarch64-unknown-linux-gnu-g++ -std=gnu++17 -I"/home/biocbuild/R/R-4.5.0/include" -DNDEBUG -D_FILE_OFFSET_BITS=64 -I'/home/biocbuild/R/R-4.5.0/site-library/Rhtslib/include' -I'/home/biocbuild/R/R-4.5.0/site-library/Rcpp/include' -I/usr/local/include -fPIC -g -O2 -Wall -Werror=format-security -c count_patch.cpp -o count_patch.o
count_patch.cpp: In function ‘SEXPREC* count_patch(SEXP, SEXP, SEXP, SEXP, SEXP)’:
count_patch.cpp:45:33: warning: comparison of integer expressions of different signedness: ‘size_t’ {aka ‘long unsigned int’} and ‘const int’ [-Wsign-compare]
45 | for (size_t vecdex=0; vecdex<ncombos; ++vecdex) {
| ~~~~~~^~~~~~~~
/opt/ohpc/pub/compiler/gcc/14.2.0/bin/aarch64-unknown-linux-gnu-g++ -std=gnu++17 -I"/home/biocbuild/R/R-4.5.0/include" -DNDEBUG -D_FILE_OFFSET_BITS=64 -I'/home/biocbuild/R/R-4.5.0/site-library/Rhtslib/include' -I'/home/biocbuild/R/R-4.5.0/site-library/Rcpp/include' -I/usr/local/include -fPIC -g -O2 -Wall -Werror=format-security -c directionality.cpp -o directionality.o
/opt/ohpc/pub/compiler/gcc/14.2.0/bin/aarch64-unknown-linux-gnu-g++ -std=gnu++17 -I"/home/biocbuild/R/R-4.5.0/include" -DNDEBUG -D_FILE_OFFSET_BITS=64 -I'/home/biocbuild/R/R-4.5.0/site-library/Rhtslib/include' -I'/home/biocbuild/R/R-4.5.0/site-library/Rcpp/include' -I/usr/local/include -fPIC -g -O2 -Wall -Werror=format-security -c init.cpp -o init.o
/opt/ohpc/pub/compiler/gcc/14.2.0/bin/aarch64-unknown-linux-gnu-g++ -std=gnu++17 -I"/home/biocbuild/R/R-4.5.0/include" -DNDEBUG -D_FILE_OFFSET_BITS=64 -I'/home/biocbuild/R/R-4.5.0/site-library/Rhtslib/include' -I'/home/biocbuild/R/R-4.5.0/site-library/Rcpp/include' -I/usr/local/include -fPIC -g -O2 -Wall -Werror=format-security -c iterative_correction.cpp -o iterative_correction.o
/opt/ohpc/pub/compiler/gcc/14.2.0/bin/aarch64-unknown-linux-gnu-g++ -std=gnu++17 -I"/home/biocbuild/R/R-4.5.0/include" -DNDEBUG -D_FILE_OFFSET_BITS=64 -I'/home/biocbuild/R/R-4.5.0/site-library/Rhtslib/include' -I'/home/biocbuild/R/R-4.5.0/site-library/Rcpp/include' -I/usr/local/include -fPIC -g -O2 -Wall -Werror=format-security -c neighbors.cpp -o neighbors.o
/opt/ohpc/pub/compiler/gcc/14.2.0/bin/aarch64-unknown-linux-gnu-g++ -std=gnu++17 -I"/home/biocbuild/R/R-4.5.0/include" -DNDEBUG -D_FILE_OFFSET_BITS=64 -I'/home/biocbuild/R/R-4.5.0/site-library/Rhtslib/include' -I'/home/biocbuild/R/R-4.5.0/site-library/Rcpp/include' -I/usr/local/include -fPIC -g -O2 -Wall -Werror=format-security -c pair_stats.cpp -o pair_stats.o
/opt/ohpc/pub/compiler/gcc/14.2.0/bin/aarch64-unknown-linux-gnu-g++ -std=gnu++17 -I"/home/biocbuild/R/R-4.5.0/include" -DNDEBUG -D_FILE_OFFSET_BITS=64 -I'/home/biocbuild/R/R-4.5.0/site-library/Rhtslib/include' -I'/home/biocbuild/R/R-4.5.0/site-library/Rcpp/include' -I/usr/local/include -fPIC -g -O2 -Wall -Werror=format-security -c quadrant_bg.cpp -o quadrant_bg.o
/opt/ohpc/pub/compiler/gcc/14.2.0/bin/aarch64-unknown-linux-gnu-g++ -std=gnu++17 -I"/home/biocbuild/R/R-4.5.0/include" -DNDEBUG -D_FILE_OFFSET_BITS=64 -I'/home/biocbuild/R/R-4.5.0/site-library/Rhtslib/include' -I'/home/biocbuild/R/R-4.5.0/site-library/Rcpp/include' -I/usr/local/include -fPIC -g -O2 -Wall -Werror=format-security -c report_hic_pairs.cpp -o report_hic_pairs.o
/opt/ohpc/pub/compiler/gcc/14.2.0/bin/aarch64-unknown-linux-gnu-g++ -std=gnu++17 -I"/home/biocbuild/R/R-4.5.0/include" -DNDEBUG -D_FILE_OFFSET_BITS=64 -I'/home/biocbuild/R/R-4.5.0/site-library/Rhtslib/include' -I'/home/biocbuild/R/R-4.5.0/site-library/Rcpp/include' -I/usr/local/include -fPIC -g -O2 -Wall -Werror=format-security -c trended_filter.cpp -o trended_filter.o
/opt/ohpc/pub/compiler/gcc/14.2.0/bin/aarch64-unknown-linux-gnu-g++ -std=gnu++17 -I"/home/biocbuild/R/R-4.5.0/include" -DNDEBUG -D_FILE_OFFSET_BITS=64 -I'/home/biocbuild/R/R-4.5.0/site-library/Rhtslib/include' -I'/home/biocbuild/R/R-4.5.0/site-library/Rcpp/include' -I/usr/local/include -fPIC -g -O2 -Wall -Werror=format-security -c utils.cpp -o utils.o
/opt/ohpc/pub/compiler/gcc/14.2.0/bin/aarch64-unknown-linux-gnu-g++ -std=gnu++17 -shared -L/home/biocbuild/R/R-4.5.0/lib -L/usr/local/lib -o diffHic.so binner.o check_input.o cluster_2d.o count_background.o count_connect.o count_patch.o directionality.o init.o iterative_correction.o neighbors.o pair_stats.o quadrant_bg.o report_hic_pairs.o trended_filter.o utils.o /home/biocbuild/R/R-4.5.0/site-library/Rhtslib/usrlib/libhts.a -lcurl -lbz2 -llzma -lz -L/home/biocbuild/R/R-4.5.0/lib -lR
installing to /home/biocbuild/R/R-4.5.0/site-library/00LOCK-diffHic/00new/diffHic/libs
** R
** inst
** byte-compile and prepare package for lazy loading
** help
*** installing help indices
** building package indices
** installing vignettes
** testing if installed package can be loaded from temporary location
** checking absolute paths in shared objects and dynamic libraries
** testing if installed package can be loaded from final location
** testing if installed package keeps a record of temporary installation path
* DONE (diffHic)
diffHic.Rcheck/tests/test-basic.Rout
R version 4.5.0 (2025-04-11) -- "How About a Twenty-Six"
Copyright (C) 2025 The R Foundation for Statistical Computing
Platform: aarch64-unknown-linux-gnu
R is free software and comes with ABSOLUTELY NO WARRANTY.
You are welcome to redistribute it under certain conditions.
Type 'license()' or 'licence()' for distribution details.
R is a collaborative project with many contributors.
Type 'contributors()' for more information and
'citation()' on how to cite R or R packages in publications.
Type 'demo()' for some demos, 'help()' for on-line help, or
'help.start()' for an HTML browser interface to help.
Type 'q()' to quit R.
> # These are just placeholders for the real things in inst/tests.
>
> suppressWarnings(suppressPackageStartupMessages(require(diffHic)))
>
> hic.file <- system.file("exdata", "hic_sort.bam", package="diffHic")
> cuts <- readRDS(system.file("exdata", "cuts.rds", package="diffHic"))
> param <- pairParam(fragments=cuts)
>
> # Setting up the parameters
> fout <- "output.h5"
> preparePairs(hic.file, param, file=fout)
$pairs
total marked filtered mapped
32 7 3 22
$same.id
dangling self.circle
4 1
$singles
[1] 2
$chimeras
total mapped multi invalid
12 8 7 5
> head(getPairData(fout, param))
length orientation insert
1 40 1 40
2 80 1 80
3 60 2 54
4 40 3 160
5 20 1 66
6 80 0 114
>
> loadChromos(fout)
anchor1 anchor2
1 chrA chrA
2 chrB chrA
3 chrB chrB
> head(loadData(fout, "chrA", "chrA"))
anchor1.id anchor2.id anchor1.pos anchor2.pos anchor1.len anchor2.len
1 2 1 49 14 -5 10
2 2 1 79 9 -10 10
3 2 1 65 21 10 -10
4 4 1 156 6 -10 -10
5 4 2 141 80 -5 10
6 4 2 154 50 10 10
> head(loadData(fout, "chrA", "chrB"))
anchor1.id anchor2.id anchor1.pos anchor2.pos anchor1.len anchor2.len
1 5 2 19 44 10 -10
2 5 3 14 105 10 -10
3 6 1 65 19 5 10
4 6 2 24 90 -5 5
5 6 3 24 100 -5 -10
6 6 3 24 95 -5 -10
Warning message:
In value[[3L]](cond) : anchor definitions are reversed
>
> # Loading the counts.
> data <- squareCounts(fout, param, width=50, filter=1)
> data
class: InteractionSet
dim: 10 1
metadata(2): param width
assays(1): counts
rownames: NULL
rowData names(0):
colnames: NULL
colData names(1): totals
type: ReverseStrictGInteractions
regions: 6
>
> margins <- marginCounts(fout, param, width=50)
> margins
class: RangedSummarizedExperiment
dim: 6 1
metadata(1): param
assays(1): counts
rownames: NULL
rowData names(1): nfrags
colnames: NULL
colData names(1): totals
> totalCounts(fout, param)
[1] 17
>
> regions <- GRanges("chrA", IRanges(c(1, 100, 150), c(20, 140, 160)))
> connectCounts(fout, param, regions=regions, filter=1L)
class: InteractionSet
dim: 2 1
metadata(1): param
assays(1): counts
rownames: NULL
rowData names(0):
colnames: NULL
colData names(1): totals
type: ReverseStrictGInteractions
regions: 3
>
> # Checking some values.
> head(getArea(data))
[1] 2208 2304 2208 2208 3312 3174
> head(pairdist(data))
[1] 47 140 93 47 NA NA
>
> anchors(data, type="first")
GRanges object with 10 ranges and 1 metadata column:
seqnames ranges strand | nfrags
<Rle> <IRanges> <Rle> | <integer>
[1] chrA 49-94 * | 1
[2] chrA 141-188 * | 1
[3] chrA 141-188 * | 1
[4] chrA 141-188 * | 1
[5] chrB 1-69 * | 2
[6] chrB 1-69 * | 2
[7] chrB 1-69 * | 2
[8] chrB 1-69 * | 2
[9] chrB 70-92 * | 1
[10] chrB 70-92 * | 1
-------
seqinfo: 2 sequences from an unspecified genome
> anchors(data, type="second")
GRanges object with 10 ranges and 1 metadata column:
seqnames ranges strand | nfrags
<Rle> <IRanges> <Rle> | <integer>
[1] chrA 1-48 * | 1
[2] chrA 1-48 * | 1
[3] chrA 49-94 * | 1
[4] chrA 95-140 * | 1
[5] chrA 1-48 * | 1
[6] chrA 49-94 * | 1
[7] chrA 95-140 * | 1
[8] chrB 1-69 * | 2
[9] chrB 1-69 * | 2
[10] chrB 70-92 * | 1
-------
seqinfo: 2 sequences from an unspecified genome
> assay(data)
[,1]
[1,] 3
[2,] 1
[3,] 2
[4,] 1
[5,] 1
[6,] 2
[7,] 3
[8,] 1
[9,] 2
[10,] 1
> regions(data)
GRanges object with 6 ranges and 1 metadata column:
seqnames ranges strand | nfrags
<Rle> <IRanges> <Rle> | <integer>
[1] chrA 1-48 * | 1
[2] chrA 49-94 * | 1
[3] chrA 95-140 * | 1
[4] chrA 141-188 * | 1
[5] chrB 1-69 * | 2
[6] chrB 70-92 * | 1
-------
seqinfo: 2 sequences from an unspecified genome
>
> data$totals
[1] 17
> colData(data)
DataFrame with 1 row and 1 column
totals
<integer>
1 17
> metadata(data)
$param
Genome contains 7 restriction fragments across 2 chromosomes
No discard regions are specified
No limits on chromosomes for read extraction
No cap on the read pairs per pair of restriction fragments
$width
[1] 50
>
> asDGEList(data)
An object of class "DGEList"
$counts
Sample1
1 3
2 1
3 2
4 1
5 1
6 2
7 3
8 1
9 2
10 1
$samples
group lib.size norm.factors
Sample1 1 17 1
> asDGEList(data, lib.size=20)$samples
group lib.size norm.factors
Sample1 1 20 1
> asDGEList(data, norm.factors=2, group="a")$samples
group lib.size norm.factors
Sample1 a 17 2
Warning message:
In DGEList.default(group = "a", lib.size = 17L, norm.factors = 2, :
norm factors don't multiply to 1
>
> # Playing around with some bin counts.
> stuff <- correctedContact(data)
> head(stuff$truth)
[1] 1.517032e+04 6.123523e-01 6.123523e-01 8.162749e-01 2.041633e-01
[6] 2.041633e-01
>
> data.large <- squareCounts(fout, param, width=100, filter=1)
> boxed <- boxPairs(larger=data.large, smaller=data)
> head(boxed$indices$larger)
[1] 1 2 3 4 5 6
> head(boxed$indices$smaller)
[1] 1 2 2 3 4 4
>
> head(enrichedPairs(data))
class: InteractionSet
dim: 6 1
metadata(2): param width
assays(5): counts quadrant vertical horizontal surrounding
rownames: NULL
rowData names(4): N.quadrant N.vertical N.horizontal N.surrounding
colnames: NULL
colData names(1): totals
type: ReverseStrictGInteractions
regions: 6
> head(clusterPairs(data, tol=10)$indices[[1]])
[1] 1 2 2 2 3 3
>
> # End.
>
> unlink(fout)
>
> proc.time()
user system elapsed
15.674 0.507 16.213
diffHic.Rcheck/tests/test-basic.Rout.save
R version 4.4.0 (2024-04-24 ucrt) -- "Puppy Cup"
Copyright (C) 2024 The R Foundation for Statistical Computing
Platform: x86_64-w64-mingw32/x64
R is free software and comes with ABSOLUTELY NO WARRANTY.
You are welcome to redistribute it under certain conditions.
Type 'license()' or 'licence()' for distribution details.
R is a collaborative project with many contributors.
Type 'contributors()' for more information and
'citation()' on how to cite R or R packages in publications.
Type 'demo()' for some demos, 'help()' for on-line help, or
'help.start()' for an HTML browser interface to help.
Type 'q()' to quit R.
> # These are just placeholders for the real things in inst/tests.
>
> suppressWarnings(suppressPackageStartupMessages(require(diffHic)))
>
> hic.file <- system.file("exdata", "hic_sort.bam", package="diffHic")
> cuts <- readRDS(system.file("exdata", "cuts.rds", package="diffHic"))
> param <- pairParam(fragments=cuts)
>
> # Setting up the parameters
> fout <- "output.h5"
> preparePairs(hic.file, param, file=fout)
$pairs
total marked filtered mapped
32 7 3 22
$same.id
dangling self.circle
4 1
$singles
[1] 2
$chimeras
total mapped multi invalid
12 8 7 5
> head(getPairData(fout, param))
length orientation insert
1 40 1 40
2 80 1 80
3 60 2 54
4 40 3 160
5 20 1 66
6 80 0 114
>
> loadChromos(fout)
anchor1 anchor2
1 chrA chrA
2 chrB chrA
3 chrB chrB
> head(loadData(fout, "chrA", "chrA"))
anchor1.id anchor2.id anchor1.pos anchor2.pos anchor1.len anchor2.len
1 2 1 49 14 -5 10
2 2 1 79 9 -10 10
3 2 1 65 21 10 -10
4 4 1 156 6 -10 -10
5 4 2 141 80 -5 10
6 4 2 154 50 10 10
> head(loadData(fout, "chrA", "chrB"))
anchor1.id anchor2.id anchor1.pos anchor2.pos anchor1.len anchor2.len
1 5 2 19 44 10 -10
2 5 3 14 105 10 -10
3 6 1 65 19 5 10
4 6 2 24 90 -5 5
5 6 3 24 100 -5 -10
6 6 3 24 95 -5 -10
Warning message:
In value[[3L]](cond) : anchor definitions are reversed
>
> # Loading the counts.
> data <- squareCounts(fout, param, width=50, filter=1)
> data
class: InteractionSet
dim: 10 1
metadata(2): param width
assays(1): counts
rownames: NULL
rowData names(0):
colnames: NULL
colData names(1): totals
type: ReverseStrictGInteractions
regions: 6
>
> margins <- marginCounts(fout, param, width=50)
> margins
class: RangedSummarizedExperiment
dim: 6 1
metadata(1): param
assays(1): counts
rownames: NULL
rowData names(1): nfrags
colnames: NULL
colData names(1): totals
> totalCounts(fout, param)
[1] 17
>
> regions <- GRanges("chrA", IRanges(c(1, 100, 150), c(20, 140, 160)))
> connectCounts(fout, param, regions=regions, filter=1L)
class: InteractionSet
dim: 2 1
metadata(1): param
assays(1): counts
rownames: NULL
rowData names(0):
colnames: NULL
colData names(1): totals
type: ReverseStrictGInteractions
regions: 3
>
> # Checking some values.
> head(getArea(data))
[1] 2208 2304 2208 2208 3312 3174
> head(pairdist(data))
[1] 47 140 93 47 NA NA
>
> anchors(data, type="first")
GRanges object with 10 ranges and 1 metadata column:
seqnames ranges strand | nfrags
<Rle> <IRanges> <Rle> | <integer>
[1] chrA 49-94 * | 1
[2] chrA 141-188 * | 1
[3] chrA 141-188 * | 1
[4] chrA 141-188 * | 1
[5] chrB 1-69 * | 2
[6] chrB 1-69 * | 2
[7] chrB 1-69 * | 2
[8] chrB 1-69 * | 2
[9] chrB 70-92 * | 1
[10] chrB 70-92 * | 1
-------
seqinfo: 2 sequences from an unspecified genome
> anchors(data, type="second")
GRanges object with 10 ranges and 1 metadata column:
seqnames ranges strand | nfrags
<Rle> <IRanges> <Rle> | <integer>
[1] chrA 1-48 * | 1
[2] chrA 1-48 * | 1
[3] chrA 49-94 * | 1
[4] chrA 95-140 * | 1
[5] chrA 1-48 * | 1
[6] chrA 49-94 * | 1
[7] chrA 95-140 * | 1
[8] chrB 1-69 * | 2
[9] chrB 1-69 * | 2
[10] chrB 70-92 * | 1
-------
seqinfo: 2 sequences from an unspecified genome
> assay(data)
[,1]
[1,] 3
[2,] 1
[3,] 2
[4,] 1
[5,] 1
[6,] 2
[7,] 3
[8,] 1
[9,] 2
[10,] 1
> regions(data)
GRanges object with 6 ranges and 1 metadata column:
seqnames ranges strand | nfrags
<Rle> <IRanges> <Rle> | <integer>
[1] chrA 1-48 * | 1
[2] chrA 49-94 * | 1
[3] chrA 95-140 * | 1
[4] chrA 141-188 * | 1
[5] chrB 1-69 * | 2
[6] chrB 70-92 * | 1
-------
seqinfo: 2 sequences from an unspecified genome
>
> data$totals
[1] 17
> colData(data)
DataFrame with 1 row and 1 column
totals
<integer>
1 17
> metadata(data)
$param
Genome contains 7 restriction fragments across 2 chromosomes
No discard regions are specified
No limits on chromosomes for read extraction
No cap on the read pairs per pair of restriction fragments
$width
[1] 50
>
> asDGEList(data)
An object of class "DGEList"
$counts
Sample1
1 3
2 1
3 2
4 1
5 1
6 2
7 3
8 1
9 2
10 1
$samples
group lib.size norm.factors
Sample1 1 17 1
> asDGEList(data, lib.size=20)$samples
group lib.size norm.factors
Sample1 1 20 1
> asDGEList(data, norm.factors=2, group="a")$samples
group lib.size norm.factors
Sample1 a 17 2
Warning message:
In DGEList.default(group = "a", lib.size = 17L, norm.factors = 2, :
norm factors don't multiply to 1
>
> # Playing around with some bin counts.
> stuff <- correctedContact(data)
> head(stuff$truth)
[1] 1.517032e+04 6.123523e-01 6.123523e-01 8.162749e-01 2.041633e-01
[6] 2.041633e-01
>
> data.large <- squareCounts(fout, param, width=100, filter=1)
> boxed <- boxPairs(larger=data.large, smaller=data)
> head(boxed$indices$larger)
[1] 1 2 3 4 5 6
> head(boxed$indices$smaller)
[1] 1 2 2 3 4 4
>
> head(enrichedPairs(data))
class: InteractionSet
dim: 6 1
metadata(2): param width
assays(5): counts quadrant vertical horizontal surrounding
rownames: NULL
rowData names(4): N.quadrant N.vertical N.horizontal N.surrounding
colnames: NULL
colData names(1): totals
type: ReverseStrictGInteractions
regions: 6
> head(clusterPairs(data, tol=10)$indices[[1]])
[1] 1 2 2 2 3 3
>
> # End.
>
> unlink(fout)
>
> proc.time()
user system elapsed
4.00 0.42 6.53
diffHic.Rcheck/tests/testthat.Rout
R version 4.5.0 (2025-04-11) -- "How About a Twenty-Six"
Copyright (C) 2025 The R Foundation for Statistical Computing
Platform: aarch64-unknown-linux-gnu
R is free software and comes with ABSOLUTELY NO WARRANTY.
You are welcome to redistribute it under certain conditions.
Type 'license()' or 'licence()' for distribution details.
R is a collaborative project with many contributors.
Type 'contributors()' for more information and
'citation()' on how to cite R or R packages in publications.
Type 'demo()' for some demos, 'help()' for on-line help, or
'help.start()' for an HTML browser interface to help.
Type 'q()' to quit R.
> library(testthat)
> library(diffHic)
Loading required package: GenomicRanges
Loading required package: stats4
Loading required package: BiocGenerics
Loading required package: generics
Attaching package: 'generics'
The following objects are masked from 'package:base':
as.difftime, as.factor, as.ordered, intersect, is.element, setdiff,
setequal, union
Attaching package: 'BiocGenerics'
The following objects are masked from 'package:stats':
IQR, mad, sd, var, xtabs
The following objects are masked from 'package:base':
Filter, Find, Map, Position, Reduce, anyDuplicated, aperm, append,
as.data.frame, basename, cbind, colnames, dirname, do.call,
duplicated, eval, evalq, get, grep, grepl, is.unsorted, lapply,
mapply, match, mget, order, paste, pmax, pmax.int, pmin, pmin.int,
rank, rbind, rownames, sapply, saveRDS, table, tapply, unique,
unsplit, which.max, which.min
Loading required package: S4Vectors
Attaching package: 'S4Vectors'
The following object is masked from 'package:utils':
findMatches
The following objects are masked from 'package:base':
I, expand.grid, unname
Loading required package: IRanges
Loading required package: Seqinfo
Loading required package: InteractionSet
Loading required package: SummarizedExperiment
Loading required package: MatrixGenerics
Loading required package: matrixStats
Attaching package: 'MatrixGenerics'
The following objects are masked from 'package:matrixStats':
colAlls, colAnyNAs, colAnys, colAvgsPerRowSet, colCollapse,
colCounts, colCummaxs, colCummins, colCumprods, colCumsums,
colDiffs, colIQRDiffs, colIQRs, colLogSumExps, colMadDiffs,
colMads, colMaxs, colMeans2, colMedians, colMins, colOrderStats,
colProds, colQuantiles, colRanges, colRanks, colSdDiffs, colSds,
colSums2, colTabulates, colVarDiffs, colVars, colWeightedMads,
colWeightedMeans, colWeightedMedians, colWeightedSds,
colWeightedVars, rowAlls, rowAnyNAs, rowAnys, rowAvgsPerColSet,
rowCollapse, rowCounts, rowCummaxs, rowCummins, rowCumprods,
rowCumsums, rowDiffs, rowIQRDiffs, rowIQRs, rowLogSumExps,
rowMadDiffs, rowMads, rowMaxs, rowMeans2, rowMedians, rowMins,
rowOrderStats, rowProds, rowQuantiles, rowRanges, rowRanks,
rowSdDiffs, rowSds, rowSums2, rowTabulates, rowVarDiffs, rowVars,
rowWeightedMads, rowWeightedMeans, rowWeightedMedians,
rowWeightedSds, rowWeightedVars
Loading required package: Biobase
Welcome to Bioconductor
Vignettes contain introductory material; view with
'browseVignettes()'. To cite Bioconductor, see
'citation("Biobase")', and for packages 'citation("pkgname")'.
Attaching package: 'Biobase'
The following object is masked from 'package:MatrixGenerics':
rowMedians
The following objects are masked from 'package:matrixStats':
anyMissing, rowMedians
>
> test_check("diffHic")
[ FAIL 0 | WARN 0 | SKIP 0 | PASS 427 ]
>
> proc.time()
user system elapsed
59.283 1.264 60.721
diffHic.Rcheck/diffHic-Ex.timings
| name | user | system | elapsed | |
| DNaseHiC | 0.212 | 0.016 | 0.229 | |
| annotatePairs | 0.492 | 0.020 | 0.515 | |
| boxPairs | 0.771 | 0.000 | 0.773 | |
| clusterPairs | 1.082 | 0.004 | 1.093 | |
| compartmentalize | 1.618 | 0.000 | 1.622 | |
| connectCounts | 1.885 | 0.076 | 1.972 | |
| consolidatePairs | 0.469 | 0.000 | 0.470 | |
| correctedContact | 0.508 | 0.000 | 0.509 | |
| cutGenome | 5.440 | 0.055 | 5.538 | |
| diClusters | 2.152 | 0.000 | 2.158 | |
| diffHicUsersGuide | 0.001 | 0.000 | 0.001 | |
| domainDirections | 0.161 | 0.000 | 0.161 | |
| enrichedPairs | 0.593 | 0.000 | 0.595 | |
| extractPatch | 0.587 | 0.004 | 0.594 | |
| filterDiag | 0.138 | 0.004 | 0.143 | |
| filterPeaks | 0.260 | 0.000 | 0.261 | |
| filters | 0.322 | 0.000 | 0.323 | |
| getArea | 0.196 | 0.000 | 0.196 | |
| getPairData | 0.065 | 0.004 | 0.069 | |
| loadData | 0.075 | 0.000 | 0.075 | |
| marginCounts | 0.679 | 0.004 | 0.685 | |
| mergeCMs | 0.555 | 0.004 | 0.566 | |
| mergePairs | 0.231 | 0.004 | 0.235 | |
| neighborCounts | 0.153 | 0.004 | 0.157 | |
| normalizeCNV | 10.758 | 0.000 | 10.784 | |
| pairParam | 0.13 | 0.00 | 0.13 | |
| plotDI | 0.585 | 0.000 | 0.586 | |
| plotPlaid | 1.807 | 0.004 | 1.818 | |
| preparePairs | 0.207 | 0.012 | 0.220 | |
| prunePairs | 0.257 | 0.008 | 0.266 | |
| readMTX2IntSet | 0.355 | 0.004 | 0.360 | |
| savePairs | 0.055 | 0.004 | 0.060 | |
| squareCounts | 0.830 | 0.004 | 0.836 | |
| totalCounts | 0.512 | 0.000 | 0.513 | |