| Back to Multiple platform build/check report for BioC 3.22: simplified long |
|
This page was generated on 2025-11-01 12:03 -0400 (Sat, 01 Nov 2025).
| Hostname | OS | Arch (*) | R version | Installed pkgs |
|---|---|---|---|---|
| nebbiolo2 | Linux (Ubuntu 24.04.3 LTS) | x86_64 | 4.5.1 Patched (2025-08-23 r88802) -- "Great Square Root" | 4901 |
| lconway | macOS 12.7.6 Monterey | x86_64 | 4.5.1 Patched (2025-09-10 r88807) -- "Great Square Root" | 4691 |
| kjohnson3 | macOS 13.7.7 Ventura | arm64 | 4.5.1 Patched (2025-09-10 r88807) -- "Great Square Root" | 4637 |
| Click on any hostname to see more info about the system (e.g. compilers) (*) as reported by 'uname -p', except on Windows and Mac OS X | ||||
| Package 1563/2361 | Hostname | OS / Arch | INSTALL | BUILD | CHECK | BUILD BIN | ||||||||
| pcaExplorer 3.4.0 (landing page) Federico Marini
| nebbiolo2 | Linux (Ubuntu 24.04.3 LTS) / x86_64 | OK | OK | OK | |||||||||
| lconway | macOS 12.7.6 Monterey / x86_64 | OK | OK | OK | OK | |||||||||
| kjohnson3 | macOS 13.7.7 Ventura / arm64 | OK | OK | OK | OK | |||||||||
|
To the developers/maintainers of the pcaExplorer package: - Allow up to 24 hours (and sometimes 48 hours) for your latest push to git@git.bioconductor.org:packages/pcaExplorer.git to reflect on this report. See Troubleshooting Build Report for more information. - Use the following Renviron settings to reproduce errors and warnings. - If 'R CMD check' started to fail recently on the Linux builder(s) over a missing dependency, add the missing dependency to 'Suggests:' in your DESCRIPTION file. See Renviron.bioc for more information. |
| Package: pcaExplorer |
| Version: 3.4.0 |
| Command: /home/biocbuild/bbs-3.22-bioc/R/bin/R CMD check --install=check:pcaExplorer.install-out.txt --library=/home/biocbuild/bbs-3.22-bioc/R/site-library --timings pcaExplorer_3.4.0.tar.gz |
| StartedAt: 2025-11-01 02:40:43 -0400 (Sat, 01 Nov 2025) |
| EndedAt: 2025-11-01 02:51:48 -0400 (Sat, 01 Nov 2025) |
| EllapsedTime: 664.6 seconds |
| RetCode: 0 |
| Status: OK |
| CheckDir: pcaExplorer.Rcheck |
| Warnings: 0 |
##############################################################################
##############################################################################
###
### Running command:
###
### /home/biocbuild/bbs-3.22-bioc/R/bin/R CMD check --install=check:pcaExplorer.install-out.txt --library=/home/biocbuild/bbs-3.22-bioc/R/site-library --timings pcaExplorer_3.4.0.tar.gz
###
##############################################################################
##############################################################################
* using log directory ‘/home/biocbuild/bbs-3.22-bioc/meat/pcaExplorer.Rcheck’
* using R version 4.5.1 Patched (2025-08-23 r88802)
* using platform: x86_64-pc-linux-gnu
* R was compiled by
gcc (Ubuntu 13.3.0-6ubuntu2~24.04) 13.3.0
GNU Fortran (Ubuntu 13.3.0-6ubuntu2~24.04) 13.3.0
* running under: Ubuntu 24.04.3 LTS
* using session charset: UTF-8
* checking for file ‘pcaExplorer/DESCRIPTION’ ... OK
* checking extension type ... Package
* this is package ‘pcaExplorer’ version ‘3.4.0’
* package encoding: UTF-8
* checking package namespace information ... OK
* checking package dependencies ... INFO
Imports includes 31 non-default packages.
Importing from so many packages makes the package vulnerable to any of
them becoming unavailable. Move as many as possible to Suggests and
use conditionally.
* checking if this is a source package ... OK
* checking if there is a namespace ... OK
* checking for hidden files and directories ... OK
* checking for portable file names ... OK
* checking for sufficient/correct file permissions ... OK
* checking whether package ‘pcaExplorer’ can be installed ... OK
* checking installed package size ... OK
* checking package directory ... OK
* checking ‘build’ directory ... OK
* checking DESCRIPTION meta-information ... OK
* checking top-level files ... OK
* checking for left-over files ... OK
* checking index information ... OK
* checking package subdirectories ... OK
* checking code files for non-ASCII characters ... OK
* checking R files for syntax errors ... OK
* checking whether the package can be loaded ... OK
* checking whether the package can be loaded with stated dependencies ... OK
* checking whether the package can be unloaded cleanly ... OK
* checking whether the namespace can be loaded with stated dependencies ... OK
* checking whether the namespace can be unloaded cleanly ... OK
* checking loading without being on the library search path ... OK
* checking whether startup messages can be suppressed ... OK
* checking dependencies in R code ... OK
* checking S3 generic/method consistency ... OK
* checking replacement functions ... OK
* checking foreign function calls ... OK
* checking R code for possible problems ... NOTE
pcaExplorer: no visible binding for '<<-' assignment to
‘pcaexplorer_env’
pcaExplorer : <anonymous>: no visible binding for global variable
‘pcaexplorer_env’
Undefined global functions or variables:
pcaexplorer_env
* checking Rd files ... OK
* checking Rd metadata ... OK
* checking Rd cross-references ... OK
* checking for missing documentation entries ... OK
* checking for code/documentation mismatches ... OK
* checking Rd \usage sections ... OK
* checking Rd contents ... OK
* checking for unstated dependencies in examples ... OK
* checking files in ‘vignettes’ ... OK
* checking examples ... OK
* checking for unstated dependencies in ‘tests’ ... OK
* checking tests ...
Running ‘testthat.R’
OK
* checking for unstated dependencies in vignettes ... OK
* checking package vignettes ... OK
* checking re-building of vignette outputs ... OK
* checking PDF version of manual ... OK
* DONE
Status: 1 NOTE
See
‘/home/biocbuild/bbs-3.22-bioc/meat/pcaExplorer.Rcheck/00check.log’
for details.
pcaExplorer.Rcheck/00install.out
############################################################################## ############################################################################## ### ### Running command: ### ### /home/biocbuild/bbs-3.22-bioc/R/bin/R CMD INSTALL pcaExplorer ### ############################################################################## ############################################################################## * installing to library ‘/home/biocbuild/bbs-3.22-bioc/R/site-library’ * installing *source* package ‘pcaExplorer’ ... ** this is package ‘pcaExplorer’ version ‘3.4.0’ ** using staged installation ** R ** inst ** byte-compile and prepare package for lazy loading ** help *** installing help indices *** copying figures ** building package indices ** installing vignettes ** testing if installed package can be loaded from temporary location ** testing if installed package can be loaded from final location ** testing if installed package keeps a record of temporary installation path * DONE (pcaExplorer)
pcaExplorer.Rcheck/tests/testthat.Rout
R version 4.5.1 Patched (2025-08-23 r88802) -- "Great Square Root"
Copyright (C) 2025 The R Foundation for Statistical Computing
Platform: x86_64-pc-linux-gnu
R is free software and comes with ABSOLUTELY NO WARRANTY.
You are welcome to redistribute it under certain conditions.
Type 'license()' or 'licence()' for distribution details.
R is a collaborative project with many contributors.
Type 'contributors()' for more information and
'citation()' on how to cite R or R packages in publications.
Type 'demo()' for some demos, 'help()' for on-line help, or
'help.start()' for an HTML browser interface to help.
Type 'q()' to quit R.
> library(testthat)
> library(pcaExplorer)
Welcome to pcaExplorer v3.4.0
If you use pcaExplorer in your work, please cite:
pcaExplorer: an R/Bioconductor package for interacting with RNA-seq principal components
Federico Marini, Harald Binder
BMC Bioinformatics, 2019 - https://doi.org/10.1186/s12859-019-2879-1
>
> test_check("pcaExplorer")
estimating size factors
estimating dispersions
gene-wise dispersion estimates
mean-dispersion relationship
final dispersion estimates
fitting model and testing
'select()' returned 1:many mapping between keys and columns
'select()' returned 1:many mapping between keys and columns
[ FAIL 0 | WARN 1 | SKIP 0 | PASS 32 ]
[ FAIL 0 | WARN 1 | SKIP 0 | PASS 32 ]
>
> proc.time()
user system elapsed
156.444 3.810 160.338
pcaExplorer.Rcheck/pcaExplorer-Ex.timings
| name | user | system | elapsed | |
| correlatePCs | 1.722 | 0.037 | 1.758 | |
| deprecated | 0 | 0 | 0 | |
| distro_expr | 3.123 | 0.143 | 3.266 | |
| geneprofiler | 1.277 | 0.083 | 1.360 | |
| genespca | 2.207 | 0.064 | 2.270 | |
| get_annotation | 2.256 | 0.059 | 2.315 | |
| get_annotation_orgdb | 4.182 | 0.062 | 4.245 | |
| hi_loadings | 2.437 | 0.002 | 2.438 | |
| limmaquickpca2go | 2.023 | 0.036 | 2.058 | |
| makeExampleDESeqDataSet_multifac | 0.297 | 0.001 | 0.298 | |
| pair_corr | 2.185 | 0.057 | 2.242 | |
| pca2go | 1.843 | 0.031 | 1.874 | |
| pcaExplorer | 1.941 | 0.036 | 1.978 | |
| pcaplot | 1.931 | 0.029 | 1.962 | |
| pcaplot3d | 1.494 | 0.012 | 1.509 | |
| pcascree | 1.678 | 0.001 | 1.679 | |
| plotPCcorrs | 1.479 | 0.002 | 1.481 | |
| topGOtable | 2.112 | 0.048 | 2.160 | |