Back to Multiple platform build/check report for BioC 3.22:   simplified   long
ABCDEFGHIJKLMNOPQR[S]TUVWXYZ

This page was generated on 2025-11-24 12:04 -0500 (Mon, 24 Nov 2025).

HostnameOSArch (*)R versionInstalled pkgs
nebbiolo2Linux (Ubuntu 24.04.3 LTS)x86_644.5.2 (2025-10-31) -- "[Not] Part in a Rumble" 4873
merida1macOS 12.7.6 Montereyx86_644.5.2 Patched (2025-11-05 r88990) -- "[Not] Part in a Rumble" 4654
kjohnson1macOS 13.7.5 Venturaarm644.5.2 Patched (2025-11-04 r88984) -- "[Not] Part in a Rumble" 4600
taishanLinux (openEuler 24.03 LTS)aarch644.5.0 (2025-04-11) -- "How About a Twenty-Six" 4668
Click on any hostname to see more info about the system (e.g. compilers)      (*) as reported by 'uname -p', except on Windows and Mac OS X

Package 1919/2361HostnameOS / ArchINSTALLBUILDCHECKBUILD BIN
scDiagnostics 1.4.0  (landing page)
Anthony Christidis
Snapshot Date: 2025-11-20 15:01 -0500 (Thu, 20 Nov 2025)
git_url: https://git.bioconductor.org/packages/scDiagnostics
git_branch: RELEASE_3_22
git_last_commit: 7dca061
git_last_commit_date: 2025-10-29 11:31:45 -0500 (Wed, 29 Oct 2025)
nebbiolo2Linux (Ubuntu 24.04.3 LTS) / x86_64  OK    OK    OK  UNNEEDED, same version is already published
merida1macOS 12.7.6 Monterey / x86_64  OK    OK    OK    OK  UNNEEDED, same version is already published
kjohnson1macOS 13.7.5 Ventura / arm64  OK    OK    OK    OK  UNNEEDED, same version is already published
taishanLinux (openEuler 24.03 LTS) / aarch64  OK    OK    OK  


CHECK results for scDiagnostics on nebbiolo2

To the developers/maintainers of the scDiagnostics package:
- Allow up to 24 hours (and sometimes 48 hours) for your latest push to git@git.bioconductor.org:packages/scDiagnostics.git to reflect on this report. See Troubleshooting Build Report for more information.
- Use the following Renviron settings to reproduce errors and warnings.
- If 'R CMD check' started to fail recently on the Linux builder(s) over a missing dependency, add the missing dependency to 'Suggests:' in your DESCRIPTION file. See Renviron.bioc for more information.

raw results


Summary

Package: scDiagnostics
Version: 1.4.0
Command: /home/biocbuild/bbs-3.22-bioc/R/bin/R CMD check --install=check:scDiagnostics.install-out.txt --library=/home/biocbuild/bbs-3.22-bioc/R/site-library --timings scDiagnostics_1.4.0.tar.gz
StartedAt: 2025-11-21 04:17:47 -0500 (Fri, 21 Nov 2025)
EndedAt: 2025-11-21 04:35:03 -0500 (Fri, 21 Nov 2025)
EllapsedTime: 1035.8 seconds
RetCode: 0
Status:   OK  
CheckDir: scDiagnostics.Rcheck
Warnings: 0

Command output

##############################################################################
##############################################################################
###
### Running command:
###
###   /home/biocbuild/bbs-3.22-bioc/R/bin/R CMD check --install=check:scDiagnostics.install-out.txt --library=/home/biocbuild/bbs-3.22-bioc/R/site-library --timings scDiagnostics_1.4.0.tar.gz
###
##############################################################################
##############################################################################


* using log directory ‘/home/biocbuild/bbs-3.22-bioc/meat/scDiagnostics.Rcheck’
* using R version 4.5.2 (2025-10-31)
* using platform: x86_64-pc-linux-gnu
* R was compiled by
    gcc (Ubuntu 13.3.0-6ubuntu2~24.04) 13.3.0
    GNU Fortran (Ubuntu 13.3.0-6ubuntu2~24.04) 13.3.0
* running under: Ubuntu 24.04.3 LTS
* using session charset: UTF-8
* checking for file ‘scDiagnostics/DESCRIPTION’ ... OK
* checking extension type ... Package
* this is package ‘scDiagnostics’ version ‘1.4.0’
* package encoding: UTF-8
* checking package namespace information ... OK
* checking package dependencies ... OK
* checking if this is a source package ... OK
* checking if there is a namespace ... OK
* checking for hidden files and directories ... OK
* checking for portable file names ... OK
* checking for sufficient/correct file permissions ... OK
* checking whether package ‘scDiagnostics’ can be installed ... OK
* checking installed package size ... OK
* checking package directory ... OK
* checking ‘build’ directory ... OK
* checking DESCRIPTION meta-information ... OK
* checking top-level files ... OK
* checking for left-over files ... OK
* checking index information ... OK
* checking package subdirectories ... OK
* checking code files for non-ASCII characters ... OK
* checking R files for syntax errors ... OK
* checking whether the package can be loaded ... OK
* checking whether the package can be loaded with stated dependencies ... OK
* checking whether the package can be unloaded cleanly ... OK
* checking whether the namespace can be loaded with stated dependencies ... OK
* checking whether the namespace can be unloaded cleanly ... OK
* checking loading without being on the library search path ... OK
* checking dependencies in R code ... OK
* checking S3 generic/method consistency ... OK
* checking replacement functions ... OK
* checking foreign function calls ... OK
* checking R code for possible problems ... OK
* checking Rd files ... OK
* checking Rd metadata ... OK
* checking Rd cross-references ... NOTE
Found the following Rd file(s) with Rd \link{} targets missing package
anchors:
  argumentCheck.Rd: SingleCellExperiment-class
  boxplotPCA.Rd: SingleCellExperiment-class
  calculateAveragePairwiseCorrelation.Rd: SingleCellExperiment-class
  calculateCellDistances.Rd: SingleCellExperiment-class
  calculateCellDistancesSimilarity.Rd: SingleCellExperiment-class
  calculateCellSimilarityPCA.Rd: SingleCellExperiment-class
  calculateCramerPValue.Rd: SingleCellExperiment-class
  calculateDiscriminantSpace.Rd: SingleCellExperiment-class
  calculateGraphIntegration.Rd: SingleCellExperiment-class
  calculateHotellingPValue.Rd: SingleCellExperiment-class
  calculateMMDPValue.Rd: SingleCellExperiment-class
  calculateSIRSpace.Rd: SingleCellExperiment-class
  calculateTopLoadingGeneShifts.Rd: SingleCellExperiment-class
  calculateVarImpOverlap.Rd: SingleCellExperiment-class
  calculateWassersteinDistance.Rd: SingleCellExperiment-class
  compareMarkers.Rd: SingleCellExperiment-class
  comparePCA.Rd: SingleCellExperiment-class
  comparePCASubspace.Rd: SingleCellExperiment-class
  convertColumnsToCharacter.Rd: SingleCellExperiment-class
  detectAnomaly.Rd: SingleCellExperiment-class
  downsampleSCE.Rd: SingleCellExperiment-class
  histQCvsAnnotation.Rd: SingleCellExperiment-class
  plotCellTypeMDS.Rd: SingleCellExperiment-class
  plotCellTypePCA.Rd: SingleCellExperiment-class
  plotGeneExpressionDimred.Rd: SingleCellExperiment-class
  plotGeneSetScores.Rd: SingleCellExperiment-class
  plotMarkerExpression.Rd: SingleCellExperiment-class
  plotPairwiseDistancesDensity.Rd: SingleCellExperiment-class
  plotQCvsAnnotation.Rd: SingleCellExperiment-class
  processPCA.Rd: SingleCellExperiment-class
  projectPCA.Rd: SingleCellExperiment-class
  projectSIR.Rd: SingleCellExperiment-class
  regressPC.Rd: SingleCellExperiment-class
  scDiagnostics-package.Rd: SingleCellExperiment-class
  selectCellTypes.Rd: SingleCellExperiment-class
Please provide package anchors for all Rd \link{} targets not in the
package itself and the base packages.
* checking for missing documentation entries ... OK
* checking for code/documentation mismatches ... OK
* checking Rd \usage sections ... OK
* checking Rd contents ... OK
* checking for unstated dependencies in examples ... OK
* checking contents of ‘data’ directory ... OK
* checking data for non-ASCII characters ... OK
* checking LazyData ... OK
* checking data for ASCII and uncompressed saves ... OK
* checking files in ‘vignettes’ ... OK
* checking examples ... OK
Examples with CPU (user + system) or elapsed time > 5s
                                   user system elapsed
calculateMMDPValue               47.196  0.324  47.523
calculateCellDistances           17.666  0.586  17.600
plotCellTypeMDS                  17.495  0.510  18.005
compareMarkers                   14.417  0.115  13.997
calculateSIRSpace                 9.820  0.060   9.881
detectAnomaly                     9.724  0.107   6.970
calculateCramerPValue             8.560  0.470   9.031
calculateDiscriminantSpace        8.718  0.071   7.579
calculateGraphIntegration         8.472  0.111   8.587
calculateWassersteinDistance      6.869  0.513   7.383
plotGeneExpressionDimred          6.321  0.273   6.594
boxplotPCA                        6.039  0.282   6.321
calculateCellDistancesSimilarity  5.983  0.131   5.527
plotGeneSetScores                 5.383  0.086   5.470
* checking for unstated dependencies in ‘tests’ ... OK
* checking tests ...
  Running ‘testthat.R’
 OK
* checking for unstated dependencies in vignettes ... OK
* checking package vignettes ... OK
* checking re-building of vignette outputs ... OK
* checking PDF version of manual ... OK
* DONE

Status: 1 NOTE
See
  ‘/home/biocbuild/bbs-3.22-bioc/meat/scDiagnostics.Rcheck/00check.log’
for details.


Installation output

scDiagnostics.Rcheck/00install.out

##############################################################################
##############################################################################
###
### Running command:
###
###   /home/biocbuild/bbs-3.22-bioc/R/bin/R CMD INSTALL scDiagnostics
###
##############################################################################
##############################################################################


* installing to library ‘/home/biocbuild/bbs-3.22-bioc/R/site-library’
* installing *source* package ‘scDiagnostics’ ...
** this is package ‘scDiagnostics’ version ‘1.4.0’
** using staged installation
** R
** data
*** moving datasets to lazyload DB
** inst
** byte-compile and prepare package for lazy loading
** help
*** installing help indices
** building package indices
** installing vignettes
** testing if installed package can be loaded from temporary location
** testing if installed package can be loaded from final location
** testing if installed package keeps a record of temporary installation path
* DONE (scDiagnostics)

Tests output

scDiagnostics.Rcheck/tests/testthat.Rout


R version 4.5.2 (2025-10-31) -- "[Not] Part in a Rumble"
Copyright (C) 2025 The R Foundation for Statistical Computing
Platform: x86_64-pc-linux-gnu

R is free software and comes with ABSOLUTELY NO WARRANTY.
You are welcome to redistribute it under certain conditions.
Type 'license()' or 'licence()' for distribution details.

R is a collaborative project with many contributors.
Type 'contributors()' for more information and
'citation()' on how to cite R or R packages in publications.

Type 'demo()' for some demos, 'help()' for on-line help, or
'help.start()' for an HTML browser interface to help.
Type 'q()' to quit R.

> # This file is part of the standard setup for testthat.
> # It is recommended that you do not modify it.
> #
> # Where should you do additional test configuration?
> # Learn more about the roles of various files in:
> # * https://r-pkgs.org/testing-design.html#sec-tests-files-overview
> # * https://testthat.r-lib.org/articles/special-files.html
> 
> library(testthat)
> library(scDiagnostics)
> 
> test_check("scDiagnostics")
Loading required package: SingleCellExperiment
Loading required package: SummarizedExperiment
Loading required package: MatrixGenerics
Loading required package: matrixStats

Attaching package: 'MatrixGenerics'

The following objects are masked from 'package:matrixStats':

    colAlls, colAnyNAs, colAnys, colAvgsPerRowSet, colCollapse,
    colCounts, colCummaxs, colCummins, colCumprods, colCumsums,
    colDiffs, colIQRDiffs, colIQRs, colLogSumExps, colMadDiffs,
    colMads, colMaxs, colMeans2, colMedians, colMins, colOrderStats,
    colProds, colQuantiles, colRanges, colRanks, colSdDiffs, colSds,
    colSums2, colTabulates, colVarDiffs, colVars, colWeightedMads,
    colWeightedMeans, colWeightedMedians, colWeightedSds,
    colWeightedVars, rowAlls, rowAnyNAs, rowAnys, rowAvgsPerColSet,
    rowCollapse, rowCounts, rowCummaxs, rowCummins, rowCumprods,
    rowCumsums, rowDiffs, rowIQRDiffs, rowIQRs, rowLogSumExps,
    rowMadDiffs, rowMads, rowMaxs, rowMeans2, rowMedians, rowMins,
    rowOrderStats, rowProds, rowQuantiles, rowRanges, rowRanks,
    rowSdDiffs, rowSds, rowSums2, rowTabulates, rowVarDiffs, rowVars,
    rowWeightedMads, rowWeightedMeans, rowWeightedMedians,
    rowWeightedSds, rowWeightedVars

Loading required package: GenomicRanges
Loading required package: stats4
Loading required package: BiocGenerics
Loading required package: generics

Attaching package: 'generics'

The following objects are masked from 'package:base':

    as.difftime, as.factor, as.ordered, intersect, is.element, setdiff,
    setequal, union


Attaching package: 'BiocGenerics'

The following objects are masked from 'package:stats':

    IQR, mad, sd, var, xtabs

The following objects are masked from 'package:base':

    Filter, Find, Map, Position, Reduce, anyDuplicated, aperm, append,
    as.data.frame, basename, cbind, colnames, dirname, do.call,
    duplicated, eval, evalq, get, grep, grepl, is.unsorted, lapply,
    mapply, match, mget, order, paste, pmax, pmax.int, pmin, pmin.int,
    rank, rbind, rownames, sapply, saveRDS, table, tapply, unique,
    unsplit, which.max, which.min

Loading required package: S4Vectors

Attaching package: 'S4Vectors'

The following object is masked from 'package:utils':

    findMatches

The following objects are masked from 'package:base':

    I, expand.grid, unname

Loading required package: IRanges
Loading required package: Seqinfo
Loading required package: Biobase
Welcome to Bioconductor

    Vignettes contain introductory material; view with
    'browseVignettes()'. To cite Bioconductor, see
    'citation("Biobase")', and for packages 'citation("pkgname")'.


Attaching package: 'Biobase'

The following object is masked from 'package:MatrixGenerics':

    rowMedians

The following objects are masked from 'package:matrixStats':

    anyMissing, rowMedians

Loading required package: scuttle
Loading required package: ggplot2
'magick' package is suggested to install to give better rasterization.

Set `ht_opt$message = FALSE` to turn off this message.
'magick' package is suggested to install to give better rasterization.

Set `ht_opt$message = FALSE` to turn off this message.
'magick' package is suggested to install to give better rasterization.

Set `ht_opt$message = FALSE` to turn off this message.
No data available to generate a heatmap for the specified parameters.
'magick' package is suggested to install to give better rasterization.

Set `ht_opt$message = FALSE` to turn off this message.
Computing MDS from expression data.
Data missing PCA - computing...
Computing PCA...
Using 231 highly variable genes for PCA computation
Data already has valid PCA - returning unchanged (503 cells)
Data missing PCA - computing...
Downsampling data from 1500 to 800 cells before PCA computation
Computing PCA...
Using 230 highly variable genes for PCA computation
Data already has valid PCA - returning unchanged (1500 cells)
[ FAIL 0 | WARN 0 | SKIP 0 | PASS 685 ]
> 
> proc.time()
   user  system elapsed 
334.270  11.615 338.138 

Example timings

scDiagnostics.Rcheck/scDiagnostics-Ex.timings

nameusersystemelapsed
boxplotPCA6.0390.2826.321
calculateAveragePairwiseCorrelation4.7370.1264.863
calculateCategorizationEntropy0.0490.0000.049
calculateCellDistances17.666 0.58617.600
calculateCellDistancesSimilarity5.9830.1315.527
calculateCellSimilarityPCA2.3080.0961.843
calculateCramerPValue8.5600.4709.031
calculateDiscriminantSpace8.7180.0717.579
calculateGraphIntegration8.4720.1118.587
calculateHVGOverlap0.8080.0040.812
calculateHotellingPValue1.5740.0081.583
calculateMMDPValue47.196 0.32447.523
calculateSIRSpace9.8200.0609.881
calculateVarImpOverlap3.4880.0342.066
calculateWassersteinDistance6.8690.5137.383
compareMarkers14.417 0.11513.997
comparePCA2.8280.0222.851
comparePCASubspace2.8320.0142.845
detectAnomaly9.7240.1076.970
histQCvsAnnotation1.0870.0261.112
plotCellTypeMDS17.495 0.51018.005
plotGeneExpressionDimred6.3210.2736.594
plotGeneSetScores5.3830.0865.470
plotMarkerExpression0.7420.0550.797
plotPairwiseDistancesDensity1.5440.1051.650
plotQCvsAnnotation0.4260.0120.439
processPCA2.0060.0522.059
projectPCA0.7960.0240.820
projectSIR1.3890.0201.409
qc_data0.0010.0000.001
query_data0.0010.0000.001
reference_data0.0010.0000.000
regressPC3.3620.0423.405