Back to Multiple platform build/check report for BioC 3.22:   simplified   long
ABCDEFGHIJKLMNOPQR[S]TUVWXYZ

This page was generated on 2025-10-28 12:04 -0400 (Tue, 28 Oct 2025).

HostnameOSArch (*)R versionInstalled pkgs
nebbiolo2Linux (Ubuntu 24.04.3 LTS)x86_644.5.1 Patched (2025-08-23 r88802) -- "Great Square Root" 4901
lconwaymacOS 12.7.6 Montereyx86_644.5.1 Patched (2025-09-10 r88807) -- "Great Square Root" 4691
kjohnson3macOS 13.7.7 Venturaarm644.5.1 Patched (2025-09-10 r88807) -- "Great Square Root" 4637
Click on any hostname to see more info about the system (e.g. compilers)      (*) as reported by 'uname -p', except on Windows and Mac OS X

Package 2082/2361HostnameOS / ArchINSTALLBUILDCHECKBUILD BIN
spatialFDA 1.1.21  (landing page)
Martin Emons
Snapshot Date: 2025-10-27 13:45 -0400 (Mon, 27 Oct 2025)
git_url: https://git.bioconductor.org/packages/spatialFDA
git_branch: devel
git_last_commit: 93358c0
git_last_commit_date: 2025-10-10 07:08:16 -0400 (Fri, 10 Oct 2025)
nebbiolo2Linux (Ubuntu 24.04.3 LTS) / x86_64  OK    OK    OK  UNNEEDED, same version is already published
lconwaymacOS 12.7.6 Monterey / x86_64  OK    OK    OK    OK  UNNEEDED, same version is already published
kjohnson3macOS 13.7.7 Ventura / arm64  OK    OK    OK    OK  UNNEEDED, same version is already published


CHECK results for spatialFDA on lconway

To the developers/maintainers of the spatialFDA package:
- Allow up to 24 hours (and sometimes 48 hours) for your latest push to git@git.bioconductor.org:packages/spatialFDA.git to reflect on this report. See Troubleshooting Build Report for more information.
- Use the following Renviron settings to reproduce errors and warnings.
- If 'R CMD check' started to fail recently on the Linux builder(s) over a missing dependency, add the missing dependency to 'Suggests:' in your DESCRIPTION file. See Renviron.bioc for more information.

raw results


Summary

Package: spatialFDA
Version: 1.1.21
Command: /Library/Frameworks/R.framework/Resources/bin/R CMD check --install=check:spatialFDA.install-out.txt --library=/Library/Frameworks/R.framework/Resources/library --no-vignettes --timings spatialFDA_1.1.21.tar.gz
StartedAt: 2025-10-28 01:00:42 -0400 (Tue, 28 Oct 2025)
EndedAt: 2025-10-28 01:13:57 -0400 (Tue, 28 Oct 2025)
EllapsedTime: 795.1 seconds
RetCode: 0
Status:   OK  
CheckDir: spatialFDA.Rcheck
Warnings: 0

Command output

##############################################################################
##############################################################################
###
### Running command:
###
###   /Library/Frameworks/R.framework/Resources/bin/R CMD check --install=check:spatialFDA.install-out.txt --library=/Library/Frameworks/R.framework/Resources/library --no-vignettes --timings spatialFDA_1.1.21.tar.gz
###
##############################################################################
##############################################################################


* using log directory ‘/Users/biocbuild/bbs-3.22-bioc/meat/spatialFDA.Rcheck’
* using R version 4.5.1 Patched (2025-09-10 r88807)
* using platform: x86_64-apple-darwin20
* R was compiled by
    Apple clang version 14.0.0 (clang-1400.0.29.202)
    GNU Fortran (GCC) 14.2.0
* running under: macOS Monterey 12.7.6
* using session charset: UTF-8
* using option ‘--no-vignettes’
* checking for file ‘spatialFDA/DESCRIPTION’ ... OK
* this is package ‘spatialFDA’ version ‘1.1.21’
* package encoding: UTF-8
* checking package namespace information ... OK
* checking package dependencies ... OK
* checking if this is a source package ... OK
* checking if there is a namespace ... OK
* checking for hidden files and directories ... OK
* checking for portable file names ... OK
* checking for sufficient/correct file permissions ... OK
* checking whether package ‘spatialFDA’ can be installed ... OK
* checking installed package size ... OK
* checking package directory ... OK
* checking ‘build’ directory ... OK
* checking DESCRIPTION meta-information ... OK
* checking top-level files ... OK
* checking for left-over files ... OK
* checking index information ... OK
* checking package subdirectories ... OK
* checking code files for non-ASCII characters ... OK
* checking R files for syntax errors ... OK
* checking whether the package can be loaded ... OK
* checking whether the package can be loaded with stated dependencies ... OK
* checking whether the package can be unloaded cleanly ... OK
* checking whether the namespace can be loaded with stated dependencies ... OK
* checking whether the namespace can be unloaded cleanly ... OK
* checking dependencies in R code ... OK
* checking S3 generic/method consistency ... OK
* checking replacement functions ... OK
* checking foreign function calls ... OK
* checking R code for possible problems ... OK
* checking Rd files ... OK
* checking Rd metadata ... OK
* checking Rd cross-references ... OK
* checking for missing documentation entries ... OK
* checking for code/documentation mismatches ... OK
* checking Rd \usage sections ... OK
* checking Rd contents ... OK
* checking for unstated dependencies in examples ... OK
* checking files in ‘vignettes’ ... OK
* checking examples ... OK
Examples with CPU (user + system) or elapsed time > 5s
                            user system elapsed
calcCrossMetricPerFov     33.407  1.759  35.636
crossSpatialInference     25.727  1.327  27.362
plotCrossHeatmap          25.595  1.394  27.311
plotCrossMetricPerFov     25.188  0.943  26.432
extractCrossInferenceData 24.467  1.263  26.037
plotMdl                   12.089  0.746  13.130
functionalGam             11.928  0.790  13.003
spatialInference          11.432  0.750  12.430
plotFpca                  10.084  0.647  10.965
plotMetricPerFov          10.050  0.622  11.018
functionalPCA              9.966  0.571  10.815
plotFbPlot                 9.868  0.624  10.801
print.fpca                 9.413  0.617  10.256
prepData                   9.456  0.573  10.248
calcMetricPerFov           9.318  0.618  10.162
rMaxHeuristic              7.672  0.440   8.364
dot-dfToppp                7.589  0.419   8.227
dot-extractMetric          7.470  0.381   8.074
dot-speToDf                7.182  0.357   7.801
dot-loadExample            6.450  0.361   7.030
* checking for unstated dependencies in ‘tests’ ... OK
* checking tests ...
  Running ‘testthat.R’
 OK
* checking for unstated dependencies in vignettes ... OK
* checking package vignettes ... OK
* checking running R code from vignettes ... SKIPPED
* checking re-building of vignette outputs ... SKIPPED
* checking PDF version of manual ... OK
* DONE

Status: OK


Installation output

spatialFDA.Rcheck/00install.out

##############################################################################
##############################################################################
###
### Running command:
###
###   /Library/Frameworks/R.framework/Resources/bin/R CMD INSTALL spatialFDA
###
##############################################################################
##############################################################################


* installing to library ‘/Library/Frameworks/R.framework/Versions/4.5-x86_64/Resources/library’
* installing *source* package ‘spatialFDA’ ...
** this is package ‘spatialFDA’ version ‘1.1.21’
** using staged installation
** R
** inst
** byte-compile and prepare package for lazy loading
** help
*** installing help indices
** building package indices
** installing vignettes
** testing if installed package can be loaded from temporary location
** testing if installed package can be loaded from final location
** testing if installed package keeps a record of temporary installation path
* DONE (spatialFDA)

Tests output

spatialFDA.Rcheck/tests/testthat.Rout


R version 4.5.1 Patched (2025-09-10 r88807) -- "Great Square Root"
Copyright (C) 2025 The R Foundation for Statistical Computing
Platform: x86_64-apple-darwin20

R is free software and comes with ABSOLUTELY NO WARRANTY.
You are welcome to redistribute it under certain conditions.
Type 'license()' or 'licence()' for distribution details.

R is a collaborative project with many contributors.
Type 'contributors()' for more information and
'citation()' on how to cite R or R packages in publications.

Type 'demo()' for some demos, 'help()' for on-line help, or
'help.start()' for an HTML browser interface to help.
Type 'q()' to quit R.

> # This file is part of the standard setup for testthat.
> # It is recommended that you do not modify it.
> #
> # Where should you do additional test configuration?
> # Learn more about the roles of various files in:
> # * https://r-pkgs.org/testing-design.html#sec-tests-files-overview
> # * https://testthat.r-lib.org/articles/special-files.html
> 
> library(testthat)
> library(spatialFDA)
> 
> test_check("spatialFDA")
see ?imcdatasets and browseVignettes('imcdatasets') for documentation
loading from cache
Calculating Gest of alpha
Calculating markcorr of alpha
Calculating Gcross from alpha to Tc
Calculating Gest of alpha
Calculating Gcross from alpha to beta
Calculating Gcross from alpha to alpha
Calculating Gcross from beta to alpha
Calculating Gcross from delta to alpha
Calculating Gcross from alpha to beta
Calculating Gcross from beta to beta
Calculating Gcross from delta to beta
Calculating Gcross from alpha to delta
Calculating Gcross from beta to delta
Calculating Gcross from delta to delta
alpha
Calculating Kdot of alpha
beta
Calculating Kdot of beta
delta
Calculating Kdot of delta
Calculating Lcross from alpha to Tc
Calculating Gcross from alpha to Tc
Calculating Gcross from alpha to Tc
Calculating Gest of beta

Attaching package: 'tidyr'

The following object is masked from 'package:S4Vectors':

    expand

The following object is masked from 'package:testthat':

    matches


Attaching package: 'dplyr'

The following object is masked from 'package:EBImage':

    combine

The following object is masked from 'package:Biobase':

    combine

The following objects are masked from 'package:GenomicRanges':

    intersect, setdiff, union

The following object is masked from 'package:Seqinfo':

    intersect

The following objects are masked from 'package:IRanges':

    collapse, desc, intersect, setdiff, slice, union

The following objects are masked from 'package:S4Vectors':

    first, intersect, rename, setdiff, setequal, union

The following objects are masked from 'package:BiocGenerics':

    combine, intersect, setdiff, setequal, union

The following object is masked from 'package:generics':

    explain

The following object is masked from 'package:matrixStats':

    count

The following object is masked from 'package:testthat':

    matches

The following objects are masked from 'package:stats':

    filter, lag

The following objects are masked from 'package:base':

    intersect, setdiff, setequal, union

see ?imcdatasets and browseVignettes('imcdatasets') for documentation
loading from cache
Calculating Gest of alpha
Creating design matrix with Non-diabetic as reference
The adjusted R-squared of the model is 0.989755562666547
Calculating Gcross from alpha to alpha
Creating design matrix with Non-diabetic as reference
The adjusted R-squared of the model is 0.989755562666547
Calculating Gcross from Tc to alpha
Creating design matrix with Non-diabetic as reference
The adjusted R-squared of the model is 0.69787746113006
Calculating Gcross from alpha to Tc
Creating design matrix with Non-diabetic as reference
The adjusted R-squared of the model is 0.82317681350734
Calculating Gcross from Tc to Tc
Creating design matrix with Non-diabetic as reference
The adjusted R-squared of the model is 0.828441693125798
Calculating Gcross from alpha to Tc
Creating design matrix with Non-diabetic as reference
The adjusted R-squared of the model is 0.82317681350734
see ?imcdatasets and browseVignettes('imcdatasets') for documentation
loading from cache
Calculating Gcross from alpha to Tc
see ?imcdatasets and browseVignettes('imcdatasets') for documentation
loading from cache
Calculating Gcross from alpha to Tc
see ?imcdatasets and browseVignettes('imcdatasets') for documentation
loading from cache
Calculating Gcross from alpha to Tc
Calculating Gcross from alpha to Tc
Creating design matrix with Non-diabetic as reference
The adjusted R-squared of the model is 0.82317681350734
Calculating Gest of beta
Can not fit a model if one condition has no images with curves
Calculating Gcross from alpha to Tc
Creating design matrix with Non-diabetic as reference
The adjusted R-squared of the model is 0.836697817694751
Calculating Gcross from alpha to Tc
Creating design matrix with Non-diabetic as reference
The adjusted R-squared of the model is 0.817679285661609
Calculating Gcross from alpha to Tc
Creating design matrix with Non-diabetic as reference
The adjusted R-squared of the model is 0.778212685014439
Calculating Gcross from alpha to Tc
Creating design matrix with Onset as reference
The adjusted R-squared of the model is 0.778169684435465
[ FAIL 0 | WARN 6 | SKIP 0 | PASS 55 ]

[ FAIL 0 | WARN 6 | SKIP 0 | PASS 55 ]
> 
> proc.time()
   user  system elapsed 
231.075  16.331 250.818 

Example timings

spatialFDA.Rcheck/spatialFDA-Ex.timings

nameusersystemelapsed
calcCrossMetricPerFov33.407 1.75935.636
calcMetricPerFov 9.318 0.61810.162
crossSpatialInference25.727 1.32727.362
dot-dfToppp7.5890.4198.227
dot-extractMetric7.4700.3818.074
dot-loadExample6.4500.3617.030
dot-speToDf7.1820.3577.801
extractCrossInferenceData24.467 1.26326.037
functionalGam11.928 0.79013.003
functionalPCA 9.966 0.57110.815
plotCrossHeatmap25.595 1.39427.311
plotCrossMetricPerFov25.188 0.94326.432
plotFbPlot 9.868 0.62410.801
plotFpca10.084 0.64710.965
plotMdl12.089 0.74613.130
plotMetricPerFov10.050 0.62211.018
prepData 9.456 0.57310.248
print.fpca 9.413 0.61710.256
rMaxHeuristic7.6720.4408.364
spatialInference11.432 0.75012.430