Back to Multiple platform build/check report for BioC 3.22:   simplified   long
ABCDEFGHIJKLMNOPQR[S]TUVWXYZ

This page was generated on 2025-10-04 12:04 -0400 (Sat, 04 Oct 2025).

HostnameOSArch (*)R versionInstalled pkgs
nebbiolo2Linux (Ubuntu 24.04.3 LTS)x86_644.5.1 Patched (2025-08-23 r88802) -- "Great Square Root" 4853
lconwaymacOS 12.7.1 Montereyx86_644.5.1 Patched (2025-09-10 r88807) -- "Great Square Root" 4640
kjohnson3macOS 13.7.7 Venturaarm644.5.1 Patched (2025-09-10 r88807) -- "Great Square Root" 4585
taishanLinux (openEuler 24.03 LTS)aarch644.5.0 (2025-04-11) -- "How About a Twenty-Six" 4576
Click on any hostname to see more info about the system (e.g. compilers)      (*) as reported by 'uname -p', except on Windows and Mac OS X

Package 2126/2341HostnameOS / ArchINSTALLBUILDCHECKBUILD BIN
structToolbox 1.21.0  (landing page)
Gavin Rhys Lloyd
Snapshot Date: 2025-10-03 13:45 -0400 (Fri, 03 Oct 2025)
git_url: https://git.bioconductor.org/packages/structToolbox
git_branch: devel
git_last_commit: 36d5ff1
git_last_commit_date: 2025-04-15 11:54:06 -0400 (Tue, 15 Apr 2025)
nebbiolo2Linux (Ubuntu 24.04.3 LTS) / x86_64  OK    OK    OK  UNNEEDED, same version is already published
lconwaymacOS 12.7.1 Monterey / x86_64  OK    OK    OK    OK  UNNEEDED, same version is already published
kjohnson3macOS 13.7.7 Ventura / arm64  OK    OK    OK    OK  UNNEEDED, same version is already published
taishanLinux (openEuler 24.03 LTS) / aarch64  OK    OK    OK  


CHECK results for structToolbox on nebbiolo2

To the developers/maintainers of the structToolbox package:
- Allow up to 24 hours (and sometimes 48 hours) for your latest push to git@git.bioconductor.org:packages/structToolbox.git to reflect on this report. See Troubleshooting Build Report for more information.
- Use the following Renviron settings to reproduce errors and warnings.
- If 'R CMD check' started to fail recently on the Linux builder(s) over a missing dependency, add the missing dependency to 'Suggests:' in your DESCRIPTION file. See Renviron.bioc for more information.

raw results


Summary

Package: structToolbox
Version: 1.21.0
Command: /home/biocbuild/bbs-3.22-bioc/R/bin/R CMD check --install=check:structToolbox.install-out.txt --library=/home/biocbuild/bbs-3.22-bioc/R/site-library --timings structToolbox_1.21.0.tar.gz
StartedAt: 2025-10-04 04:50:41 -0400 (Sat, 04 Oct 2025)
EndedAt: 2025-10-04 05:10:57 -0400 (Sat, 04 Oct 2025)
EllapsedTime: 1216.3 seconds
RetCode: 0
Status:   OK  
CheckDir: structToolbox.Rcheck
Warnings: 0

Command output

##############################################################################
##############################################################################
###
### Running command:
###
###   /home/biocbuild/bbs-3.22-bioc/R/bin/R CMD check --install=check:structToolbox.install-out.txt --library=/home/biocbuild/bbs-3.22-bioc/R/site-library --timings structToolbox_1.21.0.tar.gz
###
##############################################################################
##############################################################################


* using log directory ‘/home/biocbuild/bbs-3.22-bioc/meat/structToolbox.Rcheck’
* using R version 4.5.1 Patched (2025-08-23 r88802)
* using platform: x86_64-pc-linux-gnu
* R was compiled by
    gcc (Ubuntu 13.3.0-6ubuntu2~24.04) 13.3.0
    GNU Fortran (Ubuntu 13.3.0-6ubuntu2~24.04) 13.3.0
* running under: Ubuntu 24.04.3 LTS
* using session charset: UTF-8
* checking for file ‘structToolbox/DESCRIPTION’ ... OK
* checking extension type ... Package
* this is package ‘structToolbox’ version ‘1.21.0’
* package encoding: UTF-8
* checking package namespace information ... OK
* checking package dependencies ... OK
* checking if this is a source package ... OK
* checking if there is a namespace ... OK
* checking for hidden files and directories ... OK
* checking for portable file names ... OK
* checking for sufficient/correct file permissions ... OK
* checking whether package ‘structToolbox’ can be installed ... OK
* checking installed package size ... OK
* checking package directory ... OK
* checking ‘build’ directory ... OK
* checking DESCRIPTION meta-information ... OK
* checking top-level files ... OK
* checking for left-over files ... OK
* checking index information ... OK
* checking package subdirectories ... OK
* checking code files for non-ASCII characters ... OK
* checking R files for syntax errors ... OK
* checking whether the package can be loaded ... OK
* checking whether the package can be loaded with stated dependencies ... OK
* checking whether the package can be unloaded cleanly ... OK
* checking whether the namespace can be loaded with stated dependencies ... OK
* checking whether the namespace can be unloaded cleanly ... OK
* checking loading without being on the library search path ... OK
* checking dependencies in R code ... OK
* checking S3 generic/method consistency ... OK
* checking replacement functions ... OK
* checking foreign function calls ... OK
* checking R code for possible problems ... OK
* checking Rd files ... OK
* checking Rd metadata ... OK
* checking Rd cross-references ... OK
* checking for missing documentation entries ... OK
* checking for code/documentation mismatches ... OK
* checking Rd \usage sections ... OK
* checking Rd contents ... OK
* checking for unstated dependencies in examples ... OK
* checking R/sysdata.rda ... OK
* checking files in ‘vignettes’ ... OK
* checking examples ... OK
Examples with CPU (user + system) or elapsed time > 5s
                            user system elapsed
fold_change_int           15.331  0.144  15.478
fold_change               10.444  0.293  10.738
fisher_exact               9.329  0.055   9.396
forward_selection_by_rank  6.502  0.240   6.742
fs_line                    5.968  0.066   6.034
compare_dist               5.642  0.105   5.773
* checking for unstated dependencies in ‘tests’ ... OK
* checking tests ...
  Running ‘testthat.R’
 OK
* checking for unstated dependencies in vignettes ... OK
* checking package vignettes ... OK
* checking re-building of vignette outputs ... OK
* checking PDF version of manual ... OK
* DONE

Status: OK


Installation output

structToolbox.Rcheck/00install.out

##############################################################################
##############################################################################
###
### Running command:
###
###   /home/biocbuild/bbs-3.22-bioc/R/bin/R CMD INSTALL structToolbox
###
##############################################################################
##############################################################################


* installing to library ‘/home/biocbuild/bbs-3.22-bioc/R/site-library’
* installing *source* package ‘structToolbox’ ...
** this is package ‘structToolbox’ version ‘1.21.0’
** using staged installation
** R
** inst
** byte-compile and prepare package for lazy loading
** help
*** installing help indices
** building package indices
** installing vignettes
** testing if installed package can be loaded from temporary location
** testing if installed package can be loaded from final location
** testing if installed package keeps a record of temporary installation path
* DONE (structToolbox)

Tests output

structToolbox.Rcheck/tests/testthat.Rout


R version 4.5.1 Patched (2025-08-23 r88802) -- "Great Square Root"
Copyright (C) 2025 The R Foundation for Statistical Computing
Platform: x86_64-pc-linux-gnu

R is free software and comes with ABSOLUTELY NO WARRANTY.
You are welcome to redistribute it under certain conditions.
Type 'license()' or 'licence()' for distribution details.

R is a collaborative project with many contributors.
Type 'contributors()' for more information and
'citation()' on how to cite R or R packages in publications.

Type 'demo()' for some demos, 'help()' for on-line help, or
'help.start()' for an HTML browser interface to help.
Type 'q()' to quit R.

> library(testthat)
> library(ggplot2)
> library(structToolbox)
Loading required package: struct
> 
> test_check("structToolbox")
[ FAIL 0 | WARN 6 | SKIP 0 | PASS 166 ]

[ FAIL 0 | WARN 6 | SKIP 0 | PASS 166 ]
> 
> proc.time()
   user  system elapsed 
188.901   1.774 190.675 

Example timings

structToolbox.Rcheck/structToolbox-Ex.timings

nameusersystemelapsed
ANOVA0.2460.0030.250
AUC1.9920.1292.121
DFA0.1930.0010.194
DatasetExperiment_boxplot1.0640.0181.083
DatasetExperiment_dist1.8970.0321.929
DatasetExperiment_factor_boxplot0.320.000.32
DatasetExperiment_heatmap1.3580.0021.361
HCA0.0620.0000.062
HSD0.2800.0060.288
HSDEM0.2850.0010.287
MTBLS79_DatasetExperiment0.0010.0000.001
OPLSDA0.0120.0000.011
OPLSR0.0080.0000.008
PCA0.0040.0000.005
PLSDA0.0130.0000.013
PLSR0.010.000.01
SVM0.0220.0000.022
as_data_frame0.1450.0000.145
autoscale0.0680.0010.069
balanced_accuracy1.8280.0021.830
blank_filter0.3390.0050.344
blank_filter_hist0.0010.0000.000
bootstrap0.0100.0000.009
calculate0.0050.0000.005
chart_plot0.0270.0000.027
classical_lsq0.3150.0120.328
compare_dist5.6420.1055.773
confounders_clsq2.7620.0152.778
confounders_lsq_barchart3.0430.0273.071
confounders_lsq_boxplot2.8940.0042.900
constant_sum_norm0.0070.0000.007
corr_coef0.2470.0000.247
dfa_scores_plot0.9170.0030.921
dratio_filter0.2380.0000.238
equal_split0.1120.0010.113
feature_boxplot0.0250.0000.025
feature_profile0.4940.0320.526
feature_profile_array0.6540.0160.672
filter_by_name0.0490.0040.052
filter_na_count1.0420.0021.044
filter_smeta0.0530.0000.053
fisher_exact9.3290.0559.396
fold_change10.444 0.29310.738
fold_change_int15.331 0.14415.478
fold_change_plot0.0070.0000.007
forward_selection_by_rank6.5020.2406.742
fs_line5.9680.0666.034
glog_opt_plot0.5480.0040.551
glog_transform0.2700.0000.269
grid_search_1d3.3410.0123.353
gs_line0.0000.0000.001
hca_dendrogram0.0000.0000.001
kfold_xval3.1190.0283.148
kfoldxcv_grid3.6060.0103.616
kfoldxcv_metric0.0010.0000.000
knn_impute0.0120.0000.012
kw_p_hist0.0010.0000.001
kw_rank_sum0.080.000.08
linear_model0.0270.0000.027
log_transform0.0070.0000.006
mean_centre0.0030.0000.002
mean_of_medians0.1060.0000.105
mixed_effect0.1510.0000.152
model_apply0.0220.0000.022
model_predict0.0510.0000.051
model_reverse0.0240.0000.024
model_train0.0470.0000.047
mv_boxplot0.4160.0010.418
mv_feature_filter0.1000.0010.101
mv_feature_filter_hist000
mv_histogram0.3260.0000.326
mv_sample_filter0.0080.0000.009
mv_sample_filter_hist0.0000.0000.001
nroot_transform0.0060.0000.006
ontology_cache000
pairs_filter0.0090.0000.009
pareto_scale0.0540.0000.054
pca_biplot0.0140.0000.014
pca_correlation_plot0.0060.0000.006
pca_dstat_plot0.0080.0000.009
pca_loadings_plot0.0090.0000.009
pca_scores_plot1.3600.1041.465
pca_scree_plot0.0060.0000.006
permutation_test0.0090.0000.009
permutation_test_plot0.0030.0000.003
permute_sample_order0.0070.0000.007
pls_regcoeff_plot0.4580.0000.458
pls_scores_plot0.8920.0010.893
pls_vip_plot0.5250.0020.527
plsda_feature_importance_plot0.8350.0030.838
plsda_predicted_plot0.5660.0020.568
plsda_roc_plot1.1250.0001.124
plsr_cook_dist0.0060.0000.006
plsr_prediction_plot0.0060.0000.005
plsr_qq_plot0.0060.0000.006
plsr_residual_hist0.0060.0000.006
pqn_norm0.3210.0000.320
pqn_norm_hist0.0010.0000.000
prop_na0.0080.0000.009
r_squared0.0000.0000.001
resample0.0140.0000.014
resample_chart0.0030.0000.002
rsd_filter0.0120.0000.012
rsd_filter_hist0.0010.0000.001
run0.0280.0000.028
sb_corr0.0250.0000.024
scatter_chart0.5150.0010.516
split_data0.0060.0000.006
stratified_split0.1020.0000.101
svm_plot_2d0.7540.0020.756
tSNE0.0210.0000.022
tSNE_scatter0.0070.0000.007
tic_chart0.3180.0000.318
ttest0.0210.0000.021
vec_norm0.0010.0000.001
wilcox_p_hist0.0010.0000.001
wilcox_test0.0180.0000.018