Back to Multiple platform build/check report for BioC 3.22:   simplified   long
ABCDEFGHIJKLMNOPQRS[T]UVWXYZ

This page was generated on 2025-11-03 12:04 -0500 (Mon, 03 Nov 2025).

HostnameOSArch (*)R versionInstalled pkgs
nebbiolo2Linux (Ubuntu 24.04.3 LTS)x86_644.5.1 Patched (2025-08-23 r88802) -- "Great Square Root" 4902
lconwaymacOS 12.7.6 Montereyx86_644.5.1 Patched (2025-09-10 r88807) -- "Great Square Root" 4692
kjohnson3macOS 13.7.7 Venturaarm644.5.1 Patched (2025-09-10 r88807) -- "Great Square Root" 4638
Click on any hostname to see more info about the system (e.g. compilers)      (*) as reported by 'uname -p', except on Windows and Mac OS X

Package 2210/2361HostnameOS / ArchINSTALLBUILDCHECKBUILD BIN
tidyFlowCore 1.4.0  (landing page)
Timothy Keyes
Snapshot Date: 2025-11-02 13:45 -0500 (Sun, 02 Nov 2025)
git_url: https://git.bioconductor.org/packages/tidyFlowCore
git_branch: RELEASE_3_22
git_last_commit: 1366b28
git_last_commit_date: 2025-10-29 11:30:26 -0500 (Wed, 29 Oct 2025)
nebbiolo2Linux (Ubuntu 24.04.3 LTS) / x86_64  OK    OK    OK  UNNEEDED, same version is already published
lconwaymacOS 12.7.6 Monterey / x86_64  OK    OK    OK    OK  UNNEEDED, same version is already published
kjohnson3macOS 13.7.7 Ventura / arm64  OK    OK    OK    OK  UNNEEDED, same version is already published


CHECK results for tidyFlowCore on lconway

To the developers/maintainers of the tidyFlowCore package:
- Allow up to 24 hours (and sometimes 48 hours) for your latest push to git@git.bioconductor.org:packages/tidyFlowCore.git to reflect on this report. See Troubleshooting Build Report for more information.
- Use the following Renviron settings to reproduce errors and warnings.
- If 'R CMD check' started to fail recently on the Linux builder(s) over a missing dependency, add the missing dependency to 'Suggests:' in your DESCRIPTION file. See Renviron.bioc for more information.

raw results


Summary

Package: tidyFlowCore
Version: 1.4.0
Command: /Library/Frameworks/R.framework/Resources/bin/R CMD check --install=check:tidyFlowCore.install-out.txt --library=/Library/Frameworks/R.framework/Resources/library --no-vignettes --timings tidyFlowCore_1.4.0.tar.gz
StartedAt: 2025-11-03 00:49:39 -0500 (Mon, 03 Nov 2025)
EndedAt: 2025-11-03 00:51:40 -0500 (Mon, 03 Nov 2025)
EllapsedTime: 121.3 seconds
RetCode: 0
Status:   OK  
CheckDir: tidyFlowCore.Rcheck
Warnings: 0

Command output

##############################################################################
##############################################################################
###
### Running command:
###
###   /Library/Frameworks/R.framework/Resources/bin/R CMD check --install=check:tidyFlowCore.install-out.txt --library=/Library/Frameworks/R.framework/Resources/library --no-vignettes --timings tidyFlowCore_1.4.0.tar.gz
###
##############################################################################
##############################################################################


* using log directory ‘/Users/biocbuild/bbs-3.22-bioc/meat/tidyFlowCore.Rcheck’
* using R version 4.5.1 Patched (2025-09-10 r88807)
* using platform: x86_64-apple-darwin20
* R was compiled by
    Apple clang version 14.0.0 (clang-1400.0.29.202)
    GNU Fortran (GCC) 14.2.0
* running under: macOS Monterey 12.7.6
* using session charset: UTF-8
* using option ‘--no-vignettes’
* checking for file ‘tidyFlowCore/DESCRIPTION’ ... OK
* checking extension type ... Package
* this is package ‘tidyFlowCore’ version ‘1.4.0’
* package encoding: UTF-8
* checking package namespace information ... OK
* checking package dependencies ... OK
* checking if this is a source package ... OK
* checking if there is a namespace ... OK
* checking for hidden files and directories ... OK
* checking for portable file names ... OK
* checking for sufficient/correct file permissions ... OK
* checking whether package ‘tidyFlowCore’ can be installed ... OK
* checking installed package size ... OK
* checking package directory ... OK
* checking ‘build’ directory ... OK
* checking DESCRIPTION meta-information ... OK
* checking top-level files ... OK
* checking for left-over files ... OK
* checking index information ... OK
* checking package subdirectories ... OK
* checking code files for non-ASCII characters ... OK
* checking R files for syntax errors ... OK
* checking whether the package can be loaded ... OK
* checking whether the package can be loaded with stated dependencies ... OK
* checking whether the package can be unloaded cleanly ... OK
* checking whether the namespace can be loaded with stated dependencies ... OK
* checking whether the namespace can be unloaded cleanly ... OK
* checking dependencies in R code ... OK
* checking S3 generic/method consistency ... OK
* checking replacement functions ... OK
* checking foreign function calls ... OK
* checking R code for possible problems ... OK
* checking Rd files ... OK
* checking Rd metadata ... OK
* checking Rd cross-references ... OK
* checking for missing documentation entries ... OK
* checking for code/documentation mismatches ... OK
* checking Rd \usage sections ... OK
* checking Rd contents ... OK
* checking for unstated dependencies in examples ... OK
* checking contents of ‘data’ directory ... OK
* checking data for non-ASCII characters ... OK
* checking data for ASCII and uncompressed saves ... OK
* checking files in ‘vignettes’ ... OK
* checking examples ... OK
* checking for unstated dependencies in ‘tests’ ... OK
* checking tests ...
  Running ‘testthat.R’
 OK
* checking for unstated dependencies in vignettes ... OK
* checking package vignettes ... OK
* checking running R code from vignettes ... SKIPPED
* checking re-building of vignette outputs ... SKIPPED
* checking PDF version of manual ... OK
* DONE

Status: OK


Installation output

tidyFlowCore.Rcheck/00install.out

##############################################################################
##############################################################################
###
### Running command:
###
###   /Library/Frameworks/R.framework/Resources/bin/R CMD INSTALL tidyFlowCore
###
##############################################################################
##############################################################################


* installing to library ‘/Library/Frameworks/R.framework/Versions/4.5-x86_64/Resources/library’
* installing *source* package ‘tidyFlowCore’ ...
** this is package ‘tidyFlowCore’ version ‘1.4.0’
** using staged installation
** R
** data
** inst
** byte-compile and prepare package for lazy loading
** help
*** installing help indices
*** copying figures
** building package indices
** installing vignettes
** testing if installed package can be loaded from temporary location
** testing if installed package can be loaded from final location
** testing if installed package keeps a record of temporary installation path
* DONE (tidyFlowCore)

Tests output

tidyFlowCore.Rcheck/tests/testthat.Rout


R version 4.5.1 Patched (2025-09-10 r88807) -- "Great Square Root"
Copyright (C) 2025 The R Foundation for Statistical Computing
Platform: x86_64-apple-darwin20

R is free software and comes with ABSOLUTELY NO WARRANTY.
You are welcome to redistribute it under certain conditions.
Type 'license()' or 'licence()' for distribution details.

R is a collaborative project with many contributors.
Type 'contributors()' for more information and
'citation()' on how to cite R or R packages in publications.

Type 'demo()' for some demos, 'help()' for on-line help, or
'help.start()' for an HTML browser interface to help.
Type 'q()' to quit R.

> # This file is part of the standard setup for testthat.
> # It is recommended that you do not modify it.
> #
> # Where should you do additional test configuration?
> # Learn more about the roles of various files in:
> # * https://r-pkgs.org/testing-design.html#sec-tests-files-overview
> # * https://testthat.r-lib.org/articles/special-files.html
> 
> library(testthat)
> library(tidyFlowCore)
> 
> test_check("tidyFlowCore")

Attaching package: 'dplyr'

The following object is masked from 'package:testthat':

    matches

The following objects are masked from 'package:stats':

    filter, lag

The following objects are masked from 'package:base':

    intersect, setdiff, setequal, union


Attaching package: 'tidyr'

The following object is masked from 'package:testthat':

    matches

[ FAIL 0 | WARN 0 | SKIP 0 | PASS 104 ]
> 
> proc.time()
   user  system elapsed 
 14.955   0.713  15.886 

Example timings

tidyFlowCore.Rcheck/tidyFlowCore-Ex.timings

nameusersystemelapsed
arrange.flowFrame0.2790.0120.293
arrange.flowSet0.6800.0240.708
as_flowFrame000
as_flowSet0.0000.0010.000
as_tof_tbl0.0290.0030.033
count.flowFrame0.3280.0310.365
count.flowSet0.1890.0080.198
filter.flowFrame0.1800.0080.191
filter.flowSet0.4270.0130.445
ggplot.flowFrame0.1430.0060.151
ggplot.flowSet0.1620.0060.170
group_by.flowFrame0.4410.0160.463
make_flowcore_annotated_data_frame000
mutate.flowFrame0.4120.0150.432
mutate.flowSet0.4890.0130.507
nest.flowFrame0.4290.0150.449
pull.flowFrame0.1190.0060.127
pull.flowSet0.1280.0090.138
reexports000
rename.flowFrame0.1750.0060.183
rename.flowSet0.4220.0120.442
rename_with.flowFrame0.1790.0070.188
rename_with.flowSet0.4320.0120.448
select.flowFrame0.1700.0060.178
select.flowSet0.4150.0110.434
simulate_cytometry_data0.1160.0070.126
slice.flowFrame0.1770.0070.186
slice.flowSet0.4680.0120.485
slice_head.flowFrame0.1860.0070.196
slice_head.flowSet0.4540.0120.469
slice_max.flowFrame0.1710.0070.179
slice_max.flowSet0.4850.0110.501
slice_min.flowFrame0.1990.0070.209
slice_min.flowSet0.4460.0110.462
slice_sample.flowFrame0.1950.0070.205
slice_sample.flowSet0.4520.0120.469
slice_tail.flowFrame0.1900.0070.199
slice_tail.flowSet0.4280.0110.442
summarise.flowFrame0.1280.0060.137
summarise.flowSet0.2050.0060.214
summarize.flowFrame0.1690.0090.180
summarize.flowSet0.1870.0080.197
tof_get_panel000
tof_set_panel000
transmute.flowFrame0.1710.0120.185
transmute.flowSet0.3850.0140.403
ungroup.flowSet0.1960.0080.206
unnest.flowSet0.3980.0120.416