| Back to Rapid builds (Linux only) of a subset of BioC 3.22 Report updated every 6 hours |
This page was generated on 2025-06-17 22:14 -0400 (Tue, 17 Jun 2025).
| Hostname | OS | Arch (*) | R version | Installed pkgs |
|---|---|---|---|---|
| teran2 | Linux (Ubuntu 24.04.1 LTS) | x86_64 | 4.5.0 (2025-04-11) -- "How About a Twenty-Six" | 886 |
| Click on any hostname to see more info about the system (e.g. compilers) (*) as reported by 'uname -p', except on Windows and Mac OS X | ||||
| Package 105/221 | Hostname | OS / Arch | INSTALL | BUILD | CHECK | |||||||
| glmGamPoi 1.21.0 (landing page) Constantin Ahlmann-Eltze
| teran2 | Linux (Ubuntu 24.04.1 LTS) / x86_64 | OK | OK | WARNINGS | |||||||
|
To the developers/maintainers of the glmGamPoi package: - Use the following Renviron settings to reproduce errors and warnings. - If 'R CMD check' started to fail recently on the Linux builder(s) over a missing dependency, add the missing dependency to 'Suggests:' in your DESCRIPTION file. See Renviron.bioc for more information. |
| Package: glmGamPoi |
| Version: 1.21.0 |
| Command: /home/rapidbuild/bbs-3.22-bioc-rapid/R/bin/R CMD build --keep-empty-dirs --no-resave-data glmGamPoi |
| StartedAt: 2025-06-17 19:01:38 -0400 (Tue, 17 Jun 2025) |
| EndedAt: 2025-06-17 19:07:31 -0400 (Tue, 17 Jun 2025) |
| EllapsedTime: 353.0 seconds |
| RetCode: 0 |
| Status: OK |
| PackageFile: glmGamPoi_1.21.0.tar.gz |
| PackageFileSize: 2.096 MiB |
##############################################################################
##############################################################################
###
### Running command:
###
### /home/rapidbuild/bbs-3.22-bioc-rapid/R/bin/R CMD build --keep-empty-dirs --no-resave-data glmGamPoi
###
##############################################################################
##############################################################################
* checking for file ‘glmGamPoi/DESCRIPTION’ ... OK
* preparing ‘glmGamPoi’:
* checking DESCRIPTION meta-information ... OK
* cleaning src
* installing the package to build vignettes
* creating vignettes ... OK
* cleaning src
* checking for LF line-endings in source and make files and shell scripts
* checking for empty or unneeded directories
NB: this package now depends on R (>= 4.1.0)
WARNING: Added dependency on R >= 4.1.0 because package code uses the
pipe |> or function shorthand \(...) syntax added in R 4.1.0.
File(s) using such syntax:
‘pseudobulk.R’
* building ‘glmGamPoi_1.21.0.tar.gz’